Index of /checkResults/3.14/data-experiment-LATEST/CellMapperData/raw-results/nebbiolo2

[ICO]NameLast modifiedSizeDescription

[DIR]Parent Directory  -  
[TXT]buildsrc-out.txt20-Jan-2022 04:50 834  
[   ]buildsrc-summary.dcf20-Jan-2022 04:50 438  
[TXT]checksrc-out.txt20-Jan-2022 04:50 2.6K 
[   ]checksrc-summary.dcf20-Jan-2022 04:50 451  
[TXT]install-out.txt20-Jan-2022 04:50 1.3K 
[   ]install-summary.dcf20-Jan-2022 04:50 272