Back to Build/check report for BioC 3.14 experimental data
AB[C]DEFGHIJKLMNOPQRSTUVWXYZ

This page was generated on 2021-10-23 15:51:46 -0400 (Sat, 23 Oct 2021).

BUILD results for CellMapperData on nebbiolo2

To the developers/maintainers of the CellMapperData package:
Make sure to use the following settings in order to reproduce any error or warning you see on this page.

raw results

Package 53/408HostnameOS / ArchINSTALLBUILDCHECK
CellMapperData 1.19.0  (landing page)
Brad Nelms
Snapshot Date: 2021-10-23 09:30:01 -0400 (Sat, 23 Oct 2021)
git_url: https://git.bioconductor.org/packages/CellMapperData
git_branch: master
git_last_commit: 900a63f
git_last_commit_date: 2021-05-19 11:59:41 -0400 (Wed, 19 May 2021)
nebbiolo2Linux (Ubuntu 20.04.2 LTS) / x86_64  OK    OK    OK  UNNEEDED, same version is already published

Summary

Package: CellMapperData
Version: 1.19.0
Command: /home/biocbuild/bbs-3.14-bioc/R/bin/R CMD build --keep-empty-dirs --no-resave-data CellMapperData
StartedAt: 2021-10-23 11:11:36 -0400 (Sat, 23 Oct 2021)
EndedAt: 2021-10-23 11:11:56 -0400 (Sat, 23 Oct 2021)
EllapsedTime: 20.0 seconds
RetCode: 0
Status:   OK  
PackageFile: CellMapperData_1.19.0.tar.gz
PackageFileSize: 140.6 KiB

Command output

##############################################################################
##############################################################################
###
### Running command:
###
###   /home/biocbuild/bbs-3.14-bioc/R/bin/R CMD build --keep-empty-dirs --no-resave-data CellMapperData
###
##############################################################################
##############################################################################


* checking for file ‘CellMapperData/DESCRIPTION’ ... OK
* preparing ‘CellMapperData’:
* checking DESCRIPTION meta-information ... OK
* installing the package to build vignettes
* creating vignettes ... OK
* checking for LF line-endings in source and make files and shell scripts
* checking for empty or unneeded directories
* building ‘CellMapperData_1.19.0.tar.gz’