Back to Build/check report for BioC 3.14 experimental data
AB[C]DEFGHIJKLMNOPQRSTUVWXYZ

This page was generated on 2021-10-16 15:51:46 -0400 (Sat, 16 Oct 2021).

BUILD results for CardinalWorkflows on nebbiolo2

To the developers/maintainers of the CardinalWorkflows package:
Make sure to use the following settings in order to reproduce any error or warning you see on this page.

raw results

Package 47/404HostnameOS / ArchINSTALLBUILDCHECK
CardinalWorkflows 1.25.1  (landing page)
Kylie A. Bemis
Snapshot Date: 2021-10-16 09:30:02 -0400 (Sat, 16 Oct 2021)
git_url: https://git.bioconductor.org/packages/CardinalWorkflows
git_branch: master
git_last_commit: 38ceb77
git_last_commit_date: 2021-07-10 18:31:07 -0400 (Sat, 10 Jul 2021)
nebbiolo2Linux (Ubuntu 20.04.2 LTS) / x86_64  OK    OK    OK  UNNEEDED, same version is already published

Summary

Package: CardinalWorkflows
Version: 1.25.1
Command: /home/biocbuild/bbs-3.14-bioc/R/bin/R CMD build --keep-empty-dirs --no-resave-data CardinalWorkflows
StartedAt: 2021-10-16 11:10:58 -0400 (Sat, 16 Oct 2021)
EndedAt: 2021-10-16 11:18:40 -0400 (Sat, 16 Oct 2021)
EllapsedTime: 462.7 seconds
RetCode: 0
Status:   OK  
PackageFile: CardinalWorkflows_1.25.1.tar.gz
PackageFileSize: 145 MiB

Command output

##############################################################################
##############################################################################
###
### Running command:
###
###   /home/biocbuild/bbs-3.14-bioc/R/bin/R CMD build --keep-empty-dirs --no-resave-data CardinalWorkflows
###
##############################################################################
##############################################################################


* checking for file ‘CardinalWorkflows/DESCRIPTION’ ... OK
* preparing ‘CardinalWorkflows’:
* checking DESCRIPTION meta-information ... OK
* installing the package to build vignettes
* creating vignettes ... OK
* checking for LF line-endings in source and make files and shell scripts
* checking for empty or unneeded directories
* looking to see if a ‘data/datalist’ file should be added
* building ‘CardinalWorkflows_1.25.1.tar.gz’