Back to Build/check report for BioC 3.14 experimental data
AB[C]DEFGHIJKLMNOPQRSTUVWXYZ

This page was generated on 2021-12-01 18:35:25 -0500 (Wed, 01 Dec 2021).

BUILD results for COSMIC.67 on nebbiolo2

To the developers/maintainers of the COSMIC.67 package:
Make sure to use the following settings in order to reproduce any error or warning you see on this page.

raw results

Package 75/408HostnameOS / ArchINSTALLBUILDCHECK
COSMIC.67 1.30.0  (landing page)
Julian Gehring
Snapshot Date: 2021-12-01 08:30:01 -0500 (Wed, 01 Dec 2021)
git_url: https://git.bioconductor.org/packages/COSMIC.67
git_branch: RELEASE_3_14
git_last_commit: 100d029
git_last_commit_date: 2021-10-26 12:06:38 -0500 (Tue, 26 Oct 2021)
nebbiolo2Linux (Ubuntu 20.04.3 LTS) / x86_64  OK    OK    OK  UNNEEDED, same version is already published

Summary

Package: COSMIC.67
Version: 1.30.0
Command: /home/biocbuild/bbs-3.14-bioc/R/bin/R CMD build --keep-empty-dirs --no-resave-data COSMIC.67
StartedAt: 2021-12-01 14:14:05 -0500 (Wed, 01 Dec 2021)
EndedAt: 2021-12-01 14:14:57 -0500 (Wed, 01 Dec 2021)
EllapsedTime: 51.8 seconds
RetCode: 0
Status:   OK  
PackageFile: COSMIC.67_1.30.0.tar.gz
PackageFileSize: 39.17 MiB

Command output

##############################################################################
##############################################################################
###
### Running command:
###
###   /home/biocbuild/bbs-3.14-bioc/R/bin/R CMD build --keep-empty-dirs --no-resave-data COSMIC.67
###
##############################################################################
##############################################################################


* checking for file ‘COSMIC.67/DESCRIPTION’ ... OK
* preparing ‘COSMIC.67’:
* checking DESCRIPTION meta-information ... OK
* installing the package to build vignettes
* creating vignettes ... OK
* checking for LF line-endings in source and make files and shell scripts
* checking for empty or unneeded directories
* looking to see if a ‘data/datalist’ file should be added
* building ‘COSMIC.67_1.30.0.tar.gz’