Back to Build/check report for BioC 3.14 experimental data
AB[C]DEFGHIJKLMNOPQRSTUVWXYZ

This page was generated on 2021-10-16 15:51:46 -0400 (Sat, 16 Oct 2021).

BUILD results for CONFESSdata on nebbiolo2

To the developers/maintainers of the CONFESSdata package:
Make sure to use the following settings in order to reproduce any error or warning you see on this page.

raw results

Package 70/404HostnameOS / ArchINSTALLBUILDCHECK
CONFESSdata 1.21.0  (landing page)
Diana LOW
Snapshot Date: 2021-10-16 09:30:02 -0400 (Sat, 16 Oct 2021)
git_url: https://git.bioconductor.org/packages/CONFESSdata
git_branch: master
git_last_commit: 123f563
git_last_commit_date: 2021-05-19 11:56:47 -0400 (Wed, 19 May 2021)
nebbiolo2Linux (Ubuntu 20.04.2 LTS) / x86_64  OK    OK    OK  UNNEEDED, same version is already published

Summary

Package: CONFESSdata
Version: 1.21.0
Command: /home/biocbuild/bbs-3.14-bioc/R/bin/R CMD build --keep-empty-dirs --no-resave-data CONFESSdata
StartedAt: 2021-10-16 11:12:42 -0400 (Sat, 16 Oct 2021)
EndedAt: 2021-10-16 11:13:09 -0400 (Sat, 16 Oct 2021)
EllapsedTime: 27.1 seconds
RetCode: 0
Status:   OK  
PackageFile: CONFESSdata_1.21.0.tar.gz
PackageFileSize: 9.832 MiB

Command output

##############################################################################
##############################################################################
###
### Running command:
###
###   /home/biocbuild/bbs-3.14-bioc/R/bin/R CMD build --keep-empty-dirs --no-resave-data CONFESSdata
###
##############################################################################
##############################################################################


* checking for file ‘CONFESSdata/DESCRIPTION’ ... OK
* preparing ‘CONFESSdata’:
* checking DESCRIPTION meta-information ... OK
* checking for LF line-endings in source and make files and shell scripts
* checking for empty or unneeded directories
* building ‘CONFESSdata_1.21.0.tar.gz’