Back to Build/check report for BioC 3.14 experimental data
AB[C]DEFGHIJKLMNOPQRSTUVWXYZ

This page was generated on 2021-10-21 15:52:03 -0400 (Thu, 21 Oct 2021).

BUILD results for CCl4 on nebbiolo2

To the developers/maintainers of the CCl4 package:
Make sure to use the following settings in order to reproduce any error or warning you see on this page.

raw results

Package 49/406HostnameOS / ArchINSTALLBUILDCHECK
CCl4 1.31.0  (landing page)
Audrey Kauffmann
Snapshot Date: 2021-10-21 09:30:01 -0400 (Thu, 21 Oct 2021)
git_url: https://git.bioconductor.org/packages/CCl4
git_branch: master
git_last_commit: 6f467a9
git_last_commit_date: 2021-05-19 11:26:26 -0400 (Wed, 19 May 2021)
nebbiolo2Linux (Ubuntu 20.04.2 LTS) / x86_64  OK    OK    WARNINGS  UNNEEDED, same version is already published

Summary

Package: CCl4
Version: 1.31.0
Command: /home/biocbuild/bbs-3.14-bioc/R/bin/R CMD build --keep-empty-dirs --no-resave-data CCl4
StartedAt: 2021-10-21 11:11:16 -0400 (Thu, 21 Oct 2021)
EndedAt: 2021-10-21 11:12:08 -0400 (Thu, 21 Oct 2021)
EllapsedTime: 52.0 seconds
RetCode: 0
Status:   OK  
PackageFile: CCl4_1.31.0.tar.gz
PackageFileSize: 110.4 MiB

Command output

##############################################################################
##############################################################################
###
### Running command:
###
###   /home/biocbuild/bbs-3.14-bioc/R/bin/R CMD build --keep-empty-dirs --no-resave-data CCl4
###
##############################################################################
##############################################################################


* checking for file ‘CCl4/DESCRIPTION’ ... OK
* preparing ‘CCl4’:
* checking DESCRIPTION meta-information ... OK
* installing the package to build vignettes
* creating vignettes ... OK
* checking for LF line-endings in source and make files and shell scripts
* checking for empty or unneeded directories
* looking to see if a ‘data/datalist’ file should be added
* building ‘CCl4_1.31.0.tar.gz’