Back to Build/check report for BioC 3.14 experimental data
AB[C]DEFGHIJKLMNOPQRSTUVWXYZ

This page was generated on 2021-10-19 15:52:17 -0400 (Tue, 19 Oct 2021).

All results for package CCl4

To the developers/maintainers of the CCl4 package:
Make sure to use the following settings in order to reproduce any error or warning you see on this page.

raw results

Package 49/404HostnameOS / ArchINSTALLBUILDCHECK
CCl4 1.31.0  (landing page)
Audrey Kauffmann
Snapshot Date: 2021-10-19 09:30:02 -0400 (Tue, 19 Oct 2021)
git_url: https://git.bioconductor.org/packages/CCl4
git_branch: master
git_last_commit: 6f467a9
git_last_commit_date: 2021-05-19 11:26:26 -0400 (Wed, 19 May 2021)
nebbiolo2Linux (Ubuntu 20.04.2 LTS) / x86_64  OK    OK    WARNINGS  UNNEEDED, same version is already published