Back to Build/check report for BioC 3.14 experimental data
A[B]CDEFGHIJKLMNOPQRSTUVWXYZ

This page was generated on 2021-10-16 15:51:45 -0400 (Sat, 16 Oct 2021).

BUILD results for BeadSorted.Saliva.EPIC on nebbiolo2

To the developers/maintainers of the BeadSorted.Saliva.EPIC package:
Make sure to use the following settings in order to reproduce any error or warning you see on this page.

raw results

Package 25/404HostnameOS / ArchINSTALLBUILDCHECK
BeadSorted.Saliva.EPIC 1.1.0  (landing page)
Jonah Fisher
Snapshot Date: 2021-10-16 09:30:02 -0400 (Sat, 16 Oct 2021)
git_url: https://git.bioconductor.org/packages/BeadSorted.Saliva.EPIC
git_branch: master
git_last_commit: f1026b9
git_last_commit_date: 2021-05-19 12:12:38 -0400 (Wed, 19 May 2021)
nebbiolo2Linux (Ubuntu 20.04.2 LTS) / x86_64  OK    OK    OK  UNNEEDED, same version is already published

Summary

Package: BeadSorted.Saliva.EPIC
Version: 1.1.0
Command: /home/biocbuild/bbs-3.14-bioc/R/bin/R CMD build --keep-empty-dirs --no-resave-data BeadSorted.Saliva.EPIC
StartedAt: 2021-10-16 11:10:15 -0400 (Sat, 16 Oct 2021)
EndedAt: 2021-10-16 11:10:48 -0400 (Sat, 16 Oct 2021)
EllapsedTime: 32.2 seconds
RetCode: 0
Status:   OK  
PackageFile: BeadSorted.Saliva.EPIC_1.1.0.tar.gz
PackageFileSize: 13.11 KiB

Command output

##############################################################################
##############################################################################
###
### Running command:
###
###   /home/biocbuild/bbs-3.14-bioc/R/bin/R CMD build --keep-empty-dirs --no-resave-data BeadSorted.Saliva.EPIC
###
##############################################################################
##############################################################################


* checking for file ‘BeadSorted.Saliva.EPIC/DESCRIPTION’ ... OK
* preparing ‘BeadSorted.Saliva.EPIC’:
* checking DESCRIPTION meta-information ... OK
* installing the package to build vignettes
* creating vignettes ... OK
* checking for LF line-endings in source and make files and shell scripts
* checking for empty or unneeded directories
* building ‘BeadSorted.Saliva.EPIC_1.1.0.tar.gz’