Back to Build/check report for BioC 3.14 experimental data
A[B]CDEFGHIJKLMNOPQRSTUVWXYZ

This page was generated on 2021-10-19 15:52:17 -0400 (Tue, 19 Oct 2021).

BUILD results for BeadArrayUseCases on nebbiolo2

To the developers/maintainers of the BeadArrayUseCases package:
Make sure to use the following settings in order to reproduce any error or warning you see on this page.

raw results

Package 24/404HostnameOS / ArchINSTALLBUILDCHECK
BeadArrayUseCases 1.31.1  (landing page)
Mike Smith
Snapshot Date: 2021-10-19 09:30:02 -0400 (Tue, 19 Oct 2021)
git_url: https://git.bioconductor.org/packages/BeadArrayUseCases
git_branch: master
git_last_commit: c441ec7
git_last_commit_date: 2021-07-26 11:31:56 -0400 (Mon, 26 Jul 2021)
nebbiolo2Linux (Ubuntu 20.04.2 LTS) / x86_64  OK    OK    OK  UNNEEDED, same version is already published

Summary

Package: BeadArrayUseCases
Version: 1.31.1
Command: /home/biocbuild/bbs-3.14-bioc/R/bin/R CMD build --keep-empty-dirs --no-resave-data BeadArrayUseCases
StartedAt: 2021-10-19 11:10:28 -0400 (Tue, 19 Oct 2021)
EndedAt: 2021-10-19 11:16:51 -0400 (Tue, 19 Oct 2021)
EllapsedTime: 382.5 seconds
RetCode: 0
Status:   OK  
PackageFile: BeadArrayUseCases_1.31.1.tar.gz
PackageFileSize: 197.6 MiB

Command output

##############################################################################
##############################################################################
###
### Running command:
###
###   /home/biocbuild/bbs-3.14-bioc/R/bin/R CMD build --keep-empty-dirs --no-resave-data BeadArrayUseCases
###
##############################################################################
##############################################################################


* checking for file ‘BeadArrayUseCases/DESCRIPTION’ ... OK
* preparing ‘BeadArrayUseCases’:
* checking DESCRIPTION meta-information ... OK
* installing the package to build vignettes
* creating vignettes ... OK
* checking for LF line-endings in source and make files and shell scripts
* checking for empty or unneeded directories
* building ‘BeadArrayUseCases_1.31.1.tar.gz’