Back to Build/check report for BioC 3.14 experimental data
[A]BCDEFGHIJKLMNOPQRSTUVWXYZ

This page was generated on 2021-11-24 18:35:26 -0500 (Wed, 24 Nov 2021).

All results for package AssessORFData

To the developers/maintainers of the AssessORFData package:
Make sure to use the following settings in order to reproduce any error or warning you see on this page.

raw results

Package 21/408HostnameOS / ArchINSTALLBUILDCHECK
AssessORFData 1.12.0  (landing page)
Deepank Korandla
Snapshot Date: 2021-11-24 08:30:01 -0500 (Wed, 24 Nov 2021)
git_url: https://git.bioconductor.org/packages/AssessORFData
git_branch: RELEASE_3_14
git_last_commit: a9b6203
git_last_commit_date: 2021-10-26 12:34:22 -0500 (Tue, 26 Oct 2021)
nebbiolo2Linux (Ubuntu 20.04.3 LTS) / x86_64  OK    OK    OK  UNNEEDED, same version is already published