Back to Build/check report for BioC 3.14 experimental data
[A]BCDEFGHIJKLMNOPQRSTUVWXYZ

This page was generated on 2021-10-26 15:52:18 -0400 (Tue, 26 Oct 2021).

BUILD results for AmpAffyExample on nebbiolo2

To the developers/maintainers of the AmpAffyExample package:
Make sure to use the following settings in order to reproduce any error or warning you see on this page.

raw results

Package 14/408HostnameOS / ArchINSTALLBUILDCHECK
AmpAffyExample 1.33.0  (landing page)
Rafael A. Irizarry
Snapshot Date: 2021-10-26 09:30:02 -0400 (Tue, 26 Oct 2021)
git_url: https://git.bioconductor.org/packages/AmpAffyExample
git_branch: master
git_last_commit: 4bcc87e
git_last_commit_date: 2021-05-19 11:23:16 -0400 (Wed, 19 May 2021)
nebbiolo2Linux (Ubuntu 20.04.2 LTS) / x86_64  OK    OK    WARNINGS  UNNEEDED, same version is already published

Summary

Package: AmpAffyExample
Version: 1.33.0
Command: /home/biocbuild/bbs-3.14-bioc/R/bin/R CMD build --keep-empty-dirs --no-resave-data AmpAffyExample
StartedAt: 2021-10-26 11:11:17 -0400 (Tue, 26 Oct 2021)
EndedAt: 2021-10-26 11:11:18 -0400 (Tue, 26 Oct 2021)
EllapsedTime: 1.4 seconds
RetCode: 0
Status:   OK  
PackageFile: AmpAffyExample_1.33.0.tar.gz
PackageFileSize: 6.464 MiB

Command output

##############################################################################
##############################################################################
###
### Running command:
###
###   /home/biocbuild/bbs-3.14-bioc/R/bin/R CMD build --keep-empty-dirs --no-resave-data AmpAffyExample
###
##############################################################################
##############################################################################


* checking for file ‘AmpAffyExample/DESCRIPTION’ ... OK
* preparing ‘AmpAffyExample’:
* checking DESCRIPTION meta-information ... OK
* checking for LF line-endings in source and make files and shell scripts
* checking for empty or unneeded directories
* looking to see if a ‘data/datalist’ file should be added
* building ‘AmpAffyExample_1.33.0.tar.gz’