Back to Build/check report for BioC 3.14 experimental data
[A]BCDEFGHIJKLMNOPQRSTUVWXYZ

This page was generated on 2021-10-26 15:52:18 -0400 (Tue, 26 Oct 2021).

CHECK results for Affymoe4302Expr on nebbiolo2

To the developers/maintainers of the Affymoe4302Expr package:
Make sure to use the following settings in order to reproduce any error or warning you see on this page.

raw results

Package 9/408HostnameOS / ArchINSTALLBUILDCHECK
Affymoe4302Expr 1.31.0  (landing page)
Zhicheng Ji
Snapshot Date: 2021-10-26 09:30:02 -0400 (Tue, 26 Oct 2021)
git_url: https://git.bioconductor.org/packages/Affymoe4302Expr
git_branch: master
git_last_commit: 8e8eec8
git_last_commit_date: 2021-05-19 11:46:05 -0400 (Wed, 19 May 2021)
nebbiolo2Linux (Ubuntu 20.04.2 LTS) / x86_64  OK    OK    OK  UNNEEDED, same version is already published

Summary

Package: Affymoe4302Expr
Version: 1.31.0
Command: /home/biocbuild/bbs-3.14-bioc/R/bin/R CMD check --install=check:Affymoe4302Expr.install-out.txt --library=/home/biocbuild/bbs-3.14-bioc/R/library --no-vignettes --timings Affymoe4302Expr_1.31.0.tar.gz
StartedAt: 2021-10-26 12:09:35 -0400 (Tue, 26 Oct 2021)
EndedAt: 2021-10-26 12:10:01 -0400 (Tue, 26 Oct 2021)
EllapsedTime: 25.9 seconds
RetCode: 0
Status:   OK  
CheckDir: Affymoe4302Expr.Rcheck
Warnings: 0

Command output

##############################################################################
##############################################################################
###
### Running command:
###
###   /home/biocbuild/bbs-3.14-bioc/R/bin/R CMD check --install=check:Affymoe4302Expr.install-out.txt --library=/home/biocbuild/bbs-3.14-bioc/R/library --no-vignettes --timings Affymoe4302Expr_1.31.0.tar.gz
###
##############################################################################
##############################################################################


* using log directory ‘/home/biocbuild/bbs-3.14-data-experiment/meat/Affymoe4302Expr.Rcheck’
* using R version 4.1.1 (2021-08-10)
* using platform: x86_64-pc-linux-gnu (64-bit)
* using session charset: UTF-8
* using option ‘--no-vignettes’
* checking for file ‘Affymoe4302Expr/DESCRIPTION’ ... OK
* checking extension type ... Package
* this is package ‘Affymoe4302Expr’ version ‘1.31.0’
* checking package namespace information ... OK
* checking package dependencies ... OK
* checking if this is a source package ... OK
* checking if there is a namespace ... OK
* checking for hidden files and directories ... OK
* checking for portable file names ... OK
* checking for sufficient/correct file permissions ... OK
* checking whether package ‘Affymoe4302Expr’ can be installed ... OK
* checking installed package size ... NOTE
  installed size is 421.1Mb
  sub-directories of 1Mb or more:
    extdata  421.0Mb
* checking package directory ... OK
* checking DESCRIPTION meta-information ... OK
* checking top-level files ... OK
* checking for left-over files ... OK
* checking index information ... OK
* checking package subdirectories ... OK
* checking whether the package can be loaded ... OK
* checking whether the package can be loaded with stated dependencies ... OK
* checking whether the package can be unloaded cleanly ... OK
* checking whether the namespace can be loaded with stated dependencies ... OK
* checking whether the namespace can be unloaded cleanly ... OK
* checking Rd files ... OK
* checking Rd metadata ... OK
* checking Rd cross-references ... OK
* checking for missing documentation entries ... OK
* checking for code/documentation mismatches ... OK
* checking Rd \usage sections ... OK
* checking Rd contents ... OK
* checking for unstated dependencies in examples ... OK
* checking contents of ‘data’ directory ... OK
* checking data for non-ASCII characters ... OK
* checking data for ASCII and uncompressed saves ... OK
* checking examples ... OK
* checking PDF version of manual ... OK
* DONE

Status: 1 NOTE
See
  ‘/home/biocbuild/bbs-3.14-data-experiment/meat/Affymoe4302Expr.Rcheck/00check.log’
for details.



Installation output

Affymoe4302Expr.Rcheck/00install.out

##############################################################################
##############################################################################
###
### Running command:
###
###   /home/biocbuild/bbs-3.14-bioc/R/bin/R CMD INSTALL Affymoe4302Expr
###
##############################################################################
##############################################################################


* installing to library ‘/home/biocbuild/bbs-3.14-bioc/R/library’
* installing *source* package ‘Affymoe4302Expr’ ...
** using staged installation
** data
** inst
** help
*** installing help indices
** building package indices
** testing if installed package can be loaded from temporary location
** testing if installed package can be loaded from final location
** testing if installed package keeps a record of temporary installation path
* DONE (Affymoe4302Expr)

Tests output


Example timings

Affymoe4302Expr.Rcheck/Affymoe4302Expr-Ex.timings

nameusersystemelapsed
Affymoe4302Exprtab0.0360.0000.036