Back to Build/check report for BioC 3.14 experimental data
[A]BCDEFGHIJKLMNOPQRSTUVWXYZ

This page was generated on 2021-10-23 15:51:46 -0400 (Sat, 23 Oct 2021).

CHECK results for AffymetrixDataTestFiles on nebbiolo2

To the developers/maintainers of the AffymetrixDataTestFiles package:
Make sure to use the following settings in order to reproduce any error or warning you see on this page.

raw results

Package 8/408HostnameOS / ArchINSTALLBUILDCHECK
AffymetrixDataTestFiles 0.31.0  (landing page)
Henrik Bengtsson
Snapshot Date: 2021-10-23 09:30:01 -0400 (Sat, 23 Oct 2021)
git_url: https://git.bioconductor.org/packages/AffymetrixDataTestFiles
git_branch: master
git_last_commit: a65d4f1
git_last_commit_date: 2021-05-19 11:22:56 -0400 (Wed, 19 May 2021)
nebbiolo2Linux (Ubuntu 20.04.2 LTS) / x86_64  OK    OK    OK  UNNEEDED, same version is already published

Summary

Package: AffymetrixDataTestFiles
Version: 0.31.0
Command: /home/biocbuild/bbs-3.14-bioc/R/bin/R CMD check --install=check:AffymetrixDataTestFiles.install-out.txt --library=/home/biocbuild/bbs-3.14-bioc/R/library --no-vignettes --timings AffymetrixDataTestFiles_0.31.0.tar.gz
StartedAt: 2021-10-23 12:09:41 -0400 (Sat, 23 Oct 2021)
EndedAt: 2021-10-23 12:09:56 -0400 (Sat, 23 Oct 2021)
EllapsedTime: 14.5 seconds
RetCode: 0
Status:   OK  
CheckDir: AffymetrixDataTestFiles.Rcheck
Warnings: 0

Command output

##############################################################################
##############################################################################
###
### Running command:
###
###   /home/biocbuild/bbs-3.14-bioc/R/bin/R CMD check --install=check:AffymetrixDataTestFiles.install-out.txt --library=/home/biocbuild/bbs-3.14-bioc/R/library --no-vignettes --timings AffymetrixDataTestFiles_0.31.0.tar.gz
###
##############################################################################
##############################################################################


* using log directory ‘/home/biocbuild/bbs-3.14-data-experiment/meat/AffymetrixDataTestFiles.Rcheck’
* using R version 4.1.1 (2021-08-10)
* using platform: x86_64-pc-linux-gnu (64-bit)
* using session charset: UTF-8
* using option ‘--no-vignettes’
* checking for file ‘AffymetrixDataTestFiles/DESCRIPTION’ ... OK
* this is package ‘AffymetrixDataTestFiles’ version ‘0.31.0’
* checking package namespace information ... OK
* checking package dependencies ... OK
* checking if this is a source package ... OK
* checking if there is a namespace ... OK
* checking for hidden files and directories ... OK
* checking for portable file names ... NOTE
Found the following non-portable file paths:
  AffymetrixDataTestFiles/inst/annotationData/chipTypes/HuGene-1_0-st-v1/HuGene-1_0-st-v1.r4,10_probesets.pgf
  AffymetrixDataTestFiles/inst/annotationData/chipTypes/Mapping10K_Xba131/3.ASCII/Mapping10K_Xba131.CDF

Tarballs are only required to store paths of up to 100 bytes and cannot
store those of more than 256 bytes, with restrictions including to 100
bytes for the final component.
See section ‘Package structure’ in the ‘Writing R Extensions’ manual.
* checking for sufficient/correct file permissions ... OK
* checking whether package ‘AffymetrixDataTestFiles’ can be installed ... OK
* checking installed package size ... NOTE
  installed size is 147.5Mb
  sub-directories of 1Mb or more:
    annotationData  70.7Mb
    gcos11Data      49.4Mb
    gcos14Data       6.7Mb
    rawData         20.6Mb
* checking package directory ... OK
* checking DESCRIPTION meta-information ... OK
* checking top-level files ... OK
* checking for left-over files ... OK
* checking index information ... OK
* checking package subdirectories ... OK
* checking R files for non-ASCII characters ... OK
* checking R files for syntax errors ... OK
* checking whether the package can be loaded ... OK
* checking whether the package can be loaded with stated dependencies ... OK
* checking whether the package can be unloaded cleanly ... OK
* checking whether the namespace can be loaded with stated dependencies ... OK
* checking whether the namespace can be unloaded cleanly ... OK
* checking dependencies in R code ... OK
* checking S3 generic/method consistency ... OK
* checking replacement functions ... OK
* checking foreign function calls ... OK
* checking R code for possible problems ... OK
* checking Rd files ... OK
* checking Rd metadata ... OK
* checking Rd cross-references ... OK
* checking for missing documentation entries ... OK
* checking for code/documentation mismatches ... OK
* checking Rd \usage sections ... OK
* checking Rd contents ... OK
* checking for unstated dependencies in examples ... OK
* checking examples ... NONE
* checking PDF version of manual ... OK
* DONE

Status: 2 NOTEs
See
  ‘/home/biocbuild/bbs-3.14-data-experiment/meat/AffymetrixDataTestFiles.Rcheck/00check.log’
for details.



Installation output

AffymetrixDataTestFiles.Rcheck/00install.out

##############################################################################
##############################################################################
###
### Running command:
###
###   /home/biocbuild/bbs-3.14-bioc/R/bin/R CMD INSTALL AffymetrixDataTestFiles
###
##############################################################################
##############################################################################


* installing to library ‘/home/biocbuild/bbs-3.14-bioc/R/library’
* installing *source* package ‘AffymetrixDataTestFiles’ ...
** using staged installation
** R
** inst
** byte-compile and prepare package for lazy loading
** help
*** installing help indices
** building package indices
** testing if installed package can be loaded from temporary location
** testing if installed package can be loaded from final location
** testing if installed package keeps a record of temporary installation path
* DONE (AffymetrixDataTestFiles)

Tests output


Example timings