Back to Build/check report for BioC 3.14 experimental data
[A]BCDEFGHIJKLMNOPQRSTUVWXYZ

This page was generated on 2021-10-16 15:51:45 -0400 (Sat, 16 Oct 2021).

INSTALL results for ASICSdata on nebbiolo2

To the developers/maintainers of the ASICSdata package:
Make sure to use the following settings in order to reproduce any error or warning you see on this page.

raw results

Package 20/404HostnameOS / ArchINSTALLBUILDCHECK
ASICSdata 1.13.0  (landing page)
Gaëlle Lefort
Snapshot Date: 2021-10-16 09:30:02 -0400 (Sat, 16 Oct 2021)
git_url: https://git.bioconductor.org/packages/ASICSdata
git_branch: master
git_last_commit: d591aa9
git_last_commit_date: 2021-05-19 12:04:23 -0400 (Wed, 19 May 2021)
nebbiolo2Linux (Ubuntu 20.04.2 LTS) / x86_64  OK    OK    OK  UNNEEDED, same version is already published

Summary

Package: ASICSdata
Version: 1.13.0
Command: /home/biocbuild/bbs-3.14-bioc/R/bin/R CMD INSTALL ASICSdata
StartedAt: 2021-10-16 11:00:29 -0400 (Sat, 16 Oct 2021)
EndedAt: 2021-10-16 11:00:31 -0400 (Sat, 16 Oct 2021)
EllapsedTime: 1.4 seconds
RetCode: 0
Status:   OK  

Command output

##############################################################################
##############################################################################
###
### Running command:
###
###   /home/biocbuild/bbs-3.14-bioc/R/bin/R CMD INSTALL ASICSdata
###
##############################################################################
##############################################################################


* installing to library ‘/home/biocbuild/bbs-3.14-bioc/R/library’
* installing *source* package ‘ASICSdata’ ...
** using staged installation
** R
** inst
** byte-compile and prepare package for lazy loading
** help
*** installing help indices
** building package indices
** installing vignettes
** testing if installed package can be loaded from temporary location
** testing if installed package can be loaded from final location
** testing if installed package keeps a record of temporary installation path
* DONE (ASICSdata)