Back to Build/check report for BioC 3.14 experimental data
[A]BCDEFGHIJKLMNOPQRSTUVWXYZ

This page was generated on 2021-11-24 18:35:26 -0500 (Wed, 24 Nov 2021).

BUILD results for ASICSdata on nebbiolo2

To the developers/maintainers of the ASICSdata package:
Make sure to use the following settings in order to reproduce any error or warning you see on this page.

raw results

Package 20/408HostnameOS / ArchINSTALLBUILDCHECK
ASICSdata 1.14.0  (landing page)
Gaëlle Lefort
Snapshot Date: 2021-11-24 08:30:01 -0500 (Wed, 24 Nov 2021)
git_url: https://git.bioconductor.org/packages/ASICSdata
git_branch: RELEASE_3_14
git_last_commit: 7e2888b
git_last_commit_date: 2021-10-26 12:31:33 -0500 (Tue, 26 Oct 2021)
nebbiolo2Linux (Ubuntu 20.04.3 LTS) / x86_64  OK    OK    OK  UNNEEDED, same version is already published

Summary

Package: ASICSdata
Version: 1.14.0
Command: /home/biocbuild/bbs-3.14-bioc/R/bin/R CMD build --keep-empty-dirs --no-resave-data ASICSdata
StartedAt: 2021-11-24 14:10:26 -0500 (Wed, 24 Nov 2021)
EndedAt: 2021-11-24 14:10:38 -0500 (Wed, 24 Nov 2021)
EllapsedTime: 11.6 seconds
RetCode: 0
Status:   OK  
PackageFile: ASICSdata_1.14.0.tar.gz
PackageFileSize: 22.05 MiB

Command output

##############################################################################
##############################################################################
###
### Running command:
###
###   /home/biocbuild/bbs-3.14-bioc/R/bin/R CMD build --keep-empty-dirs --no-resave-data ASICSdata
###
##############################################################################
##############################################################################


* checking for file ‘ASICSdata/DESCRIPTION’ ... OK
* preparing ‘ASICSdata’:
* checking DESCRIPTION meta-information ... OK
* installing the package to build vignettes
* creating vignettes ... OK
* checking for LF line-endings in source and make files and shell scripts
* checking for empty or unneeded directories
Omitted ‘LazyData’ from DESCRIPTION
* building ‘ASICSdata_1.14.0.tar.gz’