Back to Build/check report for BioC 3.14 experimental data
[A]BCDEFGHIJKLMNOPQRSTUVWXYZ

This page was generated on 2021-10-16 15:51:45 -0400 (Sat, 16 Oct 2021).

All results for package ABAData

To the developers/maintainers of the ABAData package:
Make sure to use the following settings in order to reproduce any error or warning you see on this page.

raw results

Package 1/404HostnameOS / ArchINSTALLBUILDCHECK
ABAData 1.23.1  (landing page)
Steffi Grote
Snapshot Date: 2021-10-16 09:30:02 -0400 (Sat, 16 Oct 2021)
git_url: https://git.bioconductor.org/packages/ABAData
git_branch: master
git_last_commit: 7c27986
git_last_commit_date: 2021-08-11 10:11:02 -0400 (Wed, 11 Aug 2021)
nebbiolo2Linux (Ubuntu 20.04.2 LTS) / x86_64  OK    OK    WARNINGS  UNNEEDED, same version is already published