Back to Multiple platform build/check report for BioC 3.14
ABCDEFGHIJKLMNOPQRSTUV[W]XYZ

This page was generated on 2021-11-26 15:05:08 -0500 (Fri, 26 Nov 2021).

INSTALL results for waddR on nebbiolo2

To the developers/maintainers of the waddR package:
- Please allow up to 24 hours (and sometimes 48 hours) for your latest push to git@git.bioconductor.org:packages/waddR.git to
reflect on this report. See How and When does the builder pull? When will my changes propagate? here for more information.
- Make sure to use the following settings in order to reproduce any error or warning you see on this page.

raw results

Package 2058/2083HostnameOS / ArchINSTALLBUILDCHECKBUILD BIN
waddR 1.8.0  (landing page)
Julian Flesch
Snapshot Date: 2021-11-25 04:15:05 -0500 (Thu, 25 Nov 2021)
git_url: https://git.bioconductor.org/packages/waddR
git_branch: RELEASE_3_14
git_last_commit: 540ab09
git_last_commit_date: 2021-10-26 12:55:17 -0500 (Tue, 26 Oct 2021)
nebbiolo2Linux (Ubuntu 20.04.3 LTS) / x86_64  OK    OK    OK  UNNEEDED, same version is already published
tokay2Windows Server 2012 R2 Standard / x64  OK    OK    OK    OK  UNNEEDED, same version is already published
machv2macOS 10.14.6 Mojave / x86_64  OK    OK    OK    OK  UNNEEDED, same version is already published

Summary

Package: waddR
Version: 1.8.0
Command: /home/biocbuild/bbs-3.14-bioc/R/bin/R CMD INSTALL waddR
StartedAt: 2021-11-25 05:28:51 -0500 (Thu, 25 Nov 2021)
EndedAt: 2021-11-25 05:29:36 -0500 (Thu, 25 Nov 2021)
EllapsedTime: 44.9 seconds
RetCode: 0
Status:   OK  

Command output

##############################################################################
##############################################################################
###
### Running command:
###
###   /home/biocbuild/bbs-3.14-bioc/R/bin/R CMD INSTALL waddR
###
##############################################################################
##############################################################################


* installing to library ‘/home/biocbuild/bbs-3.14-bioc/R/library’
* installing *source* package ‘waddR’ ...
** using staged installation
** libs
g++ -std=gnu++11 -I"/home/biocbuild/bbs-3.14-bioc/R/include" -DNDEBUG  -I'/home/biocbuild/bbs-3.14-bioc/R/library/Rcpp/include' -I'/home/biocbuild/bbs-3.14-bioc/R/library/RcppArmadillo/include' -I/usr/local/include   -fpic  -g -O2  -Wall -c RcppExports.cpp -o RcppExports.o
g++ -std=gnu++11 -I"/home/biocbuild/bbs-3.14-bioc/R/include" -DNDEBUG  -I'/home/biocbuild/bbs-3.14-bioc/R/library/Rcpp/include' -I'/home/biocbuild/bbs-3.14-bioc/R/library/RcppArmadillo/include' -I/usr/local/include   -fpic  -g -O2  -Wall -c wasserstein.cpp -o wasserstein.o
wasserstein.cpp: In function ‘std::vector<double> rep_weighted(std::vector<double>, std::vector<int, std::allocator<int> >)’:
wasserstein.cpp:348:20: warning: comparison of integer expressions of different signedness: ‘int’ and ‘std::vector<double>::size_type’ {aka ‘long unsigned int’} [-Wsign-compare]
  348 |      for(int i=0; i<x.size(); i++) {
      |                   ~^~~~~~~~~
wasserstein.cpp: In function ‘std::vector<double> concat(std::vector<double>&, std::vector<double>&)’:
wasserstein.cpp:386:27: warning: variable ‘out_it_end’ set but not used [-Wunused-but-set-variable]
  386 |  vector<double>::iterator out_it_end = out.end();
      |                           ^~~~~~~~~~
wasserstein.cpp: In function ‘std::vector<int, std::allocator<int> > interval_table(const std::vector<double>&, const std::vector<double>&, int)’:
wasserstein.cpp:584:18: warning: comparison of integer expressions of different signedness: ‘int’ and ‘std::vector<double>::size_type’ {aka ‘long unsigned int’} [-Wsign-compare]
  584 |    while (data_i < datavec.size()) {
      |           ~~~~~~~^~~~~~~~~~~~~~~~
wasserstein.cpp: In function ‘double cor_test_export(Rcpp::NumericVector, Rcpp::NumericVector)’:
wasserstein.cpp:1088:17: warning: comparison of integer expressions of different signedness: ‘int’ and ‘std::vector<double>::size_type’ {aka ‘long unsigned int’} [-Wsign-compare]
 1088 |  for (int i=0; i<x.size(); i++) { x[i] = x_[i];}
      |                ~^~~~~~~~~
wasserstein.cpp:1089:17: warning: comparison of integer expressions of different signedness: ‘int’ and ‘std::vector<double>::size_type’ {aka ‘long unsigned int’} [-Wsign-compare]
 1089 |  for (int j=0; j<y.size(); j++) { y[j] = y_[j];}
      |                ~^~~~~~~~~
wasserstein.cpp: In instantiation of ‘double cor(const std::vector<T>&, const std::vector<T>&, double, double) [with T = double]’:
wasserstein.cpp:716:49:   required from here
wasserstein.cpp:439:17: warning: comparison of integer expressions of different signedness: ‘int’ and ‘std::vector<double>::size_type’ {aka ‘long unsigned int’} [-Wsign-compare]
  439 |  for (int i=0; i<x.size(); i++){
wasserstein.cpp: In instantiation of ‘std::vector<T> operator-(const std::vector<T>&, const std::vector<T>&) [with T = double]’:
wasserstein.cpp:778:44:   required from here
wasserstein.cpp:121:20: warning: comparison of integer expressions of different signedness: ‘int’ and ‘std::vector<double>::size_type’ {aka ‘long unsigned int’} [-Wsign-compare]
  121 |     for (int i=0; i<x.size(); i++) {
wasserstein.cpp: In instantiation of ‘std::vector<T> cumSum(const std::vector<T>&, int) [with T = double]’:
wasserstein.cpp:884:17:   required from here
wasserstein.cpp:472:47: warning: comparison of integer expressions of different signedness: ‘const int’ and ‘std::vector<double>::size_type’ {aka ‘long unsigned int’} [-Wsign-compare]
  472 |  int upper = ((last_index > 0) && (last_index <= x.size())
      |                                   ~~~~~~~~~~~~^~~~~~~~~~~~
wasserstein.cpp: In instantiation of ‘std::vector<T> operator*(const std::vector<T>&, const std::vector<T>&) [with T = double]’:
wasserstein.cpp:912:62:   required from here
wasserstein.cpp:101:20: warning: comparison of integer expressions of different signedness: ‘int’ and ‘std::vector<double>::size_type’ {aka ‘long unsigned int’} [-Wsign-compare]
  101 |     for (int i=0; i<x.size(); i++) {
wasserstein.cpp: In instantiation of ‘std::vector<T> operator+(std::vector<T>, std::vector<T>) [with T = double]’:
wasserstein.cpp:933:15:   required from here
wasserstein.cpp:53:18: warning: comparison of integer expressions of different signedness: ‘int’ and ‘std::vector<double>::size_type’ {aka ‘long unsigned int’} [-Wsign-compare]
   53 |   for (int i=0; i<x.size(); i++) {
wasserstein.cpp: In instantiation of ‘std::vector<T> operator/(const std::vector<T>&, const std::vector<T>&) [with T = double]’:
wasserstein.cpp:1046:15:   required from here
wasserstein.cpp:169:20: warning: comparison of integer expressions of different signedness: ‘int’ and ‘std::vector<double>::size_type’ {aka ‘long unsigned int’} [-Wsign-compare]
  169 |     for (int i=0; i<x.size(); i++) {
wasserstein.cpp: In instantiation of ‘std::vector<T> quantile(const std::vector<T>&, std::vector<double>, int) [with T = double]’:
wasserstein.cpp:1162:27:   required from here
wasserstein.cpp:501:4: warning: unused variable ‘max_x’ [-Wunused-variable]
  501 |  T max_x = x_sorted[n-1];
      |    ^~~~~
g++ -std=gnu++11 -shared -L/home/biocbuild/bbs-3.14-bioc/R/lib -L/usr/local/lib -o waddR.so RcppExports.o wasserstein.o -L/home/biocbuild/bbs-3.14-bioc/R/lib -lR
installing to /home/biocbuild/bbs-3.14-bioc/R/library/00LOCK-waddR/00new/waddR/libs
** R
** inst
** byte-compile and prepare package for lazy loading
** help
*** installing help indices
** building package indices
** installing vignettes
** testing if installed package can be loaded from temporary location
** checking absolute paths in shared objects and dynamic libraries
** testing if installed package can be loaded from final location
** testing if installed package keeps a record of temporary installation path
* DONE (waddR)