Back to Multiple platform build/check report for BioC 3.14
ABCDEFGHIJKLMNOPQRS[T]UVWXYZ

This page was generated on 2022-01-14 13:07:21 -0500 (Fri, 14 Jan 2022).

HostnameOSArch (*)R versionInstalled pkgs
nebbiolo2Linux (Ubuntu 20.04.4 LTS)x86_644.1.2 (2021-11-01) -- "Bird Hippie" 4327
tokay2Windows Server 2012 R2 Standardx644.1.2 (2021-11-01) -- "Bird Hippie" 4076
machv2macOS 10.14.6 Mojavex86_644.1.2 (2021-11-01) -- "Bird Hippie" 4137
Click on any hostname to see more info about the system (e.g. compilers)      (*) as reported by 'uname -p', except on Windows and Mac OS X

INSTALL results for tximeta on tokay2


To the developers/maintainers of the tximeta package:
- Please allow up to 24 hours (and sometimes 48 hours) for your latest push to git@git.bioconductor.org:packages/tximeta.git to
reflect on this report. See How and When does the builder pull? When will my changes propagate? here for more information.
- Make sure to use the following settings in order to reproduce any error or warning you see on this page.

raw results

Package 2022/2083HostnameOS / ArchINSTALLBUILDCHECKBUILD BIN
tximeta 1.12.4  (landing page)
Michael Love
Snapshot Date: 2022-01-13 01:55:04 -0500 (Thu, 13 Jan 2022)
git_url: https://git.bioconductor.org/packages/tximeta
git_branch: RELEASE_3_14
git_last_commit: 78d1a79
git_last_commit_date: 2021-12-20 13:21:54 -0500 (Mon, 20 Dec 2021)
nebbiolo2Linux (Ubuntu 20.04.4 LTS) / x86_64  OK    OK    OK  UNNEEDED, same version is already published
tokay2Windows Server 2012 R2 Standard / x64  OK    OK    OK    OK  UNNEEDED, same version is already published
machv2macOS 10.14.6 Mojave / x86_64  OK    OK    OK    OK  UNNEEDED, same version is already published

Summary

Package: tximeta
Version: 1.12.4
Command: C:\cygwin\bin\curl.exe -O http://155.52.207.166/BBS/3.14/bioc/src/contrib/tximeta_1.12.4.tar.gz && rm -rf tximeta.buildbin-libdir && mkdir tximeta.buildbin-libdir && C:\Users\biocbuild\bbs-3.14-bioc\R\bin\R.exe CMD INSTALL --merge-multiarch --build --library=tximeta.buildbin-libdir tximeta_1.12.4.tar.gz && C:\Users\biocbuild\bbs-3.14-bioc\R\bin\R.exe CMD INSTALL tximeta_1.12.4.zip && rm tximeta_1.12.4.tar.gz tximeta_1.12.4.zip
StartedAt: 2022-01-13 07:04:28 -0500 (Thu, 13 Jan 2022)
EndedAt: 2022-01-13 07:05:52 -0500 (Thu, 13 Jan 2022)
EllapsedTime: 84.3 seconds
RetCode: 0
Status:   OK  

Command output

##############################################################################
##############################################################################
###
### Running command:
###
###   C:\cygwin\bin\curl.exe -O http://155.52.207.166/BBS/3.14/bioc/src/contrib/tximeta_1.12.4.tar.gz && rm -rf tximeta.buildbin-libdir && mkdir tximeta.buildbin-libdir && C:\Users\biocbuild\bbs-3.14-bioc\R\bin\R.exe CMD INSTALL --merge-multiarch --build --library=tximeta.buildbin-libdir tximeta_1.12.4.tar.gz && C:\Users\biocbuild\bbs-3.14-bioc\R\bin\R.exe CMD INSTALL tximeta_1.12.4.zip && rm tximeta_1.12.4.tar.gz tximeta_1.12.4.zip
###
##############################################################################
##############################################################################


  % Total    % Received % Xferd  Average Speed   Time    Time     Time  Current
                                 Dload  Upload   Total   Spent    Left  Speed

  0     0    0     0    0     0      0      0 --:--:-- --:--:-- --:--:--     0
 44  379k   44  167k    0     0  1061k      0 --:--:-- --:--:-- --:--:-- 1059k
100  379k  100  379k    0     0  1810k      0 --:--:-- --:--:-- --:--:-- 1808k

install for i386

* installing *source* package 'tximeta' ...
** using staged installation
** R
** inst
** byte-compile and prepare package for lazy loading
** help
*** installing help indices
  converting help for package 'tximeta'
    finding HTML links ... done
    addCDS                                  html  
    addExons                                html  
    addIds                                  html  
    getTximetaBFC                           html  
    linkedTxome                             html  
    makeDGEList                             html  
    retrieveCDNA                            html  
    retrieveDb                              html  
    splitSE                                 html  
    summarizeToGene                         html  
    tximeta-package                         html  
    finding level-2 HTML links ... done

    tximeta                                 html  
** building package indices
** installing vignettes
** testing if installed package can be loaded from temporary location
** testing if installed package can be loaded from final location
** testing if installed package keeps a record of temporary installation path

install for x64

* installing *source* package 'tximeta' ...
** testing if installed package can be loaded
* MD5 sums
packaged installation of 'tximeta' as tximeta_1.12.4.zip
* DONE (tximeta)
* installing to library 'C:/Users/biocbuild/bbs-3.14-bioc/R/library'
package 'tximeta' successfully unpacked and MD5 sums checked