Index of /checkResults/3.14/bioc-LATEST/tricycle/raw-results/nebbiolo2

[ICO]NameLast modifiedSizeDescription

[DIR]Parent Directory  -  
[TXT]install-out.txt14-Apr-2022 01:06 1.0K 
[   ]install-summary.dcf14-Apr-2022 01:06 260  
[TXT]buildsrc-out.txt14-Apr-2022 01:06 872  
[   ]buildsrc-summary.dcf14-Apr-2022 01:06 418  
[TXT]checksrc-out.txt14-Apr-2022 01:06 3.7K 
[   ]checksrc-summary.dcf14-Apr-2022 01:06 426