![]() | Name | Last modified | Size | Description |
---|---|---|---|---|
![]() | Parent Directory | - | ||
![]() | buildbin-out.txt | 14-Apr-2022 01:07 | 3.0K | |
![]() | buildbin-summary.dcf | 14-Apr-2022 01:07 | 563 | |
![]() | buildsrc-out.txt | 14-Apr-2022 01:07 | 925 | |
![]() | buildsrc-summary.dcf | 14-Apr-2022 01:07 | 474 | |
![]() | checksrc-out.txt | 14-Apr-2022 01:07 | 4.1K | |
![]() | checksrc-summary.dcf | 14-Apr-2022 01:07 | 478 | |
![]() | install-out.txt | 14-Apr-2022 01:07 | 3.8K | |
![]() | install-summary.dcf | 14-Apr-2022 01:07 | 677 | |