![]() | Name | Last modified | Size | Description |
---|---|---|---|---|
![]() | Parent Directory | - | ||
![]() | buildsrc-out.txt | 14-Apr-2022 01:06 | 885 | |
![]() | buildsrc-summary.dcf | 14-Apr-2022 01:06 | 429 | |
![]() | checksrc-out.txt | 14-Apr-2022 01:06 | 3.3K | |
![]() | checksrc-summary.dcf | 14-Apr-2022 01:06 | 440 | |
![]() | install-out.txt | 14-Apr-2022 01:06 | 967 | |
![]() | install-summary.dcf | 14-Apr-2022 01:06 | 267 | |