![]() | Name | Last modified | Size | Description |
---|---|---|---|---|
![]() | Parent Directory | - | ||
![]() | buildbin-out.txt | 14-Apr-2022 01:08 | 1.2K | |
![]() | buildbin-summary.dcf | 14-Apr-2022 01:08 | 553 | |
![]() | buildsrc-out.txt | 14-Apr-2022 01:08 | 895 | |
![]() | buildsrc-summary.dcf | 14-Apr-2022 01:08 | 440 | |
![]() | checksrc-out.txt | 14-Apr-2022 01:08 | 3.4K | |
![]() | checksrc-summary.dcf | 14-Apr-2022 01:08 | 460 | |
![]() | install-out.txt | 14-Apr-2022 01:08 | 1.0K | |
![]() | install-summary.dcf | 14-Apr-2022 01:08 | 277 | |