![]() | Name | Last modified | Size | Description |
---|---|---|---|---|
![]() | Parent Directory | - | ||
![]() | buildbin-out.txt | 14-Apr-2022 01:07 | 2.7K | |
![]() | buildbin-summary.dcf | 14-Apr-2022 01:07 | 578 | |
![]() | buildsrc-out.txt | 14-Apr-2022 01:07 | 972 | |
![]() | buildsrc-summary.dcf | 14-Apr-2022 01:07 | 484 | |
![]() | checksrc-out.txt | 14-Apr-2022 01:07 | 4.4K | |
![]() | checksrc-summary.dcf | 14-Apr-2022 01:07 | 488 | |
![]() | install-out.txt | 14-Apr-2022 01:07 | 3.7K | |
![]() | install-summary.dcf | 14-Apr-2022 01:07 | 698 | |