Index of /checkResults/3.14/bioc-LATEST/spatialHeatmap/raw-results/nebbiolo2

[ICO]NameLast modifiedSizeDescription

[DIR]Parent Directory  -  
[   ]install-summary.dcf14-Apr-2022 01:05 272  
[   ]buildsrc-summary.dcf14-Apr-2022 01:05 437  
[   ]checksrc-summary.dcf14-Apr-2022 01:05 450  
[TXT]buildsrc-out.txt14-Apr-2022 01:05 928  
[TXT]install-out.txt14-Apr-2022 01:05 1.0K 
[TXT]checksrc-out.txt14-Apr-2022 01:05 3.6K