Back to Multiple platform build/check report for BioC 3.14
ABCDEFGHIJKLMNOPQR[S]TUVWXYZ

This page was generated on 2021-11-24 15:05:16 -0500 (Wed, 24 Nov 2021).

BUILD results for spatialHeatmap on nebbiolo2

To the developers/maintainers of the spatialHeatmap package:
- Please allow up to 24 hours (and sometimes 48 hours) for your latest push to git@git.bioconductor.org:packages/spatialHeatmap.git to
reflect on this report. See How and When does the builder pull? When will my changes propagate? here for more information.
- Make sure to use the following settings in order to reproduce any error or warning you see on this page.

raw results

Package 1848/2083HostnameOS / ArchINSTALLBUILDCHECKBUILD BIN
spatialHeatmap 2.0.0  (landing page)
Jianhai Zhang
Snapshot Date: 2021-11-23 04:15:06 -0500 (Tue, 23 Nov 2021)
git_url: https://git.bioconductor.org/packages/spatialHeatmap
git_branch: RELEASE_3_14
git_last_commit: 4bdc542
git_last_commit_date: 2021-10-26 13:03:26 -0500 (Tue, 26 Oct 2021)
nebbiolo2Linux (Ubuntu 20.04.3 LTS) / x86_64  OK    OK    OK  UNNEEDED, same version is already published
tokay2Windows Server 2012 R2 Standard / x64  OK    OK    OK    OK  UNNEEDED, same version is already published
machv2macOS 10.14.6 Mojave / x86_64  OK    OK    OK    OK  UNNEEDED, same version is already published

Summary

Package: spatialHeatmap
Version: 2.0.0
Command: /home/biocbuild/bbs-3.14-bioc/R/bin/R CMD build --keep-empty-dirs --no-resave-data spatialHeatmap
StartedAt: 2021-11-23 07:47:38 -0500 (Tue, 23 Nov 2021)
EndedAt: 2021-11-23 07:50:38 -0500 (Tue, 23 Nov 2021)
EllapsedTime: 179.5 seconds
RetCode: 0
Status:   OK  
PackageFile: spatialHeatmap_2.0.0.tar.gz
PackageFileSize: 11.93 MiB

Command output

##############################################################################
##############################################################################
###
### Running command:
###
###   /home/biocbuild/bbs-3.14-bioc/R/bin/R CMD build --keep-empty-dirs --no-resave-data spatialHeatmap
###
##############################################################################
##############################################################################


* checking for file ‘spatialHeatmap/DESCRIPTION’ ... OK
* preparing ‘spatialHeatmap’:
* checking DESCRIPTION meta-information ... OK
* installing the package to process help pages
* saving partial Rd database
* creating vignettes ... OK
* checking for LF line-endings in source and make files and shell scripts
* checking for empty or unneeded directories
* looking to see if a ‘data/datalist’ file should be added
* building ‘spatialHeatmap_2.0.0.tar.gz’