![]() | Name | Last modified | Size | Description |
---|---|---|---|---|
![]() | Parent Directory | - | ||
![]() | install-summary.dcf | 14-Apr-2022 01:07 | 635 | |
![]() | install-out.txt | 14-Apr-2022 01:07 | 5.3K | |
![]() | checksrc-summary.dcf | 14-Apr-2022 01:07 | 461 | |
![]() | checksrc-out.txt | 14-Apr-2022 01:07 | 4.8K | |
![]() | buildsrc-summary.dcf | 14-Apr-2022 01:07 | 457 | |
![]() | buildsrc-out.txt | 14-Apr-2022 01:07 | 881 | |
![]() | buildbin-summary.dcf | 14-Apr-2022 01:07 | 536 | |
![]() | buildbin-out.txt | 14-Apr-2022 01:07 | 4.6K | |