![]() | Name | Last modified | Size | Description |
---|---|---|---|---|
![]() | Parent Directory | - | ||
![]() | install-summary.dcf | 14-Apr-2022 01:05 | 258 | |
![]() | install-out.txt | 14-Apr-2022 01:05 | 967 | |
![]() | checksrc-summary.dcf | 14-Apr-2022 01:05 | 422 | |
![]() | checksrc-out.txt | 14-Apr-2022 01:05 | 3.7K | |
![]() | buildsrc-summary.dcf | 14-Apr-2022 01:05 | 416 | |
![]() | buildsrc-out.txt | 14-Apr-2022 01:05 | 845 | |