Back to Multiple platform build/check report for BioC 3.14
ABCDEFGHIJKLMNOPQR[S]TUVWXYZ

This page was generated on 2022-01-21 13:07:06 -0500 (Fri, 21 Jan 2022).

HostnameOSArch (*)R versionInstalled pkgs
nebbiolo2Linux (Ubuntu 20.04.4 LTS)x86_644.1.2 (2021-11-01) -- "Bird Hippie" 4329
tokay2Windows Server 2012 R2 Standardx644.1.2 (2021-11-01) -- "Bird Hippie" 4079
machv2macOS 10.14.6 Mojavex86_644.1.2 (2021-11-01) -- "Bird Hippie" 4140
Click on any hostname to see more info about the system (e.g. compilers)      (*) as reported by 'uname -p', except on Windows and Mac OS X

CHECK results for signatureSearch on tokay2


To the developers/maintainers of the signatureSearch package:
- Please allow up to 24 hours (and sometimes 48 hours) for your latest push to git@git.bioconductor.org:packages/signatureSearch.git to
reflect on this report. See How and When does the builder pull? When will my changes propagate? here for more information.
- Make sure to use the following settings in order to reproduce any error or warning you see on this page.

raw results

Package 1791/2083HostnameOS / ArchINSTALLBUILDCHECKBUILD BIN
signatureSearch 1.8.2  (landing page)
Yuzhu Duan
Snapshot Date: 2022-01-20 01:55:04 -0500 (Thu, 20 Jan 2022)
git_url: https://git.bioconductor.org/packages/signatureSearch
git_branch: RELEASE_3_14
git_last_commit: 5b73dc1
git_last_commit_date: 2021-12-06 17:57:57 -0500 (Mon, 06 Dec 2021)
nebbiolo2Linux (Ubuntu 20.04.4 LTS) / x86_64  OK    OK    OK  UNNEEDED, same version is already published
tokay2Windows Server 2012 R2 Standard / x64  OK    OK    OK    OK  UNNEEDED, same version is already published
machv2macOS 10.14.6 Mojave / x86_64  OK    OK    OK    OK  UNNEEDED, same version is already published

Summary

Package: signatureSearch
Version: 1.8.2
Command: C:\Users\biocbuild\bbs-3.14-bioc\R\bin\R.exe CMD check --force-multiarch --install=check:signatureSearch.install-out.txt --library=C:\Users\biocbuild\bbs-3.14-bioc\R\library --no-vignettes --timings signatureSearch_1.8.2.tar.gz
StartedAt: 2022-01-21 02:55:08 -0500 (Fri, 21 Jan 2022)
EndedAt: 2022-01-21 03:14:06 -0500 (Fri, 21 Jan 2022)
EllapsedTime: 1137.5 seconds
RetCode: 0
Status:   OK  
CheckDir: signatureSearch.Rcheck
Warnings: 0

Command output

##############################################################################
##############################################################################
###
### Running command:
###
###   C:\Users\biocbuild\bbs-3.14-bioc\R\bin\R.exe CMD check --force-multiarch --install=check:signatureSearch.install-out.txt --library=C:\Users\biocbuild\bbs-3.14-bioc\R\library --no-vignettes --timings signatureSearch_1.8.2.tar.gz
###
##############################################################################
##############################################################################


* using log directory 'C:/Users/biocbuild/bbs-3.14-bioc/meat/signatureSearch.Rcheck'
* using R version 4.1.2 (2021-11-01)
* using platform: x86_64-w64-mingw32 (64-bit)
* using session charset: ISO8859-1
* using option '--no-vignettes'
* checking for file 'signatureSearch/DESCRIPTION' ... OK
* this is package 'signatureSearch' version '1.8.2'
* package encoding: UTF-8
* checking package namespace information ... OK
* checking package dependencies ... OK
* checking if this is a source package ... OK
* checking if there is a namespace ... OK
* checking for hidden files and directories ... NOTE
Found the following hidden files and directories:
  inst/extdata/.batchtools.conf.R
These were most likely included in error. See section 'Package
structure' in the 'Writing R Extensions' manual.
* checking for portable file names ... OK
* checking whether package 'signatureSearch' can be installed ... OK
* checking installed package size ... NOTE
  installed size is  6.1Mb
  sub-directories of 1Mb or more:
    extdata   1.5Mb
    libs      2.1Mb
* checking package directory ... OK
* checking 'build' directory ... OK
* checking DESCRIPTION meta-information ... OK
* checking top-level files ... OK
* checking for left-over files ... OK
* checking index information ... OK
* checking package subdirectories ... OK
* checking R files for non-ASCII characters ... OK
* checking R files for syntax errors ... OK
* loading checks for arch 'i386'
** checking whether the package can be loaded ... OK
** checking whether the package can be loaded with stated dependencies ... OK
** checking whether the package can be unloaded cleanly ... OK
** checking whether the namespace can be loaded with stated dependencies ... OK
** checking whether the namespace can be unloaded cleanly ... OK
* loading checks for arch 'x64'
** checking whether the package can be loaded ... OK
** checking whether the package can be loaded with stated dependencies ... OK
** checking whether the package can be unloaded cleanly ... OK
** checking whether the namespace can be loaded with stated dependencies ... OK
** checking whether the namespace can be unloaded cleanly ... OK
* checking dependencies in R code ... OK
* checking S3 generic/method consistency ... OK
* checking replacement functions ... OK
* checking foreign function calls ... OK
* checking R code for possible problems ... NOTE
File 'signatureSearch/R/zzz.R':
  .onLoad calls:
    packageStartupMessage("The ExperimentHub cache is at ", cache)

See section 'Good practice' in '?.onAttach'.
* checking Rd files ... OK
* checking Rd metadata ... OK
* checking Rd cross-references ... OK
* checking for missing documentation entries ... OK
* checking for code/documentation mismatches ... OK
* checking Rd \usage sections ... OK
* checking Rd contents ... OK
* checking for unstated dependencies in examples ... OK
* checking contents of 'data' directory ... OK
* checking data for non-ASCII characters ... NOTE
  Note: found 19 marked UTF-8 strings
* checking LazyData ... OK
* checking data for ASCII and uncompressed saves ... OK
* checking R/sysdata.rda ... OK
* checking line endings in C/C++/Fortran sources/headers ... OK
* checking compiled code ... NOTE
Note: information on .o files for i386 is not available
Note: information on .o files for x64 is not available
File 'C:/Users/biocbuild/bbs-3.14-bioc/R/library/signatureSearch/libs/i386/signatureSearch.dll':
  Found 'abort', possibly from 'abort' (C), 'runtime' (Fortran)
  Found 'exit', possibly from 'exit' (C), 'stop' (Fortran)
  Found 'printf', possibly from 'printf' (C)
File 'C:/Users/biocbuild/bbs-3.14-bioc/R/library/signatureSearch/libs/x64/signatureSearch.dll':
  Found 'abort', possibly from 'abort' (C), 'runtime' (Fortran)
  Found 'exit', possibly from 'exit' (C), 'stop' (Fortran)
  Found 'printf', possibly from 'printf' (C)

Compiled code should not call entry points which might terminate R nor
write to stdout/stderr instead of to the console, nor use Fortran I/O
nor system RNGs. The detected symbols are linked into the code but
might come from libraries and not actually be called.

See 'Writing portable packages' in the 'Writing R Extensions' manual.
* checking files in 'vignettes' ... OK
* checking examples ...
** running examples for arch 'i386' ... OK
Examples with CPU (user + system) or elapsed time > 5s
              user system elapsed
runWF        26.27   2.93   35.69
set_readable 24.17   0.69   25.20
** running examples for arch 'x64' ... OK
Examples with CPU (user + system) or elapsed time > 5s
              user system elapsed
runWF        26.32   1.28   33.86
set_readable 21.19   0.14   21.64
* checking for unstated dependencies in 'tests' ... OK
* checking tests ...
** running tests for arch 'i386' ...
  Running 'testthat.R'
 OK
** running tests for arch 'x64' ...
  Running 'testthat.R'
 OK
* checking for unstated dependencies in vignettes ... OK
* checking package vignettes in 'inst/doc' ... OK
* checking running R code from vignettes ... SKIPPED
* checking re-building of vignette outputs ... SKIPPED
* checking PDF version of manual ... OK
* DONE

Status: 5 NOTEs
See
  'C:/Users/biocbuild/bbs-3.14-bioc/meat/signatureSearch.Rcheck/00check.log'
for details.



Installation output

signatureSearch.Rcheck/00install.out

##############################################################################
##############################################################################
###
### Running command:
###
###   C:\cygwin\bin\curl.exe -O http://155.52.207.166/BBS/3.14/bioc/src/contrib/signatureSearch_1.8.2.tar.gz && rm -rf signatureSearch.buildbin-libdir && mkdir signatureSearch.buildbin-libdir && C:\Users\biocbuild\bbs-3.14-bioc\R\bin\R.exe CMD INSTALL --merge-multiarch --build --library=signatureSearch.buildbin-libdir signatureSearch_1.8.2.tar.gz && C:\Users\biocbuild\bbs-3.14-bioc\R\bin\R.exe CMD INSTALL signatureSearch_1.8.2.zip && rm signatureSearch_1.8.2.tar.gz signatureSearch_1.8.2.zip
###
##############################################################################
##############################################################################


  % Total    % Received % Xferd  Average Speed   Time    Time     Time  Current
                                 Dload  Upload   Total   Spent    Left  Speed

  0     0    0     0    0     0      0      0 --:--:-- --:--:-- --:--:--     0
  9 2427k    9  222k    0     0   857k      0  0:00:02 --:--:--  0:00:02  856k
100 2427k  100 2427k    0     0  3867k      0 --:--:-- --:--:-- --:--:-- 3865k

install for i386

* installing *source* package 'signatureSearch' ...
** using staged installation
** libs
"C:/rtools40/mingw32/bin/"g++  -std=gnu++11 -I"C:/Users/BIOCBU~1/BBS-3~1.14-/R/include" -DNDEBUG  -I'C:/Users/biocbuild/bbs-3.14-bioc/R/library/Rcpp/include'   -I"C:/extsoft/include"     -O2 -Wall  -mfpmath=sse -msse2 -mstackrealign  -c RcppExports.cpp -o RcppExports.o
"C:/rtools40/mingw32/bin/"g++  -std=gnu++11 -I"C:/Users/BIOCBU~1/BBS-3~1.14-/R/include" -DNDEBUG  -I'C:/Users/biocbuild/bbs-3.14-bioc/R/library/Rcpp/include'   -I"C:/extsoft/include"     -O2 -Wall  -mfpmath=sse -msse2 -mstackrealign  -c fastGSEA.cpp -o fastGSEA.o
fastGSEA.cpp: In function 'Rcpp::NumericVector calcGseaStatBatchCpp(const NumericVector&, const List&, const IntegerVector&)':
fastGSEA.cpp:444:27: warning: comparison of integer expressions of different signedness: 'int' and 'std::vector<int>::size_type' {aka 'unsigned int'} [-Wsign-compare]
         for (int j = 0; j < S.size(); ++j) {
                         ~~^~~~~~~~~~
"C:/rtools40/mingw32/bin/"gcc  -I"C:/Users/BIOCBU~1/BBS-3~1.14-/R/include" -DNDEBUG  -I'C:/Users/biocbuild/bbs-3.14-bioc/R/library/Rcpp/include'   -I"C:/extsoft/include"     -O2 -Wall  -std=gnu99 -mfpmath=sse -msse2 -mstackrealign  -c fgsea_init.c -o fgsea_init.o
C:/rtools40/mingw32/bin/g++ -shared -s -static-libgcc -o signatureSearch.dll tmp.def RcppExports.o fastGSEA.o fgsea_init.o -LC:/extsoft/lib/i386 -LC:/extsoft/lib -LC:/Users/BIOCBU~1/BBS-3~1.14-/R/bin/i386 -lR
installing to C:/Users/biocbuild/bbs-3.14-bioc/meat/signatureSearch.buildbin-libdir/00LOCK-signatureSearch/00new/signatureSearch/libs/i386
** R
** data
*** moving datasets to lazyload DB
** inst
** byte-compile and prepare package for lazy loading
** help
*** installing help indices
  converting help for package 'signatureSearch'
    finding HTML links ... done
    GCT-object                              html  
    add_pcid                                html  
    append2H5                               html  
    build_custom_db                         html  
    calcGseaStatBatchCpp                    html  
    cellNtestPlot                           html  
    cell_info                               html  
    chembl_moa_list                         html  
    clue_moa_list                           html  
    comp_fea_res                            html  
    create_empty_h5                         html  
    dim-methods                             html  
    drug_cell_ranks                         html  
    drugs-methods                           html  
    drugs10                                 html  
    dsea_GSEA                               html  
    dsea_hyperG                             html  
    dtnetplot                               html  
    enrichGO2                               html  
    enrichKEGG2                             html  
    enrichMOA                               html  
    enrichReactome                          html  
    feaResult-class                         html  
    feaResult                               html  
    gctx2h5                                 html  
    gessResult-class                        html  
    gessResult                              html  
    gess_cmap                               html  
    gess_cor                                html  
    gess_fisher                             html  
    gess_gcmap                              html  
    gess_lincs                              html  
    gess_res_vis                            html  
    getALLEG                                html  
    getDb                                   html  
    getSig                                  html  
    getTreats                               html  
    get_targets                             html  
    gmt2h5                                  html  
    gseGO2                                  html  
    gseKEGG2                                html  
    gseReactome                             html  
    head-methods                            html  
    lincs_expr_inst_info                    html  
    lincs_pert_info                         html  
    lincs_sig_info                          html  
    list2df                                 html  
    mabsGO                                  html  
    mabsKEGG                                html  
    mabsReactome                            html  
    matrix2h5                               html  
    moa_conn                                html  
    parse_gctx                              html  
    qSig-class                              html  
    qSig                                    html  
    rand_query_ES                           html  
    read_gmt                                html  
    result-methods                          html  
    runWF                                   html  
    set_readable                            html  
    show-methods                            html  
    signatureSearch-package                 html  
    sim_score_grp                           html  
    tail-methods                            html  
    tarReduce                               html  
    targetList                              html  
    tsea_dup_hyperG                         html  
    tsea_mGSEA                              html  
    tsea_mabs                               html  
    vec_char_redu                           html  
** building package indices
** installing vignettes
** testing if installed package can be loaded from temporary location
** testing if installed package can be loaded from final location
** testing if installed package keeps a record of temporary installation path

install for x64

* installing *source* package 'signatureSearch' ...
** libs
"C:/rtools40/mingw64/bin/"g++  -std=gnu++11 -I"C:/Users/BIOCBU~1/BBS-3~1.14-/R/include" -DNDEBUG  -I'C:/Users/biocbuild/bbs-3.14-bioc/R/library/Rcpp/include'   -I"C:/extsoft/include"     -O2 -Wall  -mfpmath=sse -msse2 -mstackrealign  -c RcppExports.cpp -o RcppExports.o
"C:/rtools40/mingw64/bin/"g++  -std=gnu++11 -I"C:/Users/BIOCBU~1/BBS-3~1.14-/R/include" -DNDEBUG  -I'C:/Users/biocbuild/bbs-3.14-bioc/R/library/Rcpp/include'   -I"C:/extsoft/include"     -O2 -Wall  -mfpmath=sse -msse2 -mstackrealign  -c fastGSEA.cpp -o fastGSEA.o
fastGSEA.cpp: In function 'Rcpp::NumericVector calcGseaStatBatchCpp(const NumericVector&, const List&, const IntegerVector&)':
fastGSEA.cpp:444:27: warning: comparison of integer expressions of different signedness: 'int' and 'std::vector<int>::size_type' {aka 'long long unsigned int'} [-Wsign-compare]
         for (int j = 0; j < S.size(); ++j) {
                         ~~^~~~~~~~~~
"C:/rtools40/mingw64/bin/"gcc  -I"C:/Users/BIOCBU~1/BBS-3~1.14-/R/include" -DNDEBUG  -I'C:/Users/biocbuild/bbs-3.14-bioc/R/library/Rcpp/include'   -I"C:/extsoft/include"     -O2 -Wall  -std=gnu99 -mfpmath=sse -msse2 -mstackrealign  -c fgsea_init.c -o fgsea_init.o
C:/rtools40/mingw64/bin/g++ -shared -s -static-libgcc -o signatureSearch.dll tmp.def RcppExports.o fastGSEA.o fgsea_init.o -LC:/extsoft/lib/x64 -LC:/extsoft/lib -LC:/Users/BIOCBU~1/BBS-3~1.14-/R/bin/x64 -lR
installing to C:/Users/biocbuild/bbs-3.14-bioc/meat/signatureSearch.buildbin-libdir/signatureSearch/libs/x64
** testing if installed package can be loaded
* MD5 sums
packaged installation of 'signatureSearch' as signatureSearch_1.8.2.zip
* DONE (signatureSearch)
* installing to library 'C:/Users/biocbuild/bbs-3.14-bioc/R/library'
package 'signatureSearch' successfully unpacked and MD5 sums checked

Tests output

signatureSearch.Rcheck/tests_i386/testthat.Rout


R version 4.1.2 (2021-11-01) -- "Bird Hippie"
Copyright (C) 2021 The R Foundation for Statistical Computing
Platform: i386-w64-mingw32/i386 (32-bit)

R is free software and comes with ABSOLUTELY NO WARRANTY.
You are welcome to redistribute it under certain conditions.
Type 'license()' or 'licence()' for distribution details.

R is a collaborative project with many contributors.
Type 'contributors()' for more information and
'citation()' on how to cite R or R packages in publications.

Type 'demo()' for some demos, 'help()' for on-line help, or
'help.start()' for an HTML browser interface to help.
Type 'q()' to quit R.

> # library(testthat)
> # library(signatureSearch)
> # 
> # test_check("signatureSearch")
> 
> proc.time()
   user  system elapsed 
   0.26    0.04    0.28 

signatureSearch.Rcheck/tests_x64/testthat.Rout


R version 4.1.2 (2021-11-01) -- "Bird Hippie"
Copyright (C) 2021 The R Foundation for Statistical Computing
Platform: x86_64-w64-mingw32/x64 (64-bit)

R is free software and comes with ABSOLUTELY NO WARRANTY.
You are welcome to redistribute it under certain conditions.
Type 'license()' or 'licence()' for distribution details.

R is a collaborative project with many contributors.
Type 'contributors()' for more information and
'citation()' on how to cite R or R packages in publications.

Type 'demo()' for some demos, 'help()' for on-line help, or
'help.start()' for an HTML browser interface to help.
Type 'q()' to quit R.

> # library(testthat)
> # library(signatureSearch)
> # 
> # test_check("signatureSearch")
> 
> proc.time()
   user  system elapsed 
   0.25    0.06    0.29 

Example timings

signatureSearch.Rcheck/examples_i386/signatureSearch-Ex.timings

nameusersystemelapsed
add_pcid000
append2H50.060.000.07
build_custom_db0.250.030.28
cellNtestPlot0.410.020.60
cell_info0.090.030.13
chembl_moa_list000
clue_moa_list000
comp_fea_res0.180.000.18
create_empty_h50.040.000.04
dim-methods0.020.000.02
drug_cell_ranks000
drugs-methods000
drugs10000
dsea_GSEA0.000.010.02
dsea_hyperG0.010.000.01
dtnetplot2.930.644.35
enrichGO2000
enrichKEGG2000
enrichMOA0.070.000.08
enrichReactome000
feaResult000
gctx2h50.600.221.07
gessResult000
gess_cmap0.010.000.02
gess_cor000
gess_fisher000
gess_gcmap000
gess_lincs000
gess_res_vis0.390.000.39
getSig0.630.080.70
getTreats0.020.020.04
get_targets3.310.093.56
gmt2h50.150.000.37
gseGO2000
gseKEGG20.040.000.03
gseReactome0.010.000.02
head-methods000
lincs_expr_inst_info0.040.000.04
lincs_pert_info0.140.000.14
lincs_sig_info0.050.000.05
list2df000
mabsGO000
mabsKEGG0.010.000.01
mabsReactome0.020.000.02
matrix2h50.080.000.07
moa_conn0.030.000.04
parse_gctx0.080.060.14
qSig0.350.050.40
rand_query_ES3.110.273.75
read_gmt000
result-methods0.050.000.05
runWF26.27 2.9335.69
set_readable24.17 0.6925.20
show-methods0.030.000.03
sim_score_grp0.020.000.02
tail-methods000
tarReduce000
targetList0.000.020.01
tsea_dup_hyperG000
tsea_mGSEA0.000.010.02
tsea_mabs000
vec_char_redu000

signatureSearch.Rcheck/examples_x64/signatureSearch-Ex.timings

nameusersystemelapsed
add_pcid000
append2H50.060.000.06
build_custom_db0.270.010.28
cellNtestPlot0.260.020.28
cell_info0.080.010.09
chembl_moa_list0.020.000.02
clue_moa_list000
comp_fea_res0.150.000.16
create_empty_h50.020.000.01
dim-methods0.010.000.02
drug_cell_ranks000
drugs-methods000
drugs10000
dsea_GSEA000
dsea_hyperG0.000.020.02
dtnetplot3.770.144.22
enrichGO2000
enrichKEGG2000
enrichMOA0.050.000.04
enrichReactome000
feaResult000
gctx2h50.290.150.46
gessResult000
gess_cmap000
gess_cor000
gess_fisher000
gess_gcmap000
gess_lincs000
gess_res_vis0.240.000.23
getSig0.420.030.45
getTreats0.050.000.05
get_targets2.540.102.81
gmt2h50.100.060.38
gseGO2000
gseKEGG20.010.000.01
gseReactome000
head-methods0.010.000.02
lincs_expr_inst_info0.030.020.04
lincs_pert_info0.110.000.11
lincs_sig_info0.050.010.06
list2df000
mabsGO000
mabsKEGG0.000.020.02
mabsReactome0.010.000.01
matrix2h50.080.000.08
moa_conn0.030.000.03
parse_gctx0.090.000.09
qSig1.430.031.46
rand_query_ES2.570.112.68
read_gmt000
result-methods0.040.000.04
runWF26.32 1.2833.86
set_readable21.19 0.1421.64
show-methods0.010.000.02
sim_score_grp0.020.000.01
tail-methods0.010.000.02
tarReduce000
targetList000
tsea_dup_hyperG0.020.000.01
tsea_mGSEA000
tsea_mabs000
vec_char_redu000