![]() | Name | Last modified | Size | Description |
---|---|---|---|---|
![]() | Parent Directory | - | ||
![]() | install-summary.dcf | 14-Apr-2022 01:07 | 632 | |
![]() | install-out.txt | 14-Apr-2022 01:07 | 7.9K | |
![]() | buildsrc-out.txt | 14-Apr-2022 01:07 | 840 | |
![]() | buildsrc-summary.dcf | 14-Apr-2022 01:07 | 456 | |
![]() | checksrc-out.txt | 14-Apr-2022 01:07 | 8.6K | |
![]() | checksrc-summary.dcf | 14-Apr-2022 01:07 | 459 | |
![]() | buildbin-out.txt | 14-Apr-2022 01:07 | 7.3K | |
![]() | buildbin-summary.dcf | 14-Apr-2022 01:07 | 530 | |