Back to Multiple platform build/check report for BioC 3.14
ABCDEFGHIJKLMNOPQR[S]TUVWXYZ

This page was generated on 2021-11-26 15:06:06 -0500 (Fri, 26 Nov 2021).

BUILD BIN results for scmeth on machv2

To the developers/maintainers of the scmeth package:
- Please allow up to 24 hours (and sometimes 48 hours) for your latest push to git@git.bioconductor.org:packages/scmeth.git to
reflect on this report. See How and When does the builder pull? When will my changes propagate? here for more information.
- Make sure to use the following settings in order to reproduce any error or warning you see on this page.

raw results

Package 1731/2083HostnameOS / ArchINSTALLBUILDCHECKBUILD BIN
scmeth 1.14.0  (landing page)
Divy Kangeyan
Snapshot Date: 2021-11-25 04:15:05 -0500 (Thu, 25 Nov 2021)
git_url: https://git.bioconductor.org/packages/scmeth
git_branch: RELEASE_3_14
git_last_commit: cb59e2c
git_last_commit_date: 2021-10-26 12:41:54 -0500 (Tue, 26 Oct 2021)
nebbiolo2Linux (Ubuntu 20.04.3 LTS) / x86_64  OK    OK    OK  UNNEEDED, same version is already published
tokay2Windows Server 2012 R2 Standard / x64  OK    OK    OK    OK  UNNEEDED, same version is already published
machv2macOS 10.14.6 Mojave / x86_64  OK    OK    OK    OK  UNNEEDED, same version is already published

Summary

Package: scmeth
Version: 1.14.0
Command: rm -rf scmeth.buildbin-libdir && mkdir scmeth.buildbin-libdir && /Users/biocbuild/BBS/utils/build-universal.sh scmeth_1.14.0.tar.gz /Library/Frameworks/R.framework/Resources/bin/R scmeth.buildbin-libdir
StartedAt: 2021-11-26 01:47:22 -0500 (Fri, 26 Nov 2021)
EndedAt: 2021-11-26 01:48:31 -0500 (Fri, 26 Nov 2021)
EllapsedTime: 69.3 seconds
RetCode: 0
Status:   OK  
PackageFile: scmeth_1.14.0.tgz
PackageFileSize: 913.9 KiB

Command output

##############################################################################
##############################################################################
###
### Running command:
###
###   rm -rf scmeth.buildbin-libdir && mkdir scmeth.buildbin-libdir && /Users/biocbuild/BBS/utils/build-universal.sh scmeth_1.14.0.tar.gz /Library/Frameworks/R.framework/Resources/bin/R scmeth.buildbin-libdir
###
##############################################################################
##############################################################################


>>>>>>> 
>>>>>>> INSTALLATION WITH 'R CMD INSTALL --preclean --no-multiarch --library=scmeth.buildbin-libdir scmeth_1.14.0.tar.gz'
>>>>>>> 

* installing *source* package ‘scmeth’ ...
** using staged installation
** R
** inst
** byte-compile and prepare package for lazy loading
** help
*** installing help indices
** building package indices
** installing vignettes
** testing if installed package can be loaded from temporary location
** testing if installed package can be loaded from final location
** testing if installed package keeps a record of temporary installation path
* DONE (scmeth)