Index of /checkResults/3.14/bioc-LATEST/scde/raw-results/nebbiolo2

[ICO]NameLast modifiedSizeDescription

[DIR]Parent Directory  -  
[   ]checksrc-summary.dcf14-Apr-2022 01:05 418  
[TXT]checksrc-out.txt14-Apr-2022 01:05 29K 
[   ]buildsrc-summary.dcf14-Apr-2022 01:05 407  
[TXT]buildsrc-out.txt14-Apr-2022 01:05 737  
[   ]install-summary.dcf14-Apr-2022 01:05 253  
[TXT]install-out.txt14-Apr-2022 01:05 4.7K