Index of /checkResults/3.14/bioc-LATEST/scde/raw-results

[ICO]NameLast modifiedSizeDescription

[DIR]Parent Directory  -  
[   ]info.dcf27-Jan-2022 03:08 256  
[DIR]machv2/27-Jan-2022 03:08 -  
[DIR]nebbiolo2/27-Jan-2022 03:05 -  
[DIR]tokay2/27-Jan-2022 03:07 -