Back to Multiple platform build/check report for BioC 3.14
ABCDEFGHIJKLMNOPQR[S]TUVWXYZ

This page was generated on 2021-12-01 17:17:14 -0500 (Wed, 01 Dec 2021).

All results for package scater

To the developers/maintainers of the scater package:
- Please allow up to 24 hours (and sometimes 48 hours) for your latest push to git@git.bioconductor.org:packages/scater.git to
reflect on this report. See How and When does the builder pull? When will my changes propagate? here for more information.
- Make sure to use the following settings in order to reproduce any error or warning you see on this page.

raw results

Package 1710/2083HostnameOS / ArchINSTALLBUILDCHECKBUILD BIN
scater 1.22.0  (landing page)
Alan O'Callaghan
Snapshot Date: 2021-11-30 04:15:05 -0500 (Tue, 30 Nov 2021)
git_url: https://git.bioconductor.org/packages/scater
git_branch: RELEASE_3_14
git_last_commit: ea2c95c
git_last_commit_date: 2021-10-26 12:25:30 -0500 (Tue, 26 Oct 2021)
nebbiolo2Linux (Ubuntu 20.04.3 LTS) / x86_64  OK    OK    OK  UNNEEDED, same version is already published
tokay2Windows Server 2012 R2 Standard / x64  OK    OK    OK    OK  UNNEEDED, same version is already published
machv2macOS 10.14.6 Mojave / x86_64  OK    OK    OK    OK  UNNEEDED, same version is already published

Results for Bioconductor software packages that depend directly on package scater

QUICK STATSOS / ArchINSTALLBUILDCHECKBUILD BIN
nebbiolo2Linux (Ubuntu 20.04.3 LTS) / x86_64
0025
0124
00024
tokay2Windows Server 2012 R2 Standard / x64
0025
0124
01023
0024
machv2macOS 10.14.6 Mojave / x86_64
0025
0124
01023
0024
Package 1/25HostnameOS / ArchINSTALLBUILDCHECKBUILD BIN
airpart 1.2.0  (landing page)
Wancen Mu
git_last_commit: 62f2b32
git_last_commit_date: 2021-10-26 13:08:14 -0500
nebbiolo2Linux (Ubuntu 20.04.3 LTS) / x86_64  OK    OK    OK  UNNEEDED, same version is already published
tokay2Windows Server 2012 R2 Standard / x64  OK    OK    OK    OK  UNNEEDED, same version is already published
machv2macOS 10.14.6 Mojave / x86_64  OK    OK    OK    OK  UNNEEDED, same version is already published
Package 2/25HostnameOS / ArchINSTALLBUILDCHECKBUILD BIN
BayesSpace 1.4.1  (landing page)
Matt Stone
git_last_commit: c421c9d
git_last_commit_date: 2021-11-09 17:29:11 -0500
nebbiolo2Linux (Ubuntu 20.04.3 LTS) / x86_64  OK    OK    OK  UNNEEDED, same version is already published
tokay2Windows Server 2012 R2 Standard / x64  OK    OK    OK    OK  UNNEEDED, same version is already published
machv2macOS 10.14.6 Mojave / x86_64  OK    OK    OK    OK  UNNEEDED, same version is already published
Package 3/25HostnameOS / ArchINSTALLBUILDCHECKBUILD BIN
CATALYST 1.18.0  (landing page)
Helena L. Crowell
git_last_commit: aa3b9c4
git_last_commit_date: 2021-10-26 12:34:36 -0500
nebbiolo2Linux (Ubuntu 20.04.3 LTS) / x86_64  OK    OK    OK  UNNEEDED, same version is already published
tokay2Windows Server 2012 R2 Standard / x64  OK    OK    OK    OK  UNNEEDED, same version is already published
machv2macOS 10.14.6 Mojave / x86_64  OK    OK    OK    OK  UNNEEDED, same version is already published
Package 4/25HostnameOS / ArchINSTALLBUILDCHECKBUILD BIN
celda 1.10.0  (landing page)
Joshua Campbell
git_last_commit: fb720ad
git_last_commit_date: 2021-10-26 12:52:02 -0500
nebbiolo2Linux (Ubuntu 20.04.3 LTS) / x86_64  OK    OK    OK  UNNEEDED, same version is already published
tokay2Windows Server 2012 R2 Standard / x64  OK    OK    OK    OK  UNNEEDED, same version is already published
machv2macOS 10.14.6 Mojave / x86_64  OK    OK    OK    OK  UNNEEDED, same version is already published
Package 5/25HostnameOS / ArchINSTALLBUILDCHECKBUILD BIN
CelliD 1.2.0  (landing page)
Akira Cortal
git_last_commit: f2d8e5c
git_last_commit_date: 2021-10-26 13:07:52 -0500
nebbiolo2Linux (Ubuntu 20.04.3 LTS) / x86_64  OK    ERROR  skipped
tokay2Windows Server 2012 R2 Standard / x64  OK    ERROR  skippedskipped
machv2macOS 10.14.6 Mojave / x86_64  OK    ERROR  skippedskipped
Package 6/25HostnameOS / ArchINSTALLBUILDCHECKBUILD BIN
CellMixS 1.10.0  (landing page)
Almut Lütge
git_last_commit: 8690b35
git_last_commit_date: 2021-10-26 12:50:43 -0500
nebbiolo2Linux (Ubuntu 20.04.3 LTS) / x86_64  OK    OK    OK  UNNEEDED, same version is already published
tokay2Windows Server 2012 R2 Standard / x64  OK    OK    OK    OK  UNNEEDED, same version is already published
machv2macOS 10.14.6 Mojave / x86_64  OK    OK    OK    OK  UNNEEDED, same version is already published
Package 7/25HostnameOS / ArchINSTALLBUILDCHECKBUILD BIN
ChromSCape 1.4.0  (landing page)
Pacome Prompsy
git_last_commit: df9f2c5
git_last_commit_date: 2021-10-26 13:03:23 -0500
nebbiolo2Linux (Ubuntu 20.04.3 LTS) / x86_64  OK    OK    OK  UNNEEDED, same version is already published
tokay2Windows Server 2012 R2 Standard / x64  OK    OK    OK    OK  UNNEEDED, same version is already published
machv2macOS 10.14.6 Mojave / x86_64  OK    OK    OK    OK  UNNEEDED, same version is already published
Package 8/25HostnameOS / ArchINSTALLBUILDCHECKBUILD BIN
conclus 1.2.0  (landing page)
Ilyess Rachedi
git_last_commit: 6bc832f
git_last_commit_date: 2021-10-26 13:08:31 -0500
nebbiolo2Linux (Ubuntu 20.04.3 LTS) / x86_64  OK    OK    OK  UNNEEDED, same version is already published
tokay2Windows Server 2012 R2 Standard / x64  OK    OK    OK    OK  UNNEEDED, same version is already published
machv2macOS 10.14.6 Mojave / x86_64  OK    OK    OK    OK  UNNEEDED, same version is already published
Package 9/25HostnameOS / ArchINSTALLBUILDCHECKBUILD BIN
distinct 1.6.0  (landing page)
Simone Tiberi
git_last_commit: 52f192e
git_last_commit_date: 2021-10-26 12:58:40 -0500
nebbiolo2Linux (Ubuntu 20.04.3 LTS) / x86_64  OK    OK    OK  UNNEEDED, same version is already published
tokay2Windows Server 2012 R2 Standard / x64  OK    OK    OK    OK  UNNEEDED, same version is already published
machv2macOS 10.14.6 Mojave / x86_64  OK    OK    OK    OK  UNNEEDED, same version is already published
Package 10/25HostnameOS / ArchINSTALLBUILDCHECKBUILD BIN
FLAMES 1.0.2  (landing page)
Voogd Oliver
git_last_commit: e96c59c
git_last_commit_date: 2021-11-03 18:27:48 -0500
nebbiolo2Linux (Ubuntu 20.04.3 LTS) / x86_64  OK    OK    OK  UNNEEDED, same version is already published
tokay2Windows Server 2012 R2 Standard / x64  OK    OK    OK    OK  UNNEEDED, same version is already published
machv2macOS 10.14.6 Mojave / x86_64  OK    OK    OK    OK  UNNEEDED, same version is already published
Package 11/25HostnameOS / ArchINSTALLBUILDCHECKBUILD BIN
IRISFGM 1.2.0  (landing page)
Yuzhou Chang
git_last_commit: d9e123f
git_last_commit_date: 2021-10-26 13:07:08 -0500
nebbiolo2Linux (Ubuntu 20.04.3 LTS) / x86_64  OK    OK    OK  UNNEEDED, same version is already published
tokay2Windows Server 2012 R2 Standard / x64  OK    OK    OK    OK  UNNEEDED, same version is already published
machv2macOS 10.14.6 Mojave / x86_64  OK    OK    OK    OK  UNNEEDED, same version is already published
Package 12/25HostnameOS / ArchINSTALLBUILDCHECKBUILD BIN
mia 1.2.3  (landing page)
Felix G.M. Ernst
git_last_commit: 0c44333
git_last_commit_date: 2021-11-27 04:30:49 -0500
nebbiolo2Linux (Ubuntu 20.04.3 LTS) / x86_64  OK    OK    OK  UNNEEDED, same version is already published
tokay2Windows Server 2012 R2 Standard / x64  OK    OK    OK    OK  UNNEEDED, same version is already published
machv2macOS 10.14.6 Mojave / x86_64  OK    OK    ERROR    OK  
Package 13/25HostnameOS / ArchINSTALLBUILDCHECKBUILD BIN
miaViz 1.2.0  (landing page)
Felix G.M. Ernst
git_last_commit: 9142790
git_last_commit_date: 2021-10-26 13:08:12 -0500
nebbiolo2Linux (Ubuntu 20.04.3 LTS) / x86_64  OK    OK    OK  UNNEEDED, same version is already published
tokay2Windows Server 2012 R2 Standard / x64  OK    OK    OK    OK  UNNEEDED, same version is already published
machv2macOS 10.14.6 Mojave / x86_64  OK    OK    OK    OK  UNNEEDED, same version is already published
Package 14/25HostnameOS / ArchINSTALLBUILDCHECKBUILD BIN
muscat 1.8.0  (landing page)
Helena L. Crowell
git_last_commit: 952747b
git_last_commit_date: 2021-10-26 12:53:47 -0500
nebbiolo2Linux (Ubuntu 20.04.3 LTS) / x86_64  OK    OK    OK  UNNEEDED, same version is already published
tokay2Windows Server 2012 R2 Standard / x64  OK    OK    OK    OK  UNNEEDED, same version is already published
machv2macOS 10.14.6 Mojave / x86_64  OK    OK    OK    OK  UNNEEDED, same version is already published
Package 15/25HostnameOS / ArchINSTALLBUILDCHECKBUILD BIN
netSmooth 1.14.0  (landing page)
Jonathan Ronen
git_last_commit: 1cbeacd
git_last_commit_date: 2021-10-26 12:44:44 -0500
nebbiolo2Linux (Ubuntu 20.04.3 LTS) / x86_64  OK    OK    OK  UNNEEDED, same version is already published
tokay2Windows Server 2012 R2 Standard / x64  OK    OK    OK    OK  UNNEEDED, same version is already published
machv2macOS 10.14.6 Mojave / x86_64  OK    OK    OK    OK  NO, package depends on 'clusterExperiment' which is not available
Package 16/25HostnameOS / ArchINSTALLBUILDCHECKBUILD BIN
peco 1.6.0  (landing page)
Chiaowen Joyce Hsiao
git_last_commit: bbd7e91
git_last_commit_date: 2021-10-26 12:58:28 -0500
nebbiolo2Linux (Ubuntu 20.04.3 LTS) / x86_64  OK    OK    OK  UNNEEDED, same version is already published
tokay2Windows Server 2012 R2 Standard / x64  OK    OK    OK    OK  UNNEEDED, same version is already published
machv2macOS 10.14.6 Mojave / x86_64  OK    OK    OK    OK  UNNEEDED, same version is already published
Package 17/25HostnameOS / ArchINSTALLBUILDCHECKBUILD BIN
pipeComp 1.4.0  (landing page)
Pierre-Luc Germain
git_last_commit: 79b7c02
git_last_commit_date: 2021-10-26 13:00:42 -0500
nebbiolo2Linux (Ubuntu 20.04.3 LTS) / x86_64  OK    OK    OK  UNNEEDED, same version is already published
tokay2Windows Server 2012 R2 Standard / x64  OK    OK    OK    OK  UNNEEDED, same version is already published
machv2macOS 10.14.6 Mojave / x86_64  OK    OK    OK    OK  UNNEEDED, same version is already published
Package 18/25HostnameOS / ArchINSTALLBUILDCHECKBUILD BIN
scDblFinder 1.8.0  (landing page)
Pierre-Luc Germain
git_last_commit: bd1331d
git_last_commit_date: 2021-10-26 12:55:40 -0500
nebbiolo2Linux (Ubuntu 20.04.3 LTS) / x86_64  OK    OK    OK  UNNEEDED, same version is already published
tokay2Windows Server 2012 R2 Standard / x64  OK    OK    OK    OK  UNNEEDED, same version is already published
machv2macOS 10.14.6 Mojave / x86_64  OK    OK    OK    OK  UNNEEDED, same version is already published
Package 19/25HostnameOS / ArchINSTALLBUILDCHECKBUILD BIN
scPipe 1.16.0  (landing page)
Luyi Tian
git_last_commit: 49f8032
git_last_commit_date: 2021-10-26 12:39:05 -0500
nebbiolo2Linux (Ubuntu 20.04.3 LTS) / x86_64  OK    OK    OK  UNNEEDED, same version is already published
tokay2Windows Server 2012 R2 Standard / x64  OK    OK    OK    OK  UNNEEDED, same version is already published
machv2macOS 10.14.6 Mojave / x86_64  OK    OK    OK    OK  UNNEEDED, same version is already published
Package 20/25HostnameOS / ArchINSTALLBUILDCHECKBUILD BIN
scTreeViz 1.0.0  (landing page)
Jayaram Kancherla
git_last_commit: 7eb447c
git_last_commit_date: 2021-10-26 13:12:52 -0500
nebbiolo2Linux (Ubuntu 20.04.3 LTS) / x86_64  OK    OK    OK  UNNEEDED, same version is already published
tokay2Windows Server 2012 R2 Standard / x64  OK    OK    OK    OK  UNNEEDED, same version is already published
machv2macOS 10.14.6 Mojave / x86_64  OK    OK    OK    OK  UNNEEDED, same version is already published
Package 21/25HostnameOS / ArchINSTALLBUILDCHECKBUILD BIN
singleCellTK 2.4.0  (landing page)
Yichen Wang
git_last_commit: 91f98fc
git_last_commit_date: 2021-10-27 11:24:49 -0500
nebbiolo2Linux (Ubuntu 20.04.3 LTS) / x86_64  OK    OK    OK  UNNEEDED, same version is already published
tokay2Windows Server 2012 R2 Standard / x64  OK    OK    ERROR    OK  
machv2macOS 10.14.6 Mojave / x86_64  OK    OK    OK    OK  UNNEEDED, same version is already published
Package 22/25HostnameOS / ArchINSTALLBUILDCHECKBUILD BIN
Spaniel 1.8.0  (landing page)
Rachel Queen
git_last_commit: 4a69e26
git_last_commit_date: 2021-10-26 12:54:30 -0500
nebbiolo2Linux (Ubuntu 20.04.3 LTS) / x86_64  OK    OK    OK  UNNEEDED, same version is already published
tokay2Windows Server 2012 R2 Standard / x64  OK    OK    OK    OK  UNNEEDED, same version is already published
machv2macOS 10.14.6 Mojave / x86_64  OK    OK    OK    OK  UNNEEDED, same version is already published
Package 23/25HostnameOS / ArchINSTALLBUILDCHECKBUILD BIN
splatter 1.18.1  (landing page)
Luke Zappia
git_last_commit: aeb27ea
git_last_commit_date: 2021-11-02 06:29:40 -0500
nebbiolo2Linux (Ubuntu 20.04.3 LTS) / x86_64  OK    OK    OK  UNNEEDED, same version is already published
tokay2Windows Server 2012 R2 Standard / x64  OK    OK    OK    OK  UNNEEDED, same version is already published
machv2macOS 10.14.6 Mojave / x86_64  OK    OK    OK    OK  UNNEEDED, same version is already published
Package 24/25HostnameOS / ArchINSTALLBUILDCHECKBUILD BIN
tricycle 1.2.0  (landing page)
Shijie Zheng
git_last_commit: 6f24449
git_last_commit_date: 2021-10-26 13:08:50 -0500
nebbiolo2Linux (Ubuntu 20.04.3 LTS) / x86_64  OK    OK    OK  UNNEEDED, same version is already published
tokay2Windows Server 2012 R2 Standard / x64  OK    OK    OK    OK  UNNEEDED, same version is already published
machv2macOS 10.14.6 Mojave / x86_64  OK    OK    OK    OK  UNNEEDED, same version is already published
Package 25/25HostnameOS / ArchINSTALLBUILDCHECKBUILD BIN
VAExprs 1.0.0  (landing page)
Dongmin Jung
git_last_commit: f8d77f1
git_last_commit_date: 2021-10-26 13:11:30 -0500
nebbiolo2Linux (Ubuntu 20.04.3 LTS) / x86_64  OK    OK    OK  UNNEEDED, same version is already published
tokay2Windows Server 2012 R2 Standard / x64  OK    OK    OK    OK  UNNEEDED, same version is already published
machv2macOS 10.14.6 Mojave / x86_64  OK    OK    OK    OK  UNNEEDED, same version is already published