Back to Multiple platform build/check report for BioC 3.14
ABCDEFGHIJKLMNOPQR[S]TUVWXYZ

This page was generated on 2021-11-29 15:06:10 -0500 (Mon, 29 Nov 2021).

BUILD BIN results for scanMiRApp on machv2

To the developers/maintainers of the scanMiRApp package:
- Please allow up to 24 hours (and sometimes 48 hours) for your latest push to git@git.bioconductor.org:packages/scanMiRApp.git to
reflect on this report. See How and When does the builder pull? When will my changes propagate? here for more information.
- Make sure to use the following settings in order to reproduce any error or warning you see on this page.

raw results

Package 1705/2083HostnameOS / ArchINSTALLBUILDCHECKBUILD BIN
scanMiRApp 1.0.0  (landing page)
Pierre-Luc Germain
Snapshot Date: 2021-11-28 04:15:06 -0500 (Sun, 28 Nov 2021)
git_url: https://git.bioconductor.org/packages/scanMiRApp
git_branch: RELEASE_3_14
git_last_commit: 71c1334
git_last_commit_date: 2021-10-26 13:11:39 -0500 (Tue, 26 Oct 2021)
nebbiolo2Linux (Ubuntu 20.04.3 LTS) / x86_64  OK    OK    OK  UNNEEDED, same version is already published
tokay2Windows Server 2012 R2 Standard / x64  OK    OK    OK    OK  UNNEEDED, same version is already published
machv2macOS 10.14.6 Mojave / x86_64  OK    OK    OK    OK  UNNEEDED, same version is already published

Summary

Package: scanMiRApp
Version: 1.0.0
Command: rm -rf scanMiRApp.buildbin-libdir && mkdir scanMiRApp.buildbin-libdir && /Users/biocbuild/BBS/utils/build-universal.sh scanMiRApp_1.0.0.tar.gz /Library/Frameworks/R.framework/Resources/bin/R scanMiRApp.buildbin-libdir
StartedAt: 2021-11-29 01:27:11 -0500 (Mon, 29 Nov 2021)
EndedAt: 2021-11-29 01:28:20 -0500 (Mon, 29 Nov 2021)
EllapsedTime: 68.7 seconds
RetCode: 0
Status:   OK  
PackageFile: scanMiRApp_1.0.0.tgz
PackageFileSize: 967.3 KiB

Command output

##############################################################################
##############################################################################
###
### Running command:
###
###   rm -rf scanMiRApp.buildbin-libdir && mkdir scanMiRApp.buildbin-libdir && /Users/biocbuild/BBS/utils/build-universal.sh scanMiRApp_1.0.0.tar.gz /Library/Frameworks/R.framework/Resources/bin/R scanMiRApp.buildbin-libdir
###
##############################################################################
##############################################################################


>>>>>>> 
>>>>>>> INSTALLATION WITH 'R CMD INSTALL --preclean --no-multiarch --library=scanMiRApp.buildbin-libdir scanMiRApp_1.0.0.tar.gz'
>>>>>>> 

* installing *source* package ‘scanMiRApp’ ...
** using staged installation
** R
** inst
** byte-compile and prepare package for lazy loading
** help
*** installing help indices
** building package indices
** installing vignettes
** testing if installed package can be loaded from temporary location
** testing if installed package can be loaded from final location
** testing if installed package keeps a record of temporary installation path
* DONE (scanMiRApp)