Back to Multiple platform build/check report for BioC 3.14
ABCDEFGHIJKLMNOPQR[S]TUVWXYZ

This page was generated on 2022-01-19 13:07:19 -0500 (Wed, 19 Jan 2022).

HostnameOSArch (*)R versionInstalled pkgs
nebbiolo2Linux (Ubuntu 20.04.4 LTS)x86_644.1.2 (2021-11-01) -- "Bird Hippie" 4328
tokay2Windows Server 2012 R2 Standardx644.1.2 (2021-11-01) -- "Bird Hippie" 4077
machv2macOS 10.14.6 Mojavex86_644.1.2 (2021-11-01) -- "Bird Hippie" 4138
Click on any hostname to see more info about the system (e.g. compilers)      (*) as reported by 'uname -p', except on Windows and Mac OS X

INSTALL results for scanMiR on tokay2


To the developers/maintainers of the scanMiR package:
- Please allow up to 24 hours (and sometimes 48 hours) for your latest push to git@git.bioconductor.org:packages/scanMiR.git to
reflect on this report. See How and When does the builder pull? When will my changes propagate? here for more information.
- Make sure to use the following settings in order to reproduce any error or warning you see on this page.

raw results

Package 1704/2083HostnameOS / ArchINSTALLBUILDCHECKBUILD BIN
scanMiR 1.0.0  (landing page)
Fridolin Gross
Snapshot Date: 2022-01-18 01:55:07 -0500 (Tue, 18 Jan 2022)
git_url: https://git.bioconductor.org/packages/scanMiR
git_branch: RELEASE_3_14
git_last_commit: 91f9c75
git_last_commit_date: 2021-10-26 13:11:11 -0500 (Tue, 26 Oct 2021)
nebbiolo2Linux (Ubuntu 20.04.4 LTS) / x86_64  OK    OK    OK  UNNEEDED, same version is already published
tokay2Windows Server 2012 R2 Standard / x64  OK    OK    OK    OK  UNNEEDED, same version is already published
machv2macOS 10.14.6 Mojave / x86_64  OK    OK    OK    OK  UNNEEDED, same version is already published

Summary

Package: scanMiR
Version: 1.0.0
Command: C:\cygwin\bin\curl.exe -O http://155.52.207.166/BBS/3.14/bioc/src/contrib/scanMiR_1.0.0.tar.gz && rm -rf scanMiR.buildbin-libdir && mkdir scanMiR.buildbin-libdir && C:\Users\biocbuild\bbs-3.14-bioc\R\bin\R.exe CMD INSTALL --merge-multiarch --build --library=scanMiR.buildbin-libdir scanMiR_1.0.0.tar.gz && C:\Users\biocbuild\bbs-3.14-bioc\R\bin\R.exe CMD INSTALL scanMiR_1.0.0.zip && rm scanMiR_1.0.0.tar.gz scanMiR_1.0.0.zip
StartedAt: 2022-01-18 04:48:43 -0500 (Tue, 18 Jan 2022)
EndedAt: 2022-01-18 04:50:23 -0500 (Tue, 18 Jan 2022)
EllapsedTime: 99.7 seconds
RetCode: 0
Status:   OK  

Command output

##############################################################################
##############################################################################
###
### Running command:
###
###   C:\cygwin\bin\curl.exe -O http://155.52.207.166/BBS/3.14/bioc/src/contrib/scanMiR_1.0.0.tar.gz && rm -rf scanMiR.buildbin-libdir && mkdir scanMiR.buildbin-libdir && C:\Users\biocbuild\bbs-3.14-bioc\R\bin\R.exe CMD INSTALL --merge-multiarch --build --library=scanMiR.buildbin-libdir scanMiR_1.0.0.tar.gz && C:\Users\biocbuild\bbs-3.14-bioc\R\bin\R.exe CMD INSTALL scanMiR_1.0.0.zip && rm scanMiR_1.0.0.tar.gz scanMiR_1.0.0.zip
###
##############################################################################
##############################################################################


  % Total    % Received % Xferd  Average Speed   Time    Time     Time  Current
                                 Dload  Upload   Total   Spent    Left  Speed

  0     0    0     0    0     0      0      0 --:--:-- --:--:-- --:--:--     0
100 47663  100 47663    0     0   431k      0 --:--:-- --:--:-- --:--:--  435k

install for i386

* installing *source* package 'scanMiR' ...
** using staged installation
** R
** data
** inst
** byte-compile and prepare package for lazy loading
** help
*** installing help indices
  converting help for package 'scanMiR'
    finding HTML links ... done
    KdModel                                 html  
    KdModelList-methods                     html  
    KdModelList                             html  
    SampleKdModel                           html  
    SampleTranscript                        html  
    aggregateMatches                        html  
    finding level-2 HTML links ... done

    assignKdType                            html  
    conservation                            html  
    dummyKdData                             html  
    findSeedMatches                         html  
    get3pAlignment                          html  
    get8merRange                            html  
    getKdModel                              html  
    getKmers                                html  
    getMatchTypes                           html  
    getRandomSeq                            html  
    getSeed8mers                            html  
    plotKdModel                             html  
    removeOverlappingRanges                 html  
    viewTargetAlignment                     html  
** building package indices
** installing vignettes
** testing if installed package can be loaded from temporary location
** testing if installed package can be loaded from final location
** testing if installed package keeps a record of temporary installation path

install for x64

* installing *source* package 'scanMiR' ...
** testing if installed package can be loaded
* MD5 sums
packaged installation of 'scanMiR' as scanMiR_1.0.0.zip
* DONE (scanMiR)
* installing to library 'C:/Users/biocbuild/bbs-3.14-bioc/R/library'
package 'scanMiR' successfully unpacked and MD5 sums checked