Back to Multiple platform build/check report for BioC 3.14
ABCDEFGHIJKLMNOPQR[S]TUVWXYZ

This page was generated on 2022-01-14 13:07:08 -0500 (Fri, 14 Jan 2022).

HostnameOSArch (*)R versionInstalled pkgs
nebbiolo2Linux (Ubuntu 20.04.4 LTS)x86_644.1.2 (2021-11-01) -- "Bird Hippie" 4327
tokay2Windows Server 2012 R2 Standardx644.1.2 (2021-11-01) -- "Bird Hippie" 4076
machv2macOS 10.14.6 Mojavex86_644.1.2 (2021-11-01) -- "Bird Hippie" 4137
Click on any hostname to see more info about the system (e.g. compilers)      (*) as reported by 'uname -p', except on Windows and Mac OS X

CHECK results for scPipe on tokay2


To the developers/maintainers of the scPipe package:
- Please allow up to 24 hours (and sometimes 48 hours) for your latest push to git@git.bioconductor.org:packages/scPipe.git to
reflect on this report. See How and When does the builder pull? When will my changes propagate? here for more information.
- Make sure to use the following settings in order to reproduce any error or warning you see on this page.

raw results

Package 1739/2083HostnameOS / ArchINSTALLBUILDCHECKBUILD BIN
scPipe 1.16.0  (landing page)
Luyi Tian
Snapshot Date: 2022-01-13 01:55:04 -0500 (Thu, 13 Jan 2022)
git_url: https://git.bioconductor.org/packages/scPipe
git_branch: RELEASE_3_14
git_last_commit: 49f8032
git_last_commit_date: 2021-10-26 12:39:05 -0500 (Tue, 26 Oct 2021)
nebbiolo2Linux (Ubuntu 20.04.4 LTS) / x86_64  OK    OK    OK  UNNEEDED, same version is already published
tokay2Windows Server 2012 R2 Standard / x64  OK    OK    OK    OK  UNNEEDED, same version is already published
machv2macOS 10.14.6 Mojave / x86_64  OK    OK    OK    OK  UNNEEDED, same version is already published

Summary

Package: scPipe
Version: 1.16.0
Command: set _R_CHECK_FORCE_SUGGESTS_=0&& C:\Users\biocbuild\bbs-3.14-bioc\R\bin\R.exe CMD check --force-multiarch --install=check:scPipe.install-out.txt --library=C:\Users\biocbuild\bbs-3.14-bioc\R\library --no-vignettes --timings scPipe_1.16.0.tar.gz
StartedAt: 2022-01-14 01:57:07 -0500 (Fri, 14 Jan 2022)
EndedAt: 2022-01-14 02:03:37 -0500 (Fri, 14 Jan 2022)
EllapsedTime: 389.6 seconds
RetCode: 0
Status:   OK  
CheckDir: scPipe.Rcheck
Warnings: 0

Command output

##############################################################################
##############################################################################
###
### Running command:
###
###   set _R_CHECK_FORCE_SUGGESTS_=0&& C:\Users\biocbuild\bbs-3.14-bioc\R\bin\R.exe CMD check --force-multiarch --install=check:scPipe.install-out.txt --library=C:\Users\biocbuild\bbs-3.14-bioc\R\library --no-vignettes --timings scPipe_1.16.0.tar.gz
###
##############################################################################
##############################################################################


* using log directory 'C:/Users/biocbuild/bbs-3.14-bioc/meat/scPipe.Rcheck'
* using R version 4.1.2 (2021-11-01)
* using platform: x86_64-w64-mingw32 (64-bit)
* using session charset: ISO8859-1
* using option '--no-vignettes'
* checking for file 'scPipe/DESCRIPTION' ... OK
* checking extension type ... Package
* this is package 'scPipe' version '1.16.0'
* package encoding: UTF-8
* checking package namespace information ... OK
* checking package dependencies ... OK
* checking if this is a source package ... OK
* checking if there is a namespace ... OK
* checking for hidden files and directories ... NOTE
Found the following hidden files and directories:
  .BBSoptions
These were most likely included in error. See section 'Package
structure' in the 'Writing R Extensions' manual.
* checking for portable file names ... OK
* checking whether package 'scPipe' can be installed ... OK
* checking installed package size ... NOTE
  installed size is 10.1Mb
  sub-directories of 1Mb or more:
    libs   8.4Mb
* checking package directory ... OK
* checking 'build' directory ... OK
* checking DESCRIPTION meta-information ... OK
* checking top-level files ... OK
* checking for left-over files ... OK
* checking index information ... OK
* checking package subdirectories ... OK
* checking R files for non-ASCII characters ... OK
* checking R files for syntax errors ... OK
* loading checks for arch 'i386'
** checking whether the package can be loaded ... OK
** checking whether the package can be loaded with stated dependencies ... OK
** checking whether the package can be unloaded cleanly ... OK
** checking whether the namespace can be loaded with stated dependencies ... OK
** checking whether the namespace can be unloaded cleanly ... OK
* loading checks for arch 'x64'
** checking whether the package can be loaded ... OK
** checking whether the package can be loaded with stated dependencies ... OK
** checking whether the package can be unloaded cleanly ... OK
** checking whether the namespace can be loaded with stated dependencies ... OK
** checking whether the namespace can be unloaded cleanly ... OK
* checking dependencies in R code ... NOTE
Namespace in Imports field not imported from: 'scater'
  All declared Imports should be used.
* checking S3 generic/method consistency ... OK
* checking replacement functions ... OK
* checking foreign function calls ... OK
* checking R code for possible problems ... NOTE
anno_to_saf: no visible binding for global variable 'GeneID'
convert_geneid: no visible global function definition for 'useMart'
get_genes_by_GO: no visible global function definition for 'useMart'
infer_gene_id_from_parent: no visible binding for global variable
  'type'
plot_demultiplex: no visible binding for global variable 'status'
plot_demultiplex: no visible binding for global variable 'count'
plot_demultiplex: no visible binding for global variable 'label_y'
plot_demultiplex: no visible binding for global variable 'label_tx'
Undefined global functions or variables:
  GeneID count label_tx label_y status type useMart
* checking Rd files ... OK
* checking Rd metadata ... OK
* checking Rd cross-references ... OK
* checking for missing documentation entries ... OK
* checking for code/documentation mismatches ... OK
* checking Rd \usage sections ... OK
* checking Rd contents ... OK
* checking for unstated dependencies in examples ... OK
* checking contents of 'data' directory ... OK
* checking data for non-ASCII characters ... OK
* checking data for ASCII and uncompressed saves ... OK
* checking line endings in C/C++/Fortran sources/headers ... OK
* checking line endings in Makefiles ... OK
* checking compilation flags in Makevars ... OK
* checking for GNU extensions in Makefiles ... NOTE
GNU make is a SystemRequirements.
* checking for portable use of $(BLAS_LIBS) and $(LAPACK_LIBS) ... OK
* checking use of PKG_*FLAGS in Makefiles ... OK
* checking compiled code ... NOTE
Note: information on .o files for i386 is not available
Note: information on .o files for x64 is not available
File 'C:/Users/biocbuild/bbs-3.14-bioc/R/library/scPipe/libs/i386/scPipe.dll':
  Found '_exit', possibly from '_exit' (C)
  Found 'abort', possibly from 'abort' (C), 'runtime' (Fortran)
  Found 'exit', possibly from 'exit' (C), 'stop' (Fortran)
  Found 'printf', possibly from 'printf' (C)
  Found 'putchar', possibly from 'putchar' (C)
  Found 'puts', possibly from 'printf' (C), 'puts' (C)
  Found 'rand', possibly from 'rand' (C)
File 'C:/Users/biocbuild/bbs-3.14-bioc/R/library/scPipe/libs/x64/scPipe.dll':
  Found '_exit', possibly from '_exit' (C)
  Found 'abort', possibly from 'abort' (C), 'runtime' (Fortran)
  Found 'exit', possibly from 'exit' (C), 'stop' (Fortran)
  Found 'printf', possibly from 'printf' (C)
  Found 'putchar', possibly from 'putchar' (C)
  Found 'puts', possibly from 'printf' (C), 'puts' (C)
  Found 'rand', possibly from 'rand' (C)

Compiled code should not call entry points which might terminate R nor
write to stdout/stderr instead of to the console, nor use Fortran I/O
nor system RNGs. The detected symbols are linked into the code but
might come from libraries and not actually be called.

See 'Writing portable packages' in the 'Writing R Extensions' manual.
* checking files in 'vignettes' ... OK
* checking examples ...
** running examples for arch 'i386' ... OK
Examples with CPU (user + system) or elapsed time > 5s
                     user system elapsed
calculate_QC_metrics 4.36   0.11    7.49
** running examples for arch 'x64' ... OK
Examples with CPU (user + system) or elapsed time > 5s
               user system elapsed
plot_QC_pairs  6.28   0.03    6.31
sc_sample_data 5.25   0.00    5.25
* checking for unstated dependencies in 'tests' ... OK
* checking tests ...
** running tests for arch 'i386' ...
  Running 'testthat.R'
 OK
** running tests for arch 'x64' ...
  Running 'testthat.R'
 OK
* checking for unstated dependencies in vignettes ... OK
* checking package vignettes in 'inst/doc' ... OK
* checking running R code from vignettes ... SKIPPED
* checking re-building of vignette outputs ... SKIPPED
* checking PDF version of manual ... OK
* DONE

Status: 6 NOTEs
See
  'C:/Users/biocbuild/bbs-3.14-bioc/meat/scPipe.Rcheck/00check.log'
for details.



Installation output

scPipe.Rcheck/00install.out

##############################################################################
##############################################################################
###
### Running command:
###
###   C:\cygwin\bin\curl.exe -O http://155.52.207.166/BBS/3.14/bioc/src/contrib/scPipe_1.16.0.tar.gz && rm -rf scPipe.buildbin-libdir && mkdir scPipe.buildbin-libdir && C:\Users\biocbuild\bbs-3.14-bioc\R\bin\R.exe CMD INSTALL --merge-multiarch --build --library=scPipe.buildbin-libdir scPipe_1.16.0.tar.gz && C:\Users\biocbuild\bbs-3.14-bioc\R\bin\R.exe CMD INSTALL scPipe_1.16.0.zip && rm scPipe_1.16.0.tar.gz scPipe_1.16.0.zip
###
##############################################################################
##############################################################################


  % Total    % Received % Xferd  Average Speed   Time    Time     Time  Current
                                 Dload  Upload   Total   Spent    Left  Speed

  0     0    0     0    0     0      0      0 --:--:-- --:--:-- --:--:--     0
100  958k  100  958k    0     0  3617k      0 --:--:-- --:--:-- --:--:-- 3628k

install for i386

* installing *source* package 'scPipe' ...
** using staged installation
** libs
"C:/rtools40/mingw32/bin/"g++  -std=gnu++11 -I"C:/Users/biocbuild/bbs-3.14-bioc/R/library/zlibbioc/include" -I"C:/Users/BIOCBU~1/BBS-3~1.14-/R/include" -DNDEBUG -D_FILE_OFFSET_BITS=64 -I'C:/Users/biocbuild/bbs-3.14-bioc/R/library/Rcpp/include' -I'C:/Users/biocbuild/bbs-3.14-bioc/R/library/Rhtslib/include' -I'C:/Users/biocbuild/bbs-3.14-bioc/R/library/zlibbioc/include' -I'C:/Users/biocbuild/bbs-3.14-bioc/R/library/testthat/include'   -I"C:/extsoft/include"     -O2 -Wall  -mfpmath=sse -msse2 -mstackrealign  -c Gene.cpp -o Gene.o
Gene.cpp: In member function 'void Gene::flatten_exon()':
Gene.cpp:105:24: warning: comparison of integer expressions of different signedness: 'int' and 'std::vector<Interval>::size_type' {aka 'unsigned int'} [-Wsign-compare]
     for (auto i = 1; i < exon_vec.size(); i++)
                      ~~^~~~~~~~~~~~~~~~~
Gene.cpp: In function 'std::ostream& operator<<(std::ostream&, const Gene&)':
Gene.cpp:130:23: warning: comparison of integer expressions of different signedness: 'int' and 'std::vector<Interval>::size_type' {aka 'unsigned int'} [-Wsign-compare]
     for (int i = 0; i < obj.exon_vec.size(); ++i)
                     ~~^~~~~~~~~~~~~~~~~~~~~
"C:/rtools40/mingw32/bin/"g++  -std=gnu++11 -I"C:/Users/biocbuild/bbs-3.14-bioc/R/library/zlibbioc/include" -I"C:/Users/BIOCBU~1/BBS-3~1.14-/R/include" -DNDEBUG -D_FILE_OFFSET_BITS=64 -I'C:/Users/biocbuild/bbs-3.14-bioc/R/library/Rcpp/include' -I'C:/Users/biocbuild/bbs-3.14-bioc/R/library/Rhtslib/include' -I'C:/Users/biocbuild/bbs-3.14-bioc/R/library/zlibbioc/include' -I'C:/Users/biocbuild/bbs-3.14-bioc/R/library/testthat/include'   -I"C:/extsoft/include"     -O2 -Wall  -mfpmath=sse -msse2 -mstackrealign  -c Interval.cpp -o Interval.o
"C:/rtools40/mingw32/bin/"g++  -std=gnu++11 -I"C:/Users/biocbuild/bbs-3.14-bioc/R/library/zlibbioc/include" -I"C:/Users/BIOCBU~1/BBS-3~1.14-/R/include" -DNDEBUG -D_FILE_OFFSET_BITS=64 -I'C:/Users/biocbuild/bbs-3.14-bioc/R/library/Rcpp/include' -I'C:/Users/biocbuild/bbs-3.14-bioc/R/library/Rhtslib/include' -I'C:/Users/biocbuild/bbs-3.14-bioc/R/library/zlibbioc/include' -I'C:/Users/biocbuild/bbs-3.14-bioc/R/library/testthat/include'   -I"C:/extsoft/include"     -O2 -Wall  -mfpmath=sse -msse2 -mstackrealign  -c RcppExports.cpp -o RcppExports.o
"C:/rtools40/mingw32/bin/"g++  -std=gnu++11 -I"C:/Users/biocbuild/bbs-3.14-bioc/R/library/zlibbioc/include" -I"C:/Users/BIOCBU~1/BBS-3~1.14-/R/include" -DNDEBUG -D_FILE_OFFSET_BITS=64 -I'C:/Users/biocbuild/bbs-3.14-bioc/R/library/Rcpp/include' -I'C:/Users/biocbuild/bbs-3.14-bioc/R/library/Rhtslib/include' -I'C:/Users/biocbuild/bbs-3.14-bioc/R/library/zlibbioc/include' -I'C:/Users/biocbuild/bbs-3.14-bioc/R/library/testthat/include'   -I"C:/extsoft/include"     -O2 -Wall  -mfpmath=sse -msse2 -mstackrealign  -c cellbarcode.cpp -o cellbarcode.o
cellbarcode.cpp: In member function 'std::__cxx11::string Barcode::get_closest_match(const string&, int)':
cellbarcode.cpp:77:23: warning: comparison of integer expressions of different signedness: 'int' and 'std::vector<std::__cxx11::basic_string<char> >::size_type' {aka 'unsigned int'} [-Wsign-compare]
     for (int i = 0; i < barcode_list.size(); i++)
                     ~~^~~~~~~~~~~~~~~~~~~~~
cellbarcode.cpp:82:23: warning: comparison of integer expressions of different signedness: 'int' and 'std::vector<int>::size_type' {aka 'unsigned int'} [-Wsign-compare]
     for (int i = 0; i < hamming_dists.size(); i++)
                     ~~^~~~~~~~~~~~~~~~~~~~~~
"C:/rtools40/mingw32/bin/"g++  -std=gnu++11 -I"C:/Users/biocbuild/bbs-3.14-bioc/R/library/zlibbioc/include" -I"C:/Users/BIOCBU~1/BBS-3~1.14-/R/include" -DNDEBUG -D_FILE_OFFSET_BITS=64 -I'C:/Users/biocbuild/bbs-3.14-bioc/R/library/Rcpp/include' -I'C:/Users/biocbuild/bbs-3.14-bioc/R/library/Rhtslib/include' -I'C:/Users/biocbuild/bbs-3.14-bioc/R/library/zlibbioc/include' -I'C:/Users/biocbuild/bbs-3.14-bioc/R/library/testthat/include'   -I"C:/extsoft/include"     -O2 -Wall  -mfpmath=sse -msse2 -mstackrealign  -c detect_barcode.cpp -o detect_barcode.o
"C:/rtools40/mingw32/bin/"g++  -std=gnu++11 -I"C:/Users/biocbuild/bbs-3.14-bioc/R/library/zlibbioc/include" -I"C:/Users/BIOCBU~1/BBS-3~1.14-/R/include" -DNDEBUG -D_FILE_OFFSET_BITS=64 -I'C:/Users/biocbuild/bbs-3.14-bioc/R/library/Rcpp/include' -I'C:/Users/biocbuild/bbs-3.14-bioc/R/library/Rhtslib/include' -I'C:/Users/biocbuild/bbs-3.14-bioc/R/library/zlibbioc/include' -I'C:/Users/biocbuild/bbs-3.14-bioc/R/library/testthat/include'   -I"C:/extsoft/include"     -O2 -Wall  -mfpmath=sse -msse2 -mstackrealign  -c parsebam.cpp -o parsebam.o
parsebam.cpp: In member function 'int Bamdemultiplex::clean_bam_barcode(std::__cxx11::string, std::__cxx11::string, int, int)':
parsebam.cpp:78:9: warning: variable 'hts_retcode' set but not used [-Wunused-but-set-variable]
     int hts_retcode;
         ^~~~~~~~~~~
parsebam.cpp:116:9: warning: unused variable 'map_status' [-Wunused-variable]
     int map_status;
         ^~~~~~~~~~
"C:/rtools40/mingw32/bin/"g++  -std=gnu++11 -I"C:/Users/biocbuild/bbs-3.14-bioc/R/library/zlibbioc/include" -I"C:/Users/BIOCBU~1/BBS-3~1.14-/R/include" -DNDEBUG -D_FILE_OFFSET_BITS=64 -I'C:/Users/biocbuild/bbs-3.14-bioc/R/library/Rcpp/include' -I'C:/Users/biocbuild/bbs-3.14-bioc/R/library/Rhtslib/include' -I'C:/Users/biocbuild/bbs-3.14-bioc/R/library/zlibbioc/include' -I'C:/Users/biocbuild/bbs-3.14-bioc/R/library/testthat/include'   -I"C:/extsoft/include"     -O2 -Wall  -mfpmath=sse -msse2 -mstackrealign  -c parsecount.cpp -o parsecount.o
parsecount.cpp: In function 'void write_stat(std::__cxx11::string, std::__cxx11::string, std::vector<int>, std::unordered_map<std::__cxx11::basic_string<char>, UMI_dedup_stat>)':
parsecount.cpp:266:20: warning: comparison of integer expressions of different signedness: 'int' and 'std::vector<int>::size_type' {aka 'unsigned int'} [-Wsign-compare]
     for (int i=0; i<UMI_dup_count.size(); i++)
                   ~^~~~~~~~~~~~~~~~~~~~~
"C:/rtools40/mingw32/bin/"g++  -std=gnu++11 -I"C:/Users/biocbuild/bbs-3.14-bioc/R/library/zlibbioc/include" -I"C:/Users/BIOCBU~1/BBS-3~1.14-/R/include" -DNDEBUG -D_FILE_OFFSET_BITS=64 -I'C:/Users/biocbuild/bbs-3.14-bioc/R/library/Rcpp/include' -I'C:/Users/biocbuild/bbs-3.14-bioc/R/library/Rhtslib/include' -I'C:/Users/biocbuild/bbs-3.14-bioc/R/library/zlibbioc/include' -I'C:/Users/biocbuild/bbs-3.14-bioc/R/library/testthat/include'   -I"C:/extsoft/include"     -O2 -Wall  -mfpmath=sse -msse2 -mstackrealign  -c rcpp_scPipe_func.cpp -o rcpp_scPipe_func.o
In file included from rcpp_scPipe_func.cpp:7:
transcriptmapping.h: In member function 'void GeneBin::add_gene(Gene)':
transcriptmapping.h:42:21: warning: comparison of integer expressions of different signedness: 'int' and 'GeneBin::ull_int' {aka 'long long unsigned int'} [-Wsign-compare]
         if (gene.st < start)
             ~~~~~~~~^~~~~~~
transcriptmapping.h:46:21: warning: comparison of integer expressions of different signedness: 'int' and 'GeneBin::ull_int' {aka 'long long unsigned int'} [-Wsign-compare]
         if (gene.en > end)
             ~~~~~~~~^~~~~
transcriptmapping.h: In member function 'const bool GeneBin::overlaps(const Interval&)':
transcriptmapping.h:54:24: warning: comparison of integer expressions of different signedness: 'GeneBin::ull_int' {aka 'long long unsigned int'} and 'const int' [-Wsign-compare]
         return !(start > it.en) && !(end < it.st);
                  ~~~~~~^~~~~~~
transcriptmapping.h:54:42: warning: comparison of integer expressions of different signedness: 'GeneBin::ull_int' {aka 'long long unsigned int'} and 'const int' [-Wsign-compare]
         return !(start > it.en) && !(end < it.st);
                                      ~~~~^~~~~~~
In file included from config_hts.h:8,
                 from trimbarcode.h:6,
                 from rcpp_scPipe_func.cpp:3:
trimbarcode.h: At global scope:
C:/Users/biocbuild/bbs-3.14-bioc/R/library/Rhtslib/include/htslib/kseq.h:190:12: warning: 'int kseq_read(kseq_t*)' defined but not used [-Wunused-function]
  SCOPE int kseq_read(kseq_t *seq) \
            ^~~~~~~~~
C:/Users/biocbuild/bbs-3.14-bioc/R/library/Rhtslib/include/htslib/kseq.h:190:12: note: in definition of macro '__KSEQ_READ'
  SCOPE int kseq_read(kseq_t *seq) \
            ^~~~~~~~~
C:/Users/biocbuild/bbs-3.14-bioc/R/library/Rhtslib/include/htslib/kseq.h:244:35: note: in expansion of macro 'KSEQ_INIT2'
 #define KSEQ_INIT(type_t, __read) KSEQ_INIT2(static, type_t, __read)
                                   ^~~~~~~~~~
trimbarcode.h:11:1: note: in expansion of macro 'KSEQ_INIT'
 KSEQ_INIT(gzFile, gzread)
 ^~~~~~~~~
C:/Users/biocbuild/bbs-3.14-bioc/R/library/Rhtslib/include/htslib/kseq.h:176:13: warning: 'void kseq_destroy(kseq_t*)' defined but not used [-Wunused-function]
  SCOPE void kseq_destroy(kseq_t *ks)         \
             ^~~~~~~~~~~~
C:/Users/biocbuild/bbs-3.14-bioc/R/library/Rhtslib/include/htslib/kseq.h:176:13: note: in definition of macro '__KSEQ_BASIC'
  SCOPE void kseq_destroy(kseq_t *ks)         \
             ^~~~~~~~~~~~
C:/Users/biocbuild/bbs-3.14-bioc/R/library/Rhtslib/include/htslib/kseq.h:244:35: note: in expansion of macro 'KSEQ_INIT2'
 #define KSEQ_INIT(type_t, __read) KSEQ_INIT2(static, type_t, __read)
                                   ^~~~~~~~~~
trimbarcode.h:11:1: note: in expansion of macro 'KSEQ_INIT'
 KSEQ_INIT(gzFile, gzread)
 ^~~~~~~~~
C:/Users/biocbuild/bbs-3.14-bioc/R/library/Rhtslib/include/htslib/kseq.h:170:16: warning: 'kseq_t* kseq_init(bioc_gzFile)' defined but not used [-Wunused-function]
  SCOPE kseq_t *kseq_init(type_t fd)         \
                ^~~~~~~~~
C:/Users/biocbuild/bbs-3.14-bioc/R/library/Rhtslib/include/htslib/kseq.h:170:16: note: in definition of macro '__KSEQ_BASIC'
  SCOPE kseq_t *kseq_init(type_t fd)         \
                ^~~~~~~~~
C:/Users/biocbuild/bbs-3.14-bioc/R/library/Rhtslib/include/htslib/kseq.h:244:35: note: in expansion of macro 'KSEQ_INIT2'
 #define KSEQ_INIT(type_t, __read) KSEQ_INIT2(static, type_t, __read)
                                   ^~~~~~~~~~
trimbarcode.h:11:1: note: in expansion of macro 'KSEQ_INIT'
 KSEQ_INIT(gzFile, gzread)
 ^~~~~~~~~
"C:/rtools40/mingw32/bin/"g++  -std=gnu++11 -I"C:/Users/biocbuild/bbs-3.14-bioc/R/library/zlibbioc/include" -I"C:/Users/BIOCBU~1/BBS-3~1.14-/R/include" -DNDEBUG -D_FILE_OFFSET_BITS=64 -I'C:/Users/biocbuild/bbs-3.14-bioc/R/library/Rcpp/include' -I'C:/Users/biocbuild/bbs-3.14-bioc/R/library/Rhtslib/include' -I'C:/Users/biocbuild/bbs-3.14-bioc/R/library/zlibbioc/include' -I'C:/Users/biocbuild/bbs-3.14-bioc/R/library/testthat/include'   -I"C:/extsoft/include"     -O2 -Wall  -mfpmath=sse -msse2 -mstackrealign  -c test-cpp.cpp -o test-cpp.o
"C:/rtools40/mingw32/bin/"g++  -std=gnu++11 -I"C:/Users/biocbuild/bbs-3.14-bioc/R/library/zlibbioc/include" -I"C:/Users/BIOCBU~1/BBS-3~1.14-/R/include" -DNDEBUG -D_FILE_OFFSET_BITS=64 -I'C:/Users/biocbuild/bbs-3.14-bioc/R/library/Rcpp/include' -I'C:/Users/biocbuild/bbs-3.14-bioc/R/library/Rhtslib/include' -I'C:/Users/biocbuild/bbs-3.14-bioc/R/library/zlibbioc/include' -I'C:/Users/biocbuild/bbs-3.14-bioc/R/library/testthat/include'   -I"C:/extsoft/include"     -O2 -Wall  -mfpmath=sse -msse2 -mstackrealign  -c test-runner.cpp -o test-runner.o
In file included from C:/Users/biocbuild/bbs-3.14-bioc/R/library/testthat/include/testthat.h:1,
                 from test-runner.cpp:7:
C:/Users/biocbuild/bbs-3.14-bioc/R/library/testthat/include/testthat/testthat.h: In function 'std::ostream& Catch::cout()':
C:/Users/biocbuild/bbs-3.14-bioc/R/library/testthat/include/testthat/testthat.h:145:1: warning: visibility attribute not supported in this configuration; ignored [-Wattributes]
 }
 ^
C:/Users/biocbuild/bbs-3.14-bioc/R/library/testthat/include/testthat/testthat.h: In function 'std::ostream& Catch::cerr()':
C:/Users/biocbuild/bbs-3.14-bioc/R/library/testthat/include/testthat/testthat.h:152:1: warning: visibility attribute not supported in this configuration; ignored [-Wattributes]
 }
 ^
"C:/rtools40/mingw32/bin/"g++  -std=gnu++11 -I"C:/Users/biocbuild/bbs-3.14-bioc/R/library/zlibbioc/include" -I"C:/Users/BIOCBU~1/BBS-3~1.14-/R/include" -DNDEBUG -D_FILE_OFFSET_BITS=64 -I'C:/Users/biocbuild/bbs-3.14-bioc/R/library/Rcpp/include' -I'C:/Users/biocbuild/bbs-3.14-bioc/R/library/Rhtslib/include' -I'C:/Users/biocbuild/bbs-3.14-bioc/R/library/zlibbioc/include' -I'C:/Users/biocbuild/bbs-3.14-bioc/R/library/testthat/include'   -I"C:/extsoft/include"     -O2 -Wall  -mfpmath=sse -msse2 -mstackrealign  -c transcriptmapping.cpp -o transcriptmapping.o
In file included from transcriptmapping.cpp:2:
transcriptmapping.h: In member function 'void GeneBin::add_gene(Gene)':
transcriptmapping.h:42:21: warning: comparison of integer expressions of different signedness: 'int' and 'GeneBin::ull_int' {aka 'long long unsigned int'} [-Wsign-compare]
         if (gene.st < start)
             ~~~~~~~~^~~~~~~
transcriptmapping.h:46:21: warning: comparison of integer expressions of different signedness: 'int' and 'GeneBin::ull_int' {aka 'long long unsigned int'} [-Wsign-compare]
         if (gene.en > end)
             ~~~~~~~~^~~~~
transcriptmapping.h: In member function 'const bool GeneBin::overlaps(const Interval&)':
transcriptmapping.h:54:24: warning: comparison of integer expressions of different signedness: 'GeneBin::ull_int' {aka 'long long unsigned int'} and 'const int' [-Wsign-compare]
         return !(start > it.en) && !(end < it.st);
                  ~~~~~~^~~~~~~
transcriptmapping.h:54:42: warning: comparison of integer expressions of different signedness: 'GeneBin::ull_int' {aka 'long long unsigned int'} and 'const int' [-Wsign-compare]
         return !(start > it.en) && !(end < it.st);
                                      ~~~~^~~~~~~
transcriptmapping.cpp: In member function 'int Mapping::map_exon(bam_hdr_t*, bam1_t*, std::__cxx11::string&, bool)':
transcriptmapping.cpp:533:20: warning: comparison of integer expressions of different signedness: 'int' and 'uint32_t' {aka 'unsigned int'} [-Wsign-compare]
     for (int c=0; c<b->core.n_cigar; c++)
                   ~^~~~~~~~~~~~~~~~
transcriptmapping.cpp: In member function 'void Mapping::parse_align_warpper(std::vector<std::__cxx11::basic_string<char> >, std::vector<std::__cxx11::basic_string<char> >, std::__cxx11::string, bool, std::__cxx11::string, std::__cxx11::string, std::__cxx11::string, std::__cxx11::string, int, int, int)':
transcriptmapping.cpp:678:21: warning: comparison of integer expressions of different signedness: 'int' and 'std::vector<std::__cxx11::basic_string<char> >::size_type' {aka 'unsigned int'} [-Wsign-compare]
       for (int i=1;i<fn_vec.size();i++)
                    ~^~~~~~~~~~~~~~
transcriptmapping.cpp:686:21: warning: comparison of integer expressions of different signedness: 'int' and 'std::vector<std::__cxx11::basic_string<char> >::size_type' {aka 'unsigned int'} [-Wsign-compare]
       for (int i=1;i<fn_vec.size();i++)
                    ~^~~~~~~~~~~~~~
transcriptmapping.cpp: In function 'std::pair<int, int> {anonymous}::get_bc_umi_lengths(std::__cxx11::string)':
transcriptmapping.cpp:701:20: warning: unused variable 'bam_hdr' [-Wunused-variable]
         bam_hdr_t *bam_hdr = bam_hdr_read(fp);
                    ^~~~~~~
transcriptmapping.cpp: In member function 'void Mapping::parse_align(std::__cxx11::string, std::__cxx11::string, bool, std::__cxx11::string, std::__cxx11::string, std::__cxx11::string, std::__cxx11::string, int, std::__cxx11::string, std::__cxx11::string, int, int)':
transcriptmapping.cpp:755:9: warning: variable 'hts_retcode' set but not used [-Wunused-but-set-variable]
     int hts_retcode;
         ^~~~~~~~~~~
transcriptmapping.cpp: At global scope:
transcriptmapping.cpp:699:25: warning: 'std::pair<int, int> {anonymous}::get_bc_umi_lengths(std::__cxx11::string)' defined but not used [-Wunused-function]
     std::pair<int, int> get_bc_umi_lengths(string bam_fn) {
                         ^~~~~~~~~~~~~~~~~~
"C:/rtools40/mingw32/bin/"g++  -std=gnu++11 -I"C:/Users/biocbuild/bbs-3.14-bioc/R/library/zlibbioc/include" -I"C:/Users/BIOCBU~1/BBS-3~1.14-/R/include" -DNDEBUG -D_FILE_OFFSET_BITS=64 -I'C:/Users/biocbuild/bbs-3.14-bioc/R/library/Rcpp/include' -I'C:/Users/biocbuild/bbs-3.14-bioc/R/library/Rhtslib/include' -I'C:/Users/biocbuild/bbs-3.14-bioc/R/library/zlibbioc/include' -I'C:/Users/biocbuild/bbs-3.14-bioc/R/library/testthat/include'   -I"C:/extsoft/include"     -O2 -Wall  -mfpmath=sse -msse2 -mstackrealign  -c trimbarcode.cpp -o trimbarcode.o
trimbarcode.cpp: In function 'void kseq_t_to_bam_t(kseq_t*, bam1_t*, int)':
trimbarcode.cpp:38:19: warning: comparison of integer expressions of different signedness: 'uint32_t' {aka 'unsigned int'} and 'int' [-Wsign-compare]
     if (b->m_data < b->l_data)
         ~~~~~~~~~~^~~~~~~~~~~
trimbarcode.cpp: In function 'void paired_fastq_to_bam(char*, char*, char*, read_s, filter_s)':
trimbarcode.cpp:92:9: warning: variable 'hts_retcode' set but not used [-Wunused-but-set-variable]
     int hts_retcode;
         ^~~~~~~~~~~
trimbarcode.cpp: In function 'void paired_fastq_to_fastq(char*, char*, char*, read_s, filter_s, bool)':
trimbarcode.cpp:450:24: warning: 'o_stream_gz' may be used uninitialized in this function [-Wmaybe-uninitialized]
             fq_gz_write(o_stream_gz, seq1, bc1_end); // write to gzipped fastq file
             ~~~~~~~~~~~^~~~~~~~~~~~~~~~~~~~~~~~~~~~
"C:/rtools40/mingw32/bin/"g++  -std=gnu++11 -I"C:/Users/biocbuild/bbs-3.14-bioc/R/library/zlibbioc/include" -I"C:/Users/BIOCBU~1/BBS-3~1.14-/R/include" -DNDEBUG -D_FILE_OFFSET_BITS=64 -I'C:/Users/biocbuild/bbs-3.14-bioc/R/library/Rcpp/include' -I'C:/Users/biocbuild/bbs-3.14-bioc/R/library/Rhtslib/include' -I'C:/Users/biocbuild/bbs-3.14-bioc/R/library/zlibbioc/include' -I'C:/Users/biocbuild/bbs-3.14-bioc/R/library/testthat/include'   -I"C:/extsoft/include"     -O2 -Wall  -mfpmath=sse -msse2 -mstackrealign  -c utils.cpp -o utils.o
C:/rtools40/mingw32/bin/g++ -shared -s -static-libgcc -o scPipe.dll tmp.def Gene.o Interval.o RcppExports.o cellbarcode.o detect_barcode.o parsebam.o parsecount.o rcpp_scPipe_func.o test-cpp.o test-runner.o transcriptmapping.o trimbarcode.o utils.o C:/Users/biocbuild/bbs-3.14-bioc/R/library/Rhtslib/usrlib/i386/libhts.a -LC:/extsoft/lib/i386 -lcurl -lrtmp -lssl -lssh2 -lcrypto -lgdi32 -lz -lws2_32 -lwldap32 -lwinmm -lidn -LC:/Users/biocbuild/bbs-3.14-bioc/R/library/zlibbioc/libs/i386 -lzlib1bioc -LC:/extsoft/lib/i386 -LC:/extsoft/lib -LC:/Users/BIOCBU~1/BBS-3~1.14-/R/bin/i386 -lR
installing to C:/Users/biocbuild/bbs-3.14-bioc/meat/scPipe.buildbin-libdir/00LOCK-scPipe/00new/scPipe/libs/i386
** R
** data
** inst
** byte-compile and prepare package for lazy loading
** help
*** installing help indices
  converting help for package 'scPipe'
    finding HTML links ... done
    QC_metrics                              html  
    finding level-2 HTML links ... done

    UMI_dup_info                            html  
    UMI_duplication                         html  
    anno_import                             html  
    anno_to_saf                             html  
    calculate_QC_metrics                    html  
    cell_barcode_matching                   html  
    convert_geneid                          html  
    create_processed_report                 html  
    create_report                           html  
    create_sce_by_dir                       html  
    demultiplex_info                        html  
    detect_outlier                          html  
    gene_id_type                            html  
    get_ercc_anno                           html  
    get_genes_by_GO                         html  
    get_read_str                            html  
    organism                                html  
    plot_QC_pairs                           html  
    plot_UMI_dup                            html  
    plot_demultiplex                        html  
    plot_mapping                            html  
    remove_outliers                         html  
    scPipe                                  html  
    sc_correct_bam_bc                       html  
    sc_count_aligned_bam                    html  
    sc_demultiplex                          html  
    sc_demultiplex_and_count                html  
    sc_detect_bc                            html  
    sc_exon_mapping                         html  
    sc_gene_counting                        html  
    sc_sample_data                          html  
    sc_sample_qc                            html  
    sc_trim_barcode                         html  
** building package indices
** installing vignettes
** testing if installed package can be loaded from temporary location
** testing if installed package can be loaded from final location
** testing if installed package keeps a record of temporary installation path

install for x64

* installing *source* package 'scPipe' ...
** libs
"C:/rtools40/mingw64/bin/"g++  -std=gnu++11 -I"C:/Users/biocbuild/bbs-3.14-bioc/R/library/zlibbioc/include" -I"C:/Users/BIOCBU~1/BBS-3~1.14-/R/include" -DNDEBUG -D_FILE_OFFSET_BITS=64 -I'C:/Users/biocbuild/bbs-3.14-bioc/R/library/Rcpp/include' -I'C:/Users/biocbuild/bbs-3.14-bioc/R/library/Rhtslib/include' -I'C:/Users/biocbuild/bbs-3.14-bioc/R/library/zlibbioc/include' -I'C:/Users/biocbuild/bbs-3.14-bioc/R/library/testthat/include'   -I"C:/extsoft/include"     -O2 -Wall  -mfpmath=sse -msse2 -mstackrealign  -c Gene.cpp -o Gene.o
Gene.cpp: In member function 'void Gene::flatten_exon()':
Gene.cpp:105:24: warning: comparison of integer expressions of different signedness: 'int' and 'std::vector<Interval>::size_type' {aka 'long long unsigned int'} [-Wsign-compare]
     for (auto i = 1; i < exon_vec.size(); i++)
                      ~~^~~~~~~~~~~~~~~~~
Gene.cpp: In function 'std::ostream& operator<<(std::ostream&, const Gene&)':
Gene.cpp:130:23: warning: comparison of integer expressions of different signedness: 'int' and 'std::vector<Interval>::size_type' {aka 'long long unsigned int'} [-Wsign-compare]
     for (int i = 0; i < obj.exon_vec.size(); ++i)
                     ~~^~~~~~~~~~~~~~~~~~~~~
"C:/rtools40/mingw64/bin/"g++  -std=gnu++11 -I"C:/Users/biocbuild/bbs-3.14-bioc/R/library/zlibbioc/include" -I"C:/Users/BIOCBU~1/BBS-3~1.14-/R/include" -DNDEBUG -D_FILE_OFFSET_BITS=64 -I'C:/Users/biocbuild/bbs-3.14-bioc/R/library/Rcpp/include' -I'C:/Users/biocbuild/bbs-3.14-bioc/R/library/Rhtslib/include' -I'C:/Users/biocbuild/bbs-3.14-bioc/R/library/zlibbioc/include' -I'C:/Users/biocbuild/bbs-3.14-bioc/R/library/testthat/include'   -I"C:/extsoft/include"     -O2 -Wall  -mfpmath=sse -msse2 -mstackrealign  -c Interval.cpp -o Interval.o
"C:/rtools40/mingw64/bin/"g++  -std=gnu++11 -I"C:/Users/biocbuild/bbs-3.14-bioc/R/library/zlibbioc/include" -I"C:/Users/BIOCBU~1/BBS-3~1.14-/R/include" -DNDEBUG -D_FILE_OFFSET_BITS=64 -I'C:/Users/biocbuild/bbs-3.14-bioc/R/library/Rcpp/include' -I'C:/Users/biocbuild/bbs-3.14-bioc/R/library/Rhtslib/include' -I'C:/Users/biocbuild/bbs-3.14-bioc/R/library/zlibbioc/include' -I'C:/Users/biocbuild/bbs-3.14-bioc/R/library/testthat/include'   -I"C:/extsoft/include"     -O2 -Wall  -mfpmath=sse -msse2 -mstackrealign  -c RcppExports.cpp -o RcppExports.o
"C:/rtools40/mingw64/bin/"g++  -std=gnu++11 -I"C:/Users/biocbuild/bbs-3.14-bioc/R/library/zlibbioc/include" -I"C:/Users/BIOCBU~1/BBS-3~1.14-/R/include" -DNDEBUG -D_FILE_OFFSET_BITS=64 -I'C:/Users/biocbuild/bbs-3.14-bioc/R/library/Rcpp/include' -I'C:/Users/biocbuild/bbs-3.14-bioc/R/library/Rhtslib/include' -I'C:/Users/biocbuild/bbs-3.14-bioc/R/library/zlibbioc/include' -I'C:/Users/biocbuild/bbs-3.14-bioc/R/library/testthat/include'   -I"C:/extsoft/include"     -O2 -Wall  -mfpmath=sse -msse2 -mstackrealign  -c cellbarcode.cpp -o cellbarcode.o
cellbarcode.cpp: In member function 'std::__cxx11::string Barcode::get_closest_match(const string&, int)':
cellbarcode.cpp:77:23: warning: comparison of integer expressions of different signedness: 'int' and 'std::vector<std::__cxx11::basic_string<char> >::size_type' {aka 'long long unsigned int'} [-Wsign-compare]
     for (int i = 0; i < barcode_list.size(); i++)
                     ~~^~~~~~~~~~~~~~~~~~~~~
cellbarcode.cpp:82:23: warning: comparison of integer expressions of different signedness: 'int' and 'std::vector<int>::size_type' {aka 'long long unsigned int'} [-Wsign-compare]
     for (int i = 0; i < hamming_dists.size(); i++)
                     ~~^~~~~~~~~~~~~~~~~~~~~~
"C:/rtools40/mingw64/bin/"g++  -std=gnu++11 -I"C:/Users/biocbuild/bbs-3.14-bioc/R/library/zlibbioc/include" -I"C:/Users/BIOCBU~1/BBS-3~1.14-/R/include" -DNDEBUG -D_FILE_OFFSET_BITS=64 -I'C:/Users/biocbuild/bbs-3.14-bioc/R/library/Rcpp/include' -I'C:/Users/biocbuild/bbs-3.14-bioc/R/library/Rhtslib/include' -I'C:/Users/biocbuild/bbs-3.14-bioc/R/library/zlibbioc/include' -I'C:/Users/biocbuild/bbs-3.14-bioc/R/library/testthat/include'   -I"C:/extsoft/include"     -O2 -Wall  -mfpmath=sse -msse2 -mstackrealign  -c detect_barcode.cpp -o detect_barcode.o
"C:/rtools40/mingw64/bin/"g++  -std=gnu++11 -I"C:/Users/biocbuild/bbs-3.14-bioc/R/library/zlibbioc/include" -I"C:/Users/BIOCBU~1/BBS-3~1.14-/R/include" -DNDEBUG -D_FILE_OFFSET_BITS=64 -I'C:/Users/biocbuild/bbs-3.14-bioc/R/library/Rcpp/include' -I'C:/Users/biocbuild/bbs-3.14-bioc/R/library/Rhtslib/include' -I'C:/Users/biocbuild/bbs-3.14-bioc/R/library/zlibbioc/include' -I'C:/Users/biocbuild/bbs-3.14-bioc/R/library/testthat/include'   -I"C:/extsoft/include"     -O2 -Wall  -mfpmath=sse -msse2 -mstackrealign  -c parsebam.cpp -o parsebam.o
parsebam.cpp: In member function 'int Bamdemultiplex::clean_bam_barcode(std::__cxx11::string, std::__cxx11::string, int, int)':
parsebam.cpp:78:9: warning: variable 'hts_retcode' set but not used [-Wunused-but-set-variable]
     int hts_retcode;
         ^~~~~~~~~~~
parsebam.cpp:116:9: warning: unused variable 'map_status' [-Wunused-variable]
     int map_status;
         ^~~~~~~~~~
"C:/rtools40/mingw64/bin/"g++  -std=gnu++11 -I"C:/Users/biocbuild/bbs-3.14-bioc/R/library/zlibbioc/include" -I"C:/Users/BIOCBU~1/BBS-3~1.14-/R/include" -DNDEBUG -D_FILE_OFFSET_BITS=64 -I'C:/Users/biocbuild/bbs-3.14-bioc/R/library/Rcpp/include' -I'C:/Users/biocbuild/bbs-3.14-bioc/R/library/Rhtslib/include' -I'C:/Users/biocbuild/bbs-3.14-bioc/R/library/zlibbioc/include' -I'C:/Users/biocbuild/bbs-3.14-bioc/R/library/testthat/include'   -I"C:/extsoft/include"     -O2 -Wall  -mfpmath=sse -msse2 -mstackrealign  -c parsecount.cpp -o parsecount.o
parsecount.cpp: In function 'void write_stat(std::__cxx11::string, std::__cxx11::string, std::vector<int>, std::unordered_map<std::__cxx11::basic_string<char>, UMI_dedup_stat>)':
parsecount.cpp:266:20: warning: comparison of integer expressions of different signedness: 'int' and 'std::vector<int>::size_type' {aka 'long long unsigned int'} [-Wsign-compare]
     for (int i=0; i<UMI_dup_count.size(); i++)
                   ~^~~~~~~~~~~~~~~~~~~~~
"C:/rtools40/mingw64/bin/"g++  -std=gnu++11 -I"C:/Users/biocbuild/bbs-3.14-bioc/R/library/zlibbioc/include" -I"C:/Users/BIOCBU~1/BBS-3~1.14-/R/include" -DNDEBUG -D_FILE_OFFSET_BITS=64 -I'C:/Users/biocbuild/bbs-3.14-bioc/R/library/Rcpp/include' -I'C:/Users/biocbuild/bbs-3.14-bioc/R/library/Rhtslib/include' -I'C:/Users/biocbuild/bbs-3.14-bioc/R/library/zlibbioc/include' -I'C:/Users/biocbuild/bbs-3.14-bioc/R/library/testthat/include'   -I"C:/extsoft/include"     -O2 -Wall  -mfpmath=sse -msse2 -mstackrealign  -c rcpp_scPipe_func.cpp -o rcpp_scPipe_func.o
In file included from rcpp_scPipe_func.cpp:7:
transcriptmapping.h: In member function 'void GeneBin::add_gene(Gene)':
transcriptmapping.h:42:21: warning: comparison of integer expressions of different signedness: 'int' and 'GeneBin::ull_int' {aka 'long long unsigned int'} [-Wsign-compare]
         if (gene.st < start)
             ~~~~~~~~^~~~~~~
transcriptmapping.h:46:21: warning: comparison of integer expressions of different signedness: 'int' and 'GeneBin::ull_int' {aka 'long long unsigned int'} [-Wsign-compare]
         if (gene.en > end)
             ~~~~~~~~^~~~~
transcriptmapping.h: In member function 'const bool GeneBin::overlaps(const Interval&)':
transcriptmapping.h:54:24: warning: comparison of integer expressions of different signedness: 'GeneBin::ull_int' {aka 'long long unsigned int'} and 'const int' [-Wsign-compare]
         return !(start > it.en) && !(end < it.st);
                  ~~~~~~^~~~~~~
transcriptmapping.h:54:42: warning: comparison of integer expressions of different signedness: 'GeneBin::ull_int' {aka 'long long unsigned int'} and 'const int' [-Wsign-compare]
         return !(start > it.en) && !(end < it.st);
                                      ~~~~^~~~~~~
In file included from config_hts.h:8,
                 from trimbarcode.h:6,
                 from rcpp_scPipe_func.cpp:3:
trimbarcode.h: At global scope:
C:/Users/biocbuild/bbs-3.14-bioc/R/library/Rhtslib/include/htslib/kseq.h:190:12: warning: 'int kseq_read(kseq_t*)' defined but not used [-Wunused-function]
  SCOPE int kseq_read(kseq_t *seq) \
            ^~~~~~~~~
C:/Users/biocbuild/bbs-3.14-bioc/R/library/Rhtslib/include/htslib/kseq.h:190:12: note: in definition of macro '__KSEQ_READ'
  SCOPE int kseq_read(kseq_t *seq) \
            ^~~~~~~~~
C:/Users/biocbuild/bbs-3.14-bioc/R/library/Rhtslib/include/htslib/kseq.h:244:35: note: in expansion of macro 'KSEQ_INIT2'
 #define KSEQ_INIT(type_t, __read) KSEQ_INIT2(static, type_t, __read)
                                   ^~~~~~~~~~
trimbarcode.h:11:1: note: in expansion of macro 'KSEQ_INIT'
 KSEQ_INIT(gzFile, gzread)
 ^~~~~~~~~
C:/Users/biocbuild/bbs-3.14-bioc/R/library/Rhtslib/include/htslib/kseq.h:176:13: warning: 'void kseq_destroy(kseq_t*)' defined but not used [-Wunused-function]
  SCOPE void kseq_destroy(kseq_t *ks)         \
             ^~~~~~~~~~~~
C:/Users/biocbuild/bbs-3.14-bioc/R/library/Rhtslib/include/htslib/kseq.h:176:13: note: in definition of macro '__KSEQ_BASIC'
  SCOPE void kseq_destroy(kseq_t *ks)         \
             ^~~~~~~~~~~~
C:/Users/biocbuild/bbs-3.14-bioc/R/library/Rhtslib/include/htslib/kseq.h:244:35: note: in expansion of macro 'KSEQ_INIT2'
 #define KSEQ_INIT(type_t, __read) KSEQ_INIT2(static, type_t, __read)
                                   ^~~~~~~~~~
trimbarcode.h:11:1: note: in expansion of macro 'KSEQ_INIT'
 KSEQ_INIT(gzFile, gzread)
 ^~~~~~~~~
C:/Users/biocbuild/bbs-3.14-bioc/R/library/Rhtslib/include/htslib/kseq.h:170:16: warning: 'kseq_t* kseq_init(bioc_gzFile)' defined but not used [-Wunused-function]
  SCOPE kseq_t *kseq_init(type_t fd)         \
                ^~~~~~~~~
C:/Users/biocbuild/bbs-3.14-bioc/R/library/Rhtslib/include/htslib/kseq.h:170:16: note: in definition of macro '__KSEQ_BASIC'
  SCOPE kseq_t *kseq_init(type_t fd)         \
                ^~~~~~~~~
C:/Users/biocbuild/bbs-3.14-bioc/R/library/Rhtslib/include/htslib/kseq.h:244:35: note: in expansion of macro 'KSEQ_INIT2'
 #define KSEQ_INIT(type_t, __read) KSEQ_INIT2(static, type_t, __read)
                                   ^~~~~~~~~~
trimbarcode.h:11:1: note: in expansion of macro 'KSEQ_INIT'
 KSEQ_INIT(gzFile, gzread)
 ^~~~~~~~~
"C:/rtools40/mingw64/bin/"g++  -std=gnu++11 -I"C:/Users/biocbuild/bbs-3.14-bioc/R/library/zlibbioc/include" -I"C:/Users/BIOCBU~1/BBS-3~1.14-/R/include" -DNDEBUG -D_FILE_OFFSET_BITS=64 -I'C:/Users/biocbuild/bbs-3.14-bioc/R/library/Rcpp/include' -I'C:/Users/biocbuild/bbs-3.14-bioc/R/library/Rhtslib/include' -I'C:/Users/biocbuild/bbs-3.14-bioc/R/library/zlibbioc/include' -I'C:/Users/biocbuild/bbs-3.14-bioc/R/library/testthat/include'   -I"C:/extsoft/include"     -O2 -Wall  -mfpmath=sse -msse2 -mstackrealign  -c test-cpp.cpp -o test-cpp.o
"C:/rtools40/mingw64/bin/"g++  -std=gnu++11 -I"C:/Users/biocbuild/bbs-3.14-bioc/R/library/zlibbioc/include" -I"C:/Users/BIOCBU~1/BBS-3~1.14-/R/include" -DNDEBUG -D_FILE_OFFSET_BITS=64 -I'C:/Users/biocbuild/bbs-3.14-bioc/R/library/Rcpp/include' -I'C:/Users/biocbuild/bbs-3.14-bioc/R/library/Rhtslib/include' -I'C:/Users/biocbuild/bbs-3.14-bioc/R/library/zlibbioc/include' -I'C:/Users/biocbuild/bbs-3.14-bioc/R/library/testthat/include'   -I"C:/extsoft/include"     -O2 -Wall  -mfpmath=sse -msse2 -mstackrealign  -c test-runner.cpp -o test-runner.o
In file included from C:/Users/biocbuild/bbs-3.14-bioc/R/library/testthat/include/testthat.h:1,
                 from test-runner.cpp:7:
C:/Users/biocbuild/bbs-3.14-bioc/R/library/testthat/include/testthat/testthat.h: In function 'std::ostream& Catch::cout()':
C:/Users/biocbuild/bbs-3.14-bioc/R/library/testthat/include/testthat/testthat.h:145:1: warning: visibility attribute not supported in this configuration; ignored [-Wattributes]
 }
 ^
C:/Users/biocbuild/bbs-3.14-bioc/R/library/testthat/include/testthat/testthat.h: In function 'std::ostream& Catch::cerr()':
C:/Users/biocbuild/bbs-3.14-bioc/R/library/testthat/include/testthat/testthat.h:152:1: warning: visibility attribute not supported in this configuration; ignored [-Wattributes]
 }
 ^
"C:/rtools40/mingw64/bin/"g++  -std=gnu++11 -I"C:/Users/biocbuild/bbs-3.14-bioc/R/library/zlibbioc/include" -I"C:/Users/BIOCBU~1/BBS-3~1.14-/R/include" -DNDEBUG -D_FILE_OFFSET_BITS=64 -I'C:/Users/biocbuild/bbs-3.14-bioc/R/library/Rcpp/include' -I'C:/Users/biocbuild/bbs-3.14-bioc/R/library/Rhtslib/include' -I'C:/Users/biocbuild/bbs-3.14-bioc/R/library/zlibbioc/include' -I'C:/Users/biocbuild/bbs-3.14-bioc/R/library/testthat/include'   -I"C:/extsoft/include"     -O2 -Wall  -mfpmath=sse -msse2 -mstackrealign  -c transcriptmapping.cpp -o transcriptmapping.o
In file included from transcriptmapping.cpp:2:
transcriptmapping.h: In member function 'void GeneBin::add_gene(Gene)':
transcriptmapping.h:42:21: warning: comparison of integer expressions of different signedness: 'int' and 'GeneBin::ull_int' {aka 'long long unsigned int'} [-Wsign-compare]
         if (gene.st < start)
             ~~~~~~~~^~~~~~~
transcriptmapping.h:46:21: warning: comparison of integer expressions of different signedness: 'int' and 'GeneBin::ull_int' {aka 'long long unsigned int'} [-Wsign-compare]
         if (gene.en > end)
             ~~~~~~~~^~~~~
transcriptmapping.h: In member function 'const bool GeneBin::overlaps(const Interval&)':
transcriptmapping.h:54:24: warning: comparison of integer expressions of different signedness: 'GeneBin::ull_int' {aka 'long long unsigned int'} and 'const int' [-Wsign-compare]
         return !(start > it.en) && !(end < it.st);
                  ~~~~~~^~~~~~~
transcriptmapping.h:54:42: warning: comparison of integer expressions of different signedness: 'GeneBin::ull_int' {aka 'long long unsigned int'} and 'const int' [-Wsign-compare]
         return !(start > it.en) && !(end < it.st);
                                      ~~~~^~~~~~~
transcriptmapping.cpp: In member function 'int Mapping::map_exon(bam_hdr_t*, bam1_t*, std::__cxx11::string&, bool)':
transcriptmapping.cpp:533:20: warning: comparison of integer expressions of different signedness: 'int' and 'uint32_t' {aka 'unsigned int'} [-Wsign-compare]
     for (int c=0; c<b->core.n_cigar; c++)
                   ~^~~~~~~~~~~~~~~~
transcriptmapping.cpp: In member function 'void Mapping::parse_align_warpper(std::vector<std::__cxx11::basic_string<char> >, std::vector<std::__cxx11::basic_string<char> >, std::__cxx11::string, bool, std::__cxx11::string, std::__cxx11::string, std::__cxx11::string, std::__cxx11::string, int, int, int)':
transcriptmapping.cpp:678:21: warning: comparison of integer expressions of different signedness: 'int' and 'std::vector<std::__cxx11::basic_string<char> >::size_type' {aka 'long long unsigned int'} [-Wsign-compare]
       for (int i=1;i<fn_vec.size();i++)
                    ~^~~~~~~~~~~~~~
transcriptmapping.cpp:686:21: warning: comparison of integer expressions of different signedness: 'int' and 'std::vector<std::__cxx11::basic_string<char> >::size_type' {aka 'long long unsigned int'} [-Wsign-compare]
       for (int i=1;i<fn_vec.size();i++)
                    ~^~~~~~~~~~~~~~
transcriptmapping.cpp: In function 'std::pair<int, int> {anonymous}::get_bc_umi_lengths(std::__cxx11::string)':
transcriptmapping.cpp:701:20: warning: unused variable 'bam_hdr' [-Wunused-variable]
         bam_hdr_t *bam_hdr = bam_hdr_read(fp);
                    ^~~~~~~
transcriptmapping.cpp: In member function 'void Mapping::parse_align(std::__cxx11::string, std::__cxx11::string, bool, std::__cxx11::string, std::__cxx11::string, std::__cxx11::string, std::__cxx11::string, int, std::__cxx11::string, std::__cxx11::string, int, int)':
transcriptmapping.cpp:755:9: warning: variable 'hts_retcode' set but not used [-Wunused-but-set-variable]
     int hts_retcode;
         ^~~~~~~~~~~
transcriptmapping.cpp: At global scope:
transcriptmapping.cpp:699:25: warning: 'std::pair<int, int> {anonymous}::get_bc_umi_lengths(std::__cxx11::string)' defined but not used [-Wunused-function]
     std::pair<int, int> get_bc_umi_lengths(string bam_fn) {
                         ^~~~~~~~~~~~~~~~~~
"C:/rtools40/mingw64/bin/"g++  -std=gnu++11 -I"C:/Users/biocbuild/bbs-3.14-bioc/R/library/zlibbioc/include" -I"C:/Users/BIOCBU~1/BBS-3~1.14-/R/include" -DNDEBUG -D_FILE_OFFSET_BITS=64 -I'C:/Users/biocbuild/bbs-3.14-bioc/R/library/Rcpp/include' -I'C:/Users/biocbuild/bbs-3.14-bioc/R/library/Rhtslib/include' -I'C:/Users/biocbuild/bbs-3.14-bioc/R/library/zlibbioc/include' -I'C:/Users/biocbuild/bbs-3.14-bioc/R/library/testthat/include'   -I"C:/extsoft/include"     -O2 -Wall  -mfpmath=sse -msse2 -mstackrealign  -c trimbarcode.cpp -o trimbarcode.o
trimbarcode.cpp: In function 'void kseq_t_to_bam_t(kseq_t*, bam1_t*, int)':
trimbarcode.cpp:38:19: warning: comparison of integer expressions of different signedness: 'uint32_t' {aka 'unsigned int'} and 'int' [-Wsign-compare]
     if (b->m_data < b->l_data)
         ~~~~~~~~~~^~~~~~~~~~~
trimbarcode.cpp: In function 'void paired_fastq_to_bam(char*, char*, char*, read_s, filter_s)':
trimbarcode.cpp:92:9: warning: variable 'hts_retcode' set but not used [-Wunused-but-set-variable]
     int hts_retcode;
         ^~~~~~~~~~~
trimbarcode.cpp: In function 'void paired_fastq_to_fastq(char*, char*, char*, read_s, filter_s, bool)':
trimbarcode.cpp:450:24: warning: 'o_stream_gz' may be used uninitialized in this function [-Wmaybe-uninitialized]
             fq_gz_write(o_stream_gz, seq1, bc1_end); // write to gzipped fastq file
             ~~~~~~~~~~~^~~~~~~~~~~~~~~~~~~~~~~~~~~~
"C:/rtools40/mingw64/bin/"g++  -std=gnu++11 -I"C:/Users/biocbuild/bbs-3.14-bioc/R/library/zlibbioc/include" -I"C:/Users/BIOCBU~1/BBS-3~1.14-/R/include" -DNDEBUG -D_FILE_OFFSET_BITS=64 -I'C:/Users/biocbuild/bbs-3.14-bioc/R/library/Rcpp/include' -I'C:/Users/biocbuild/bbs-3.14-bioc/R/library/Rhtslib/include' -I'C:/Users/biocbuild/bbs-3.14-bioc/R/library/zlibbioc/include' -I'C:/Users/biocbuild/bbs-3.14-bioc/R/library/testthat/include'   -I"C:/extsoft/include"     -O2 -Wall  -mfpmath=sse -msse2 -mstackrealign  -c utils.cpp -o utils.o
C:/rtools40/mingw64/bin/g++ -shared -s -static-libgcc -o scPipe.dll tmp.def Gene.o Interval.o RcppExports.o cellbarcode.o detect_barcode.o parsebam.o parsecount.o rcpp_scPipe_func.o test-cpp.o test-runner.o transcriptmapping.o trimbarcode.o utils.o C:/Users/biocbuild/bbs-3.14-bioc/R/library/Rhtslib/usrlib/x64/libhts.a -LC:/extsoft/lib/x64 -lcurl -lrtmp -lssl -lssh2 -lcrypto -lgdi32 -lz -lws2_32 -lwldap32 -lwinmm -LC:/Users/biocbuild/bbs-3.14-bioc/R/library/zlibbioc/libs/x64 -lzlib1bioc -LC:/extsoft/lib/x64 -LC:/extsoft/lib -LC:/Users/BIOCBU~1/BBS-3~1.14-/R/bin/x64 -lR
installing to C:/Users/biocbuild/bbs-3.14-bioc/meat/scPipe.buildbin-libdir/scPipe/libs/x64
** testing if installed package can be loaded
* MD5 sums
packaged installation of 'scPipe' as scPipe_1.16.0.zip
* DONE (scPipe)
* installing to library 'C:/Users/biocbuild/bbs-3.14-bioc/R/library'
package 'scPipe' successfully unpacked and MD5 sums checked

Tests output

scPipe.Rcheck/tests_i386/testthat.Rout


R version 4.1.2 (2021-11-01) -- "Bird Hippie"
Copyright (C) 2021 The R Foundation for Statistical Computing
Platform: i386-w64-mingw32/i386 (32-bit)

R is free software and comes with ABSOLUTELY NO WARRANTY.
You are welcome to redistribute it under certain conditions.
Type 'license()' or 'licence()' for distribution details.

R is a collaborative project with many contributors.
Type 'contributors()' for more information and
'citation()' on how to cite R or R packages in publications.

Type 'demo()' for some demos, 'help()' for on-line help, or
'help.start()' for an HTML browser interface to help.
Type 'q()' to quit R.

> library(testthat)
> library(scPipe)
Loading required package: ggplot2
Loading required package: SingleCellExperiment
Loading required package: SummarizedExperiment
Loading required package: MatrixGenerics
Loading required package: matrixStats

Attaching package: 'MatrixGenerics'

The following objects are masked from 'package:matrixStats':

    colAlls, colAnyNAs, colAnys, colAvgsPerRowSet, colCollapse,
    colCounts, colCummaxs, colCummins, colCumprods, colCumsums,
    colDiffs, colIQRDiffs, colIQRs, colLogSumExps, colMadDiffs,
    colMads, colMaxs, colMeans2, colMedians, colMins, colOrderStats,
    colProds, colQuantiles, colRanges, colRanks, colSdDiffs, colSds,
    colSums2, colTabulates, colVarDiffs, colVars, colWeightedMads,
    colWeightedMeans, colWeightedMedians, colWeightedSds,
    colWeightedVars, rowAlls, rowAnyNAs, rowAnys, rowAvgsPerColSet,
    rowCollapse, rowCounts, rowCummaxs, rowCummins, rowCumprods,
    rowCumsums, rowDiffs, rowIQRDiffs, rowIQRs, rowLogSumExps,
    rowMadDiffs, rowMads, rowMaxs, rowMeans2, rowMedians, rowMins,
    rowOrderStats, rowProds, rowQuantiles, rowRanges, rowRanks,
    rowSdDiffs, rowSds, rowSums2, rowTabulates, rowVarDiffs, rowVars,
    rowWeightedMads, rowWeightedMeans, rowWeightedMedians,
    rowWeightedSds, rowWeightedVars

Loading required package: GenomicRanges
Loading required package: stats4
Loading required package: BiocGenerics

Attaching package: 'BiocGenerics'

The following objects are masked from 'package:stats':

    IQR, mad, sd, var, xtabs

The following objects are masked from 'package:base':

    Filter, Find, Map, Position, Reduce, anyDuplicated, append,
    as.data.frame, basename, cbind, colnames, dirname, do.call,
    duplicated, eval, evalq, get, grep, grepl, intersect, is.unsorted,
    lapply, mapply, match, mget, order, paste, pmax, pmax.int, pmin,
    pmin.int, rank, rbind, rownames, sapply, setdiff, sort, table,
    tapply, union, unique, unsplit, which.max, which.min

Loading required package: S4Vectors

Attaching package: 'S4Vectors'

The following objects are masked from 'package:base':

    I, expand.grid, unname

Loading required package: IRanges

Attaching package: 'IRanges'

The following object is masked from 'package:grDevices':

    windows

Loading required package: GenomeInfoDb
Loading required package: Biobase
Welcome to Bioconductor

    Vignettes contain introductory material; view with
    'browseVignettes()'. To cite Bioconductor, see
    'citation("Biobase")', and for packages 'citation("pkgname")'.


Attaching package: 'Biobase'

The following object is masked from 'package:MatrixGenerics':

    rowMedians

The following objects are masked from 'package:matrixStats':

    anyMissing, rowMedians



> 
> test_check("scPipe")
[ FAIL 0 | WARN 3 | SKIP 0 | PASS 29 ]
> 
> proc.time()
   user  system elapsed 
  15.34    1.60   17.03 

scPipe.Rcheck/tests_x64/testthat.Rout


R version 4.1.2 (2021-11-01) -- "Bird Hippie"
Copyright (C) 2021 The R Foundation for Statistical Computing
Platform: x86_64-w64-mingw32/x64 (64-bit)

R is free software and comes with ABSOLUTELY NO WARRANTY.
You are welcome to redistribute it under certain conditions.
Type 'license()' or 'licence()' for distribution details.

R is a collaborative project with many contributors.
Type 'contributors()' for more information and
'citation()' on how to cite R or R packages in publications.

Type 'demo()' for some demos, 'help()' for on-line help, or
'help.start()' for an HTML browser interface to help.
Type 'q()' to quit R.

> library(testthat)
> library(scPipe)
Loading required package: ggplot2
Loading required package: SingleCellExperiment
Loading required package: SummarizedExperiment
Loading required package: MatrixGenerics
Loading required package: matrixStats

Attaching package: 'MatrixGenerics'

The following objects are masked from 'package:matrixStats':

    colAlls, colAnyNAs, colAnys, colAvgsPerRowSet, colCollapse,
    colCounts, colCummaxs, colCummins, colCumprods, colCumsums,
    colDiffs, colIQRDiffs, colIQRs, colLogSumExps, colMadDiffs,
    colMads, colMaxs, colMeans2, colMedians, colMins, colOrderStats,
    colProds, colQuantiles, colRanges, colRanks, colSdDiffs, colSds,
    colSums2, colTabulates, colVarDiffs, colVars, colWeightedMads,
    colWeightedMeans, colWeightedMedians, colWeightedSds,
    colWeightedVars, rowAlls, rowAnyNAs, rowAnys, rowAvgsPerColSet,
    rowCollapse, rowCounts, rowCummaxs, rowCummins, rowCumprods,
    rowCumsums, rowDiffs, rowIQRDiffs, rowIQRs, rowLogSumExps,
    rowMadDiffs, rowMads, rowMaxs, rowMeans2, rowMedians, rowMins,
    rowOrderStats, rowProds, rowQuantiles, rowRanges, rowRanks,
    rowSdDiffs, rowSds, rowSums2, rowTabulates, rowVarDiffs, rowVars,
    rowWeightedMads, rowWeightedMeans, rowWeightedMedians,
    rowWeightedSds, rowWeightedVars

Loading required package: GenomicRanges
Loading required package: stats4
Loading required package: BiocGenerics

Attaching package: 'BiocGenerics'

The following objects are masked from 'package:stats':

    IQR, mad, sd, var, xtabs

The following objects are masked from 'package:base':

    Filter, Find, Map, Position, Reduce, anyDuplicated, append,
    as.data.frame, basename, cbind, colnames, dirname, do.call,
    duplicated, eval, evalq, get, grep, grepl, intersect, is.unsorted,
    lapply, mapply, match, mget, order, paste, pmax, pmax.int, pmin,
    pmin.int, rank, rbind, rownames, sapply, setdiff, sort, table,
    tapply, union, unique, unsplit, which.max, which.min

Loading required package: S4Vectors

Attaching package: 'S4Vectors'

The following objects are masked from 'package:base':

    I, expand.grid, unname

Loading required package: IRanges

Attaching package: 'IRanges'

The following object is masked from 'package:grDevices':

    windows

Loading required package: GenomeInfoDb
Loading required package: Biobase
Welcome to Bioconductor

    Vignettes contain introductory material; view with
    'browseVignettes()'. To cite Bioconductor, see
    'citation("Biobase")', and for packages 'citation("pkgname")'.


Attaching package: 'Biobase'

The following object is masked from 'package:MatrixGenerics':

    rowMedians

The following objects are masked from 'package:matrixStats':

    anyMissing, rowMedians



> 
> test_check("scPipe")
[ FAIL 0 | WARN 3 | SKIP 0 | PASS 29 ]
> 
> proc.time()
   user  system elapsed 
  17.54    0.75   18.32 

Example timings

scPipe.Rcheck/examples_i386/scPipe-Ex.timings

nameusersystemelapsed
QC_metrics0.920.000.92
UMI_dup_info0.280.160.44
UMI_duplication0.460.230.68
anno_import1.970.252.22
anno_to_saf000
calculate_QC_metrics4.360.117.49
cell_barcode_matching0.340.020.36
convert_geneid0.670.140.83
create_processed_report000
create_report000
create_sce_by_dir0.270.020.28
demultiplex_info0.280.000.28
detect_outlier0.510.010.53
gene_id_type0.250.020.26
get_ercc_anno000
get_genes_by_GO0.730.040.78
get_read_str000
organism0.300.000.29
plot_QC_pairs4.840.064.91
plot_UMI_dup0.610.020.63
plot_demultiplex0.420.010.44
plot_mapping0.860.000.86
remove_outliers0.630.000.62
sc_correct_bam_bc000
sc_count_aligned_bam000
sc_demultiplex000
sc_demultiplex_and_count000
sc_detect_bc000
sc_exon_mapping000
sc_gene_counting000
sc_sample_data4.470.024.48
sc_sample_qc0.840.000.85
sc_trim_barcode000

scPipe.Rcheck/examples_x64/scPipe-Ex.timings

nameusersystemelapsed
QC_metrics0.690.010.70
UMI_dup_info0.360.030.39
UMI_duplication0.340.050.39
anno_import2.430.002.42
anno_to_saf000
calculate_QC_metrics2.120.152.28
cell_barcode_matching0.350.020.36
convert_geneid0.620.010.64
create_processed_report000
create_report000
create_sce_by_dir0.340.000.35
demultiplex_info0.330.000.32
detect_outlier0.530.020.55
gene_id_type0.380.010.39
get_ercc_anno000
get_genes_by_GO0.650.020.67
get_read_str000
organism0.320.000.32
plot_QC_pairs6.280.036.31
plot_UMI_dup0.620.030.66
plot_demultiplex0.460.000.45
plot_mapping0.790.000.80
remove_outliers0.610.020.62
sc_correct_bam_bc000
sc_count_aligned_bam000
sc_demultiplex000
sc_demultiplex_and_count000
sc_detect_bc000
sc_exon_mapping000
sc_gene_counting000
sc_sample_data5.250.005.25
sc_sample_qc0.920.000.92
sc_trim_barcode000