Back to Multiple platform build/check report for BioC 3.14
ABCDEFGHIJKLMNOPQR[S]TUVWXYZ

This page was generated on 2021-12-06 13:05:11 -0500 (Mon, 06 Dec 2021).

BUILD results for scClassify on nebbiolo2

To the developers/maintainers of the scClassify package:
- Please allow up to 24 hours (and sometimes 48 hours) for your latest push to git@git.bioconductor.org:packages/scClassify.git to
reflect on this report. See How and When does the builder pull? When will my changes propagate? here for more information.
- Make sure to use the following settings in order to reproduce any error or warning you see on this page.

raw results

Package 1716/2083HostnameOS / ArchINSTALLBUILDCHECKBUILD BIN
scClassify 1.6.0  (landing page)
Yingxin Lin
Snapshot Date: 2021-12-05 01:55:05 -0500 (Sun, 05 Dec 2021)
git_url: https://git.bioconductor.org/packages/scClassify
git_branch: RELEASE_3_14
git_last_commit: cf2735b
git_last_commit_date: 2021-10-26 12:59:09 -0500 (Tue, 26 Oct 2021)
nebbiolo2Linux (Ubuntu 20.04.3 LTS) / x86_64  OK    OK    OK  UNNEEDED, same version is already published
tokay2Windows Server 2012 R2 Standard / x64  OK    OK    OK    OK  UNNEEDED, same version is already published
machv2macOS 10.14.6 Mojave / x86_64  OK    OK    OK    OK  UNNEEDED, same version is already published

Summary

Package: scClassify
Version: 1.6.0
Command: /home/biocbuild/bbs-3.14-bioc/R/bin/R CMD build --keep-empty-dirs --no-resave-data scClassify
StartedAt: 2021-12-05 05:46:34 -0500 (Sun, 05 Dec 2021)
EndedAt: 2021-12-05 05:48:09 -0500 (Sun, 05 Dec 2021)
EllapsedTime: 95.3 seconds
RetCode: 0
Status:   OK  
PackageFile: scClassify_1.6.0.tar.gz
PackageFileSize: 2.922 MiB

Command output

##############################################################################
##############################################################################
###
### Running command:
###
###   /home/biocbuild/bbs-3.14-bioc/R/bin/R CMD build --keep-empty-dirs --no-resave-data scClassify
###
##############################################################################
##############################################################################


* checking for file ‘scClassify/DESCRIPTION’ ... OK
* preparing ‘scClassify’:
* checking DESCRIPTION meta-information ... OK
* installing the package to build vignettes
* creating vignettes ... OK
* checking for LF line-endings in source and make files and shell scripts
* checking for empty or unneeded directories
* looking to see if a ‘data/datalist’ file should be added
* building ‘scClassify_1.6.0.tar.gz’