Back to Multiple platform build/check report for BioC 3.14
ABCDEFGHIJKLMNOPQR[S]TUVWXYZ

This page was generated on 2022-01-14 13:07:07 -0500 (Fri, 14 Jan 2022).

HostnameOSArch (*)R versionInstalled pkgs
nebbiolo2Linux (Ubuntu 20.04.4 LTS)x86_644.1.2 (2021-11-01) -- "Bird Hippie" 4327
tokay2Windows Server 2012 R2 Standardx644.1.2 (2021-11-01) -- "Bird Hippie" 4076
machv2macOS 10.14.6 Mojavex86_644.1.2 (2021-11-01) -- "Bird Hippie" 4137
Click on any hostname to see more info about the system (e.g. compilers)      (*) as reported by 'uname -p', except on Windows and Mac OS X

BUILD BIN results for scCB2 on tokay2


To the developers/maintainers of the scCB2 package:
- Please allow up to 24 hours (and sometimes 48 hours) for your latest push to git@git.bioconductor.org:packages/scCB2.git to
reflect on this report. See How and When does the builder pull? When will my changes propagate? here for more information.
- Make sure to use the following settings in order to reproduce any error or warning you see on this page.

raw results

Package 1714/2083HostnameOS / ArchINSTALLBUILDCHECKBUILD BIN
scCB2 1.4.0  (landing page)
Zijian Ni
Snapshot Date: 2022-01-13 01:55:04 -0500 (Thu, 13 Jan 2022)
git_url: https://git.bioconductor.org/packages/scCB2
git_branch: RELEASE_3_14
git_last_commit: f8be9e6
git_last_commit_date: 2021-10-26 13:00:57 -0500 (Tue, 26 Oct 2021)
nebbiolo2Linux (Ubuntu 20.04.4 LTS) / x86_64  OK    OK    OK  UNNEEDED, same version is already published
tokay2Windows Server 2012 R2 Standard / x64  OK    OK    OK    OK  UNNEEDED, same version is already published
machv2macOS 10.14.6 Mojave / x86_64  OK    OK    OK    OK  UNNEEDED, same version is already published

Summary

Package: scCB2
Version: 1.4.0
Command: rm -rf scCB2.buildbin-libdir && mkdir scCB2.buildbin-libdir && C:\Users\biocbuild\bbs-3.14-bioc\R\bin\R.exe CMD INSTALL --merge-multiarch --build --library=scCB2.buildbin-libdir scCB2_1.4.0.tar.gz
StartedAt: 2022-01-14 06:34:35 -0500 (Fri, 14 Jan 2022)
EndedAt: 2022-01-14 06:35:29 -0500 (Fri, 14 Jan 2022)
EllapsedTime: 54.0 seconds
RetCode: 0
Status:   OK  
PackageFile: scCB2_1.4.0.zip
PackageFileSize: 899.6 KiB

Command output

##############################################################################
##############################################################################
###
### Running command:
###
###   rm -rf scCB2.buildbin-libdir && mkdir scCB2.buildbin-libdir && C:\Users\biocbuild\bbs-3.14-bioc\R\bin\R.exe CMD INSTALL --merge-multiarch --build --library=scCB2.buildbin-libdir scCB2_1.4.0.tar.gz
###
##############################################################################
##############################################################################



install for i386

* installing *source* package 'scCB2' ...
** using staged installation
** R
** data
** inst
** byte-compile and prepare package for lazy loading
** help
*** installing help indices
  converting help for package 'scCB2'
    finding HTML links ... done
    CB2FindCell                             html  
    FilterGB                                html  
    GetCellMat                              html  
    QuickCB2                                html  
    Read10xRaw                              html  
    mbrainSub                               html  
** building package indices
** installing vignettes
** testing if installed package can be loaded from temporary location
** testing if installed package can be loaded from final location
** testing if installed package keeps a record of temporary installation path

install for x64

* installing *source* package 'scCB2' ...
** testing if installed package can be loaded
* MD5 sums
packaged installation of 'scCB2' as scCB2_1.4.0.zip
* DONE (scCB2)