Back to Multiple platform build/check report for BioC 3.14
ABCDEFGHIJKLMNOPQR[S]TUVWXYZ

This page was generated on 2022-01-17 13:06:57 -0500 (Mon, 17 Jan 2022).

HostnameOSArch (*)R versionInstalled pkgs
nebbiolo2Linux (Ubuntu 20.04.4 LTS)x86_644.1.2 (2021-11-01) -- "Bird Hippie" 4328
tokay2Windows Server 2012 R2 Standardx644.1.2 (2021-11-01) -- "Bird Hippie" 4077
machv2macOS 10.14.6 Mojavex86_644.1.2 (2021-11-01) -- "Bird Hippie" 4138
Click on any hostname to see more info about the system (e.g. compilers)      (*) as reported by 'uname -p', except on Windows and Mac OS X

BUILD BIN results for safe on tokay2


To the developers/maintainers of the safe package:
- Please allow up to 24 hours (and sometimes 48 hours) for your latest push to git@git.bioconductor.org:packages/safe.git to
reflect on this report. See How and When does the builder pull? When will my changes propagate? here for more information.
- Make sure to use the following settings in order to reproduce any error or warning you see on this page.

raw results

Package 1686/2083HostnameOS / ArchINSTALLBUILDCHECKBUILD BIN
safe 3.34.0  (landing page)
Ludwig Geistlinger
Snapshot Date: 2022-01-16 01:55:05 -0500 (Sun, 16 Jan 2022)
git_url: https://git.bioconductor.org/packages/safe
git_branch: RELEASE_3_14
git_last_commit: 527fe92
git_last_commit_date: 2021-10-26 11:47:48 -0500 (Tue, 26 Oct 2021)
nebbiolo2Linux (Ubuntu 20.04.4 LTS) / x86_64  OK    OK    OK  UNNEEDED, same version is already published
tokay2Windows Server 2012 R2 Standard / x64  OK    OK    OK    OK  UNNEEDED, same version is already published
machv2macOS 10.14.6 Mojave / x86_64  OK    OK    OK    OK  UNNEEDED, same version is already published

Summary

Package: safe
Version: 3.34.0
Command: rm -rf safe.buildbin-libdir && mkdir safe.buildbin-libdir && C:\Users\biocbuild\bbs-3.14-bioc\R\bin\R.exe CMD INSTALL --merge-multiarch --build --library=safe.buildbin-libdir safe_3.34.0.tar.gz
StartedAt: 2022-01-17 08:07:45 -0500 (Mon, 17 Jan 2022)
EndedAt: 2022-01-17 08:08:15 -0500 (Mon, 17 Jan 2022)
EllapsedTime: 29.5 seconds
RetCode: 0
Status:   OK  
PackageFile: safe_3.34.0.zip
PackageFileSize: 776.9 KiB

Command output

##############################################################################
##############################################################################
###
### Running command:
###
###   rm -rf safe.buildbin-libdir && mkdir safe.buildbin-libdir && C:\Users\biocbuild\bbs-3.14-bioc\R\bin\R.exe CMD INSTALL --merge-multiarch --build --library=safe.buildbin-libdir safe_3.34.0.tar.gz
###
##############################################################################
##############################################################################



install for i386

* installing *source* package 'safe' ...
** using staged installation
** R
** data
** inst
** byte-compile and prepare package for lazy loading
** help
*** installing help indices
  converting help for package 'safe'
    finding HTML links ... done
    SAFE-class                              html  
    gene.results                            html  
    getCmatrix                              html  
    p53.stat                                html  
    safe-internal                           html  
    safe-package                            html  
    safe                                    html  
    safe.toptable                           html  
    safedag                                 html  
    safeplot                                html  
** building package indices
** installing vignettes
** testing if installed package can be loaded from temporary location
** testing if installed package can be loaded from final location
** testing if installed package keeps a record of temporary installation path

install for x64

* installing *source* package 'safe' ...
** testing if installed package can be loaded
* MD5 sums
packaged installation of 'safe' as safe_3.34.0.zip
* DONE (safe)