Back to Multiple platform build/check report for BioC 3.14
ABCDEFGHIJKLMNOPQ[R]STUVWXYZ

This page was generated on 2022-01-21 13:07:01 -0500 (Fri, 21 Jan 2022).

HostnameOSArch (*)R versionInstalled pkgs
nebbiolo2Linux (Ubuntu 20.04.4 LTS)x86_644.1.2 (2021-11-01) -- "Bird Hippie" 4329
tokay2Windows Server 2012 R2 Standardx644.1.2 (2021-11-01) -- "Bird Hippie" 4079
machv2macOS 10.14.6 Mojavex86_644.1.2 (2021-11-01) -- "Bird Hippie" 4140
Click on any hostname to see more info about the system (e.g. compilers)      (*) as reported by 'uname -p', except on Windows and Mac OS X

BUILD results for rrvgo on tokay2


To the developers/maintainers of the rrvgo package:
- Please allow up to 24 hours (and sometimes 48 hours) for your latest push to git@git.bioconductor.org:packages/rrvgo.git to
reflect on this report. See How and When does the builder pull? When will my changes propagate? here for more information.
- Make sure to use the following settings in order to reproduce any error or warning you see on this page.

raw results

Package 1658/2083HostnameOS / ArchINSTALLBUILDCHECKBUILD BIN
rrvgo 1.6.0  (landing page)
Sergi Sayols
Snapshot Date: 2022-01-20 01:55:04 -0500 (Thu, 20 Jan 2022)
git_url: https://git.bioconductor.org/packages/rrvgo
git_branch: RELEASE_3_14
git_last_commit: 46ae2cf
git_last_commit_date: 2021-10-26 12:57:35 -0500 (Tue, 26 Oct 2021)
nebbiolo2Linux (Ubuntu 20.04.4 LTS) / x86_64  OK    OK    OK  UNNEEDED, same version is already published
tokay2Windows Server 2012 R2 Standard / x64  OK    OK    OK    OK  UNNEEDED, same version is already published
machv2macOS 10.14.6 Mojave / x86_64  OK    OK    OK    OK  UNNEEDED, same version is already published

Summary

Package: rrvgo
Version: 1.6.0
Command: chmod a+r rrvgo -R && C:\Users\biocbuild\bbs-3.14-bioc\R\bin\R.exe CMD build --keep-empty-dirs --no-resave-data rrvgo
StartedAt: 2022-01-20 14:06:46 -0500 (Thu, 20 Jan 2022)
EndedAt: 2022-01-20 14:08:20 -0500 (Thu, 20 Jan 2022)
EllapsedTime: 94.0 seconds
RetCode: 0
Status:   OK  
PackageFile: rrvgo_1.6.0.tar.gz
PackageFileSize: 1.525 MiB

Command output

##############################################################################
##############################################################################
###
### Running command:
###
###   chmod a+r rrvgo -R && C:\Users\biocbuild\bbs-3.14-bioc\R\bin\R.exe CMD build --keep-empty-dirs --no-resave-data rrvgo
###
##############################################################################
##############################################################################


* checking for file 'rrvgo/DESCRIPTION' ... OK
* preparing 'rrvgo':
* checking DESCRIPTION meta-information ... OK
* installing the package to build vignettes
* creating vignettes ... OK
* checking for LF line-endings in source and make files and shell scripts
* checking for empty or unneeded directories
* building 'rrvgo_1.6.0.tar.gz'