Back to Multiple platform build/check report for BioC 3.14
ABCDEFGHIJKLMNOPQ[R]STUVWXYZ

This page was generated on 2022-01-24 13:06:55 -0500 (Mon, 24 Jan 2022).

HostnameOSArch (*)R versionInstalled pkgs
nebbiolo2Linux (Ubuntu 20.04.4 LTS)x86_644.1.2 (2021-11-01) -- "Bird Hippie" 4329
tokay2Windows Server 2012 R2 Standardx644.1.2 (2021-11-01) -- "Bird Hippie" 4080
machv2macOS 10.14.6 Mojavex86_644.1.2 (2021-11-01) -- "Bird Hippie" 4141
Click on any hostname to see more info about the system (e.g. compilers)      (*) as reported by 'uname -p', except on Windows and Mac OS X

INSTALL results for rpx on tokay2


To the developers/maintainers of the rpx package:
- Please allow up to 24 hours (and sometimes 48 hours) for your latest push to git@git.bioconductor.org:packages/rpx.git to
reflect on this report. See How and When does the builder pull? When will my changes propagate? here for more information.
- Make sure to use the following settings in order to reproduce any error or warning you see on this page.

raw results

Package 1652/2083HostnameOS / ArchINSTALLBUILDCHECKBUILD BIN
rpx 2.2.1  (landing page)
Laurent Gatto
Snapshot Date: 2022-01-23 01:55:04 -0500 (Sun, 23 Jan 2022)
git_url: https://git.bioconductor.org/packages/rpx
git_branch: RELEASE_3_14
git_last_commit: 7a759ed
git_last_commit_date: 2021-12-24 03:16:08 -0500 (Fri, 24 Dec 2021)
nebbiolo2Linux (Ubuntu 20.04.4 LTS) / x86_64  OK    OK    ERROR  
tokay2Windows Server 2012 R2 Standard / x64  OK    ERROR  skippedskipped
machv2macOS 10.14.6 Mojave / x86_64  OK    OK    OK    OK  UNNEEDED, same version is already published

Summary

Package: rpx
Version: 2.2.1
Command: C:\cygwin\bin\curl.exe -O http://155.52.207.166/BBS/3.14/bioc/src/contrib/rpx_2.2.1.tar.gz && rm -rf rpx.buildbin-libdir && mkdir rpx.buildbin-libdir && C:\Users\biocbuild\bbs-3.14-bioc\R\bin\R.exe CMD INSTALL --merge-multiarch --build --library=rpx.buildbin-libdir rpx_2.2.1.tar.gz && C:\Users\biocbuild\bbs-3.14-bioc\R\bin\R.exe CMD INSTALL rpx_2.2.1.zip && rm rpx_2.2.1.tar.gz rpx_2.2.1.zip
StartedAt: 2022-01-23 04:39:29 -0500 (Sun, 23 Jan 2022)
EndedAt: 2022-01-23 04:40:43 -0500 (Sun, 23 Jan 2022)
EllapsedTime: 74.4 seconds
RetCode: 0
Status:   OK  

Command output

##############################################################################
##############################################################################
###
### Running command:
###
###   C:\cygwin\bin\curl.exe -O http://155.52.207.166/BBS/3.14/bioc/src/contrib/rpx_2.2.1.tar.gz && rm -rf rpx.buildbin-libdir && mkdir rpx.buildbin-libdir && C:\Users\biocbuild\bbs-3.14-bioc\R\bin\R.exe CMD INSTALL --merge-multiarch --build --library=rpx.buildbin-libdir rpx_2.2.1.tar.gz && C:\Users\biocbuild\bbs-3.14-bioc\R\bin\R.exe CMD INSTALL rpx_2.2.1.zip && rm rpx_2.2.1.tar.gz rpx_2.2.1.zip
###
##############################################################################
##############################################################################


  % Total    % Received % Xferd  Average Speed   Time    Time     Time  Current
                                 Dload  Upload   Total   Spent    Left  Speed

  0     0    0     0    0     0      0      0 --:--:-- --:--:-- --:--:--     0
100 18605  100 18605    0     0   160k      0 --:--:-- --:--:-- --:--:--  162k

install for i386

* installing *source* package 'rpx' ...
** using staged installation
** R
** byte-compile and prepare package for lazy loading
** help
*** installing help indices
  converting help for package 'rpx'
    finding HTML links ... done
    PXDataset1                              html  
    PXDataset2                              html  
REDIRECT:topic	 Previous alias or file overwritten by alias: C:/Users/biocbuild/bbs-3.14-bioc/meat/rpx.buildbin-libdir/00LOCK-rpx/00new/rpx/help/pxCacheInfo+2CPXdataset-method.html
    cache                                   html  
    pxannounced                             html  
** building package indices
** installing vignettes
** testing if installed package can be loaded from temporary location
** testing if installed package can be loaded from final location
** testing if installed package keeps a record of temporary installation path

install for x64

* installing *source* package 'rpx' ...
** testing if installed package can be loaded
* MD5 sums
packaged installation of 'rpx' as rpx_2.2.1.zip
* DONE (rpx)
* installing to library 'C:/Users/biocbuild/bbs-3.14-bioc/R/library'
package 'rpx' successfully unpacked and MD5 sums checked