Back to Multiple platform build/check report for BioC 3.14
ABCDEFGHIJKLMNOPQ[R]STUVWXYZ

This page was generated on 2021-12-24 13:07:08 -0500 (Fri, 24 Dec 2021).

HostnameOSArch (*)R versionInstalled pkgs
nebbiolo2Linux (Ubuntu 20.04.4 LTS)x86_644.1.2 (2021-11-01) -- "Bird Hippie" 4326
tokay2Windows Server 2012 R2 Standardx644.1.2 (2021-11-01) -- "Bird Hippie" 4075
machv2macOS 10.14.6 Mojavex86_644.1.2 (2021-11-01) -- "Bird Hippie" 4136
Click on any hostname to see more info about the system (e.g. compilers)      (*) as reported by 'uname -p', except on Windows and Mac OS X

BUILD BIN results for rpx on tokay2


To the developers/maintainers of the rpx package:
- Please allow up to 24 hours (and sometimes 48 hours) for your latest push to git@git.bioconductor.org:packages/rpx.git to
reflect on this report. See How and When does the builder pull? When will my changes propagate? here for more information.
- Make sure to use the following settings in order to reproduce any error or warning you see on this page.

raw results

Package 1652/2083HostnameOS / ArchINSTALLBUILDCHECKBUILD BIN
rpx 2.2.0  (landing page)
Laurent Gatto
Snapshot Date: 2021-12-23 01:55:07 -0500 (Thu, 23 Dec 2021)
git_url: https://git.bioconductor.org/packages/rpx
git_branch: RELEASE_3_14
git_last_commit: e4d83a3
git_last_commit_date: 2021-10-26 12:12:24 -0500 (Tue, 26 Oct 2021)
nebbiolo2Linux (Ubuntu 20.04.4 LTS) / x86_64  OK    OK    ERROR  
tokay2Windows Server 2012 R2 Standard / x64  OK    OK    ERROR    OK  
machv2macOS 10.14.6 Mojave / x86_64  OK    ERROR  skippedskipped

Summary

Package: rpx
Version: 2.2.0
Command: rm -rf rpx.buildbin-libdir && mkdir rpx.buildbin-libdir && C:\Users\biocbuild\bbs-3.14-bioc\R\bin\R.exe CMD INSTALL --merge-multiarch --build --library=rpx.buildbin-libdir rpx_2.2.0.tar.gz
StartedAt: 2021-12-24 06:27:28 -0500 (Fri, 24 Dec 2021)
EndedAt: 2021-12-24 06:27:42 -0500 (Fri, 24 Dec 2021)
EllapsedTime: 13.7 seconds
RetCode: 0
Status:   OK  
PackageFile: rpx_2.2.0.zip
PackageFileSize: 460.1 KiB

Command output

##############################################################################
##############################################################################
###
### Running command:
###
###   rm -rf rpx.buildbin-libdir && mkdir rpx.buildbin-libdir && C:\Users\biocbuild\bbs-3.14-bioc\R\bin\R.exe CMD INSTALL --merge-multiarch --build --library=rpx.buildbin-libdir rpx_2.2.0.tar.gz
###
##############################################################################
##############################################################################



install for i386

* installing *source* package 'rpx' ...
** using staged installation
** R
** inst
** byte-compile and prepare package for lazy loading
** help
*** installing help indices
  converting help for package 'rpx'
    finding HTML links ... done
    PXDataset1                              html  
    PXDataset2                              html  
REDIRECT:topic	 Previous alias or file overwritten by alias: C:/Users/biocbuild/bbs-3.14-bioc/meat/rpx.buildbin-libdir/00LOCK-rpx/00new/rpx/help/pxCacheInfo+2CPXdataset-method.html
    cache                                   html  
    pxannounced                             html  
** building package indices
** installing vignettes
** testing if installed package can be loaded from temporary location
** testing if installed package can be loaded from final location
** testing if installed package keeps a record of temporary installation path

install for x64

* installing *source* package 'rpx' ...
** testing if installed package can be loaded
* MD5 sums
packaged installation of 'rpx' as rpx_2.2.0.zip
* DONE (rpx)