Back to Multiple platform build/check report for BioC 3.14
ABCDEFGHIJKLMNOPQ[R]STUVWXYZ

This page was generated on 2021-11-29 15:05:07 -0500 (Mon, 29 Nov 2021).

BUILD results for rpx on nebbiolo2

To the developers/maintainers of the rpx package:
- Please allow up to 24 hours (and sometimes 48 hours) for your latest push to git@git.bioconductor.org:packages/rpx.git to
reflect on this report. See How and When does the builder pull? When will my changes propagate? here for more information.
- Make sure to use the following settings in order to reproduce any error or warning you see on this page.

raw results

Package 1652/2083HostnameOS / ArchINSTALLBUILDCHECKBUILD BIN
rpx 2.2.0  (landing page)
Laurent Gatto
Snapshot Date: 2021-11-28 04:15:06 -0500 (Sun, 28 Nov 2021)
git_url: https://git.bioconductor.org/packages/rpx
git_branch: RELEASE_3_14
git_last_commit: e4d83a3
git_last_commit_date: 2021-10-26 12:12:24 -0500 (Tue, 26 Oct 2021)
nebbiolo2Linux (Ubuntu 20.04.3 LTS) / x86_64  OK    OK    ERROR  
tokay2Windows Server 2012 R2 Standard / x64  OK    OK    ERROR    OK  
machv2macOS 10.14.6 Mojave / x86_64  OK    ERROR  skippedskipped

Summary

Package: rpx
Version: 2.2.0
Command: /home/biocbuild/bbs-3.14-bioc/R/bin/R CMD build --keep-empty-dirs --no-resave-data rpx
StartedAt: 2021-11-28 07:31:50 -0500 (Sun, 28 Nov 2021)
EndedAt: 2021-11-28 07:32:02 -0500 (Sun, 28 Nov 2021)
EllapsedTime: 12.0 seconds
RetCode: 0
Status:   OK  
PackageFile: rpx_2.2.0.tar.gz
PackageFileSize: 292.5 KiB

Command output

##############################################################################
##############################################################################
###
### Running command:
###
###   /home/biocbuild/bbs-3.14-bioc/R/bin/R CMD build --keep-empty-dirs --no-resave-data rpx
###
##############################################################################
##############################################################################


* checking for file ‘rpx/DESCRIPTION’ ... OK
* preparing ‘rpx’:
* checking DESCRIPTION meta-information ... OK
* installing the package to build vignettes
* creating vignettes ... OK
* checking for LF line-endings in source and make files and shell scripts
* checking for empty or unneeded directories
* building ‘rpx_2.2.0.tar.gz’