Back to Multiple platform build/check report for BioC 3.14

This page was generated on 2021-10-22 12:05:21 -0400 (Fri, 22 Oct 2021).

More about riesling1


Hostname: riesling1
OS: Windows Server 2019 Standard
Arch: x64
Platform: mingw32 / x86_64-w64-mingw32
R version: 4.1.1 (2021-08-10) -- "Kick Things"
R environment variables: Renviron.bioc

C compiler

R variable (VAR)Value ('R CMD config <VAR>' output)
CCC:/rtools40/mingw64/bin/gcc
CFLAGS-O2 -Wall -std=gnu99 -mfpmath=sse -msse2 -mstackrealign
CPICFLAGS
Please refer to 'R CMD config -h' for the meaning of these variables

Compiler version ('C:/rtools40/mingw64/bin/gcc --version' output):

gcc (Built by Jeroen for the R-project) 8.3.0
Copyright (C) 2018 Free Software Foundation, Inc.
This is free software; see the source for copying conditions.  There is NO
warranty; not even for MERCHANTABILITY or FITNESS FOR A PARTICULAR PURPOSE.


C++ compiler

R variable (VAR)Value ('R CMD config <VAR>' output)
CXXC:/rtools40/mingw64/bin/g++ -std=gnu++11
CXXFLAGS-O2 -Wall -mfpmath=sse -msse2 -mstackrealign
CXXPICFLAGS
Please refer to 'R CMD config -h' for the meaning of these variables

Compiler version ('C:/rtools40/mingw64/bin/g++ -std=gnu++11 --version' output):

g++ (Built by Jeroen for the R-project) 8.3.0
Copyright (C) 2018 Free Software Foundation, Inc.
This is free software; see the source for copying conditions.  There is NO
warranty; not even for MERCHANTABILITY or FITNESS FOR A PARTICULAR PURPOSE.


C++11 compiler

R variable (VAR)Value ('R CMD config <VAR>' output)
CXX11C:/rtools40/mingw64/bin/g++
CXX11FLAGS-O2 -Wall -mfpmath=sse -msse2 -mstackrealign
CXX11PICFLAGS
CXX11STD-std=gnu++11
Please refer to 'R CMD config -h' for the meaning of these variables

Compiler version ('C:/rtools40/mingw64/bin/g++ --version' output):

g++ (Built by Jeroen for the R-project) 8.3.0
Copyright (C) 2018 Free Software Foundation, Inc.
This is free software; see the source for copying conditions.  There is NO
warranty; not even for MERCHANTABILITY or FITNESS FOR A PARTICULAR PURPOSE.


C++14 compiler

R variable (VAR)Value ('R CMD config <VAR>' output)
CXX14C:/rtools40/mingw64/bin/g++
CXX14FLAGS-O2 -Wall -mfpmath=sse -msse2 -mstackrealign
CXX14PICFLAGS
CXX14STD-std=gnu++14
Please refer to 'R CMD config -h' for the meaning of these variables

Compiler version ('C:/rtools40/mingw64/bin/g++ --version' output):

g++ (Built by Jeroen for the R-project) 8.3.0
Copyright (C) 2018 Free Software Foundation, Inc.
This is free software; see the source for copying conditions.  There is NO
warranty; not even for MERCHANTABILITY or FITNESS FOR A PARTICULAR PURPOSE.


C++17 compiler

R variable (VAR)Value ('R CMD config <VAR>' output)
CXX17C:/rtools40/mingw64/bin/g++
CXX17FLAGS-O2 -Wall -mfpmath=sse -msse2 -mstackrealign
CXX17PICFLAGS
CXX17STD-std=gnu++17
Please refer to 'R CMD config -h' for the meaning of these variables

Compiler version ('C:/rtools40/mingw64/bin/g++ --version' output):

g++ (Built by Jeroen for the R-project) 8.3.0
Copyright (C) 2018 Free Software Foundation, Inc.
This is free software; see the source for copying conditions.  There is NO
warranty; not even for MERCHANTABILITY or FITNESS FOR A PARTICULAR PURPOSE.


More information might be added in the future...