Back to Multiple platform build/check report for BioC 3.14
ABCDEFGHIJKLMNOPQ[R]STUVWXYZ

This page was generated on 2022-01-17 13:06:54 -0500 (Mon, 17 Jan 2022).

HostnameOSArch (*)R versionInstalled pkgs
nebbiolo2Linux (Ubuntu 20.04.4 LTS)x86_644.1.2 (2021-11-01) -- "Bird Hippie" 4328
tokay2Windows Server 2012 R2 Standardx644.1.2 (2021-11-01) -- "Bird Hippie" 4077
machv2macOS 10.14.6 Mojavex86_644.1.2 (2021-11-01) -- "Bird Hippie" 4138
Click on any hostname to see more info about the system (e.g. compilers)      (*) as reported by 'uname -p', except on Windows and Mac OS X

BUILD BIN results for ribosomeProfilingQC on tokay2


To the developers/maintainers of the ribosomeProfilingQC package:
- Please allow up to 24 hours (and sometimes 48 hours) for your latest push to git@git.bioconductor.org:packages/ribosomeProfilingQC.git to
reflect on this report. See How and When does the builder pull? When will my changes propagate? here for more information.
- Make sure to use the following settings in order to reproduce any error or warning you see on this page.

raw results

Package 1609/2083HostnameOS / ArchINSTALLBUILDCHECKBUILD BIN
ribosomeProfilingQC 1.6.1  (landing page)
Jianhong Ou
Snapshot Date: 2022-01-16 01:55:05 -0500 (Sun, 16 Jan 2022)
git_url: https://git.bioconductor.org/packages/ribosomeProfilingQC
git_branch: RELEASE_3_14
git_last_commit: 7ab254d
git_last_commit_date: 2021-11-10 16:48:59 -0500 (Wed, 10 Nov 2021)
nebbiolo2Linux (Ubuntu 20.04.4 LTS) / x86_64  OK    OK    OK  UNNEEDED, same version is already published
tokay2Windows Server 2012 R2 Standard / x64  OK    OK    OK    OK  UNNEEDED, same version is already published
machv2macOS 10.14.6 Mojave / x86_64  OK    OK    OK    OK  UNNEEDED, same version is already published

Summary

Package: ribosomeProfilingQC
Version: 1.6.1
Command: rm -rf ribosomeProfilingQC.buildbin-libdir && mkdir ribosomeProfilingQC.buildbin-libdir && C:\Users\biocbuild\bbs-3.14-bioc\R\bin\R.exe CMD INSTALL --merge-multiarch --build --library=ribosomeProfilingQC.buildbin-libdir ribosomeProfilingQC_1.6.1.tar.gz
StartedAt: 2022-01-17 08:02:47 -0500 (Mon, 17 Jan 2022)
EndedAt: 2022-01-17 08:04:02 -0500 (Mon, 17 Jan 2022)
EllapsedTime: 75.3 seconds
RetCode: 0
Status:   OK  
PackageFile: ribosomeProfilingQC_1.6.1.zip
PackageFileSize: 2.901 MiB

Command output

##############################################################################
##############################################################################
###
### Running command:
###
###   rm -rf ribosomeProfilingQC.buildbin-libdir && mkdir ribosomeProfilingQC.buildbin-libdir && C:\Users\biocbuild\bbs-3.14-bioc\R\bin\R.exe CMD INSTALL --merge-multiarch --build --library=ribosomeProfilingQC.buildbin-libdir ribosomeProfilingQC_1.6.1.tar.gz
###
##############################################################################
##############################################################################



install for i386

* installing *source* package 'ribosomeProfilingQC' ...
** using staged installation
** R
** inst
** byte-compile and prepare package for lazy loading
** help
*** installing help indices
  converting help for package 'ribosomeProfilingQC'
    finding HTML links ... done
    FLOSS                                   html  
    PAmotif                                 html  
    assignReadingFrame                      html  
    codonUsage                              html  
    countReads                              html  
    coverageDepth                           html  
    coverageRates                           html  
    cvgd-class                              html  
    estimatePsite                           html  
    filterCDS                               html  
    frameCounts                             html  
    getFPKM                                 html  
    getORFscore                             html  
    getPsiteCoordinates                     html  
    ggBar                                   html  
    metaPlot                                html  
    normByRUVs                              html  
    plotDistance2Codon                      html  
    plotFrameDensity                        html  
    plotSpliceEvent                         html  
    plotTE                                  html  
    plotTranscript                          html  
    prepareCDS                              html  
    readsDistribution                       html  
    readsEndPlot                            html  
    readsLenToKeep                          html  
    ribosomeReleaseScore                    html  
    shiftReadsByFrame                       html  
    simulateRPF                             html  
    spliceEvent                             html  
    strandPlot                              html  
    summaryReadsLength                      html  
    translationalEfficiency                 html  
** building package indices
** installing vignettes
** testing if installed package can be loaded from temporary location
** testing if installed package can be loaded from final location
** testing if installed package keeps a record of temporary installation path

install for x64

* installing *source* package 'ribosomeProfilingQC' ...
** testing if installed package can be loaded
* MD5 sums
packaged installation of 'ribosomeProfilingQC' as ribosomeProfilingQC_1.6.1.zip
* DONE (ribosomeProfilingQC)