Back to Multiple platform build/check report for BioC 3.14
ABCDEFGHIJKLMNOPQ[R]STUVWXYZ

This page was generated on 2021-09-18 12:06:21 -0400 (Sat, 18 Sep 2021).

BUILD results for ribosomeProfilingQC on riesling1

To the developers/maintainers of the ribosomeProfilingQC package:
- Please allow up to 24 hours (and sometimes 48 hours) for your latest push to git@git.bioconductor.org:packages/ribosomeProfilingQC.git to
reflect on this report. See How and When does the builder pull? When will my changes propagate? here for more information.
- Make sure to use the following settings in order to reproduce any error or warning you see on this page.

raw results

Package 1569/2029HostnameOS / ArchINSTALLBUILDCHECKBUILD BIN
ribosomeProfilingQC 1.5.0  (landing page)
Jianhong Ou
Snapshot Date: 2021-09-17 14:50:09 -0400 (Fri, 17 Sep 2021)
git_url: https://git.bioconductor.org/packages/ribosomeProfilingQC
git_branch: master
git_last_commit: 7503f41
git_last_commit_date: 2021-05-19 12:49:46 -0400 (Wed, 19 May 2021)
nebbiolo2Linux (Ubuntu 20.04.2 LTS) / x86_64  OK    OK    OK  UNNEEDED, same version is already published
riesling1Windows Server 2019 Standard / x64  OK    OK    OK    OK  UNNEEDED, same version is already published
merida1macOS 10.14.6 Mojave / x86_64  OK    OK    OK    OK  UNNEEDED, same version is already published

Summary

Package: ribosomeProfilingQC
Version: 1.5.0
Command: chmod a+r ribosomeProfilingQC -R && D:\biocbuild\bbs-3.14-bioc\R\bin\R.exe CMD build --keep-empty-dirs --no-resave-data ribosomeProfilingQC
StartedAt: 2021-09-17 22:37:54 -0400 (Fri, 17 Sep 2021)
EndedAt: 2021-09-17 22:41:43 -0400 (Fri, 17 Sep 2021)
EllapsedTime: 229.2 seconds
RetCode: 0
Status:   OK  
PackageFile: ribosomeProfilingQC_1.5.0.tar.gz
PackageFileSize: 2.533 MiB

Command output

##############################################################################
##############################################################################
###
### Running command:
###
###   chmod a+r ribosomeProfilingQC -R && D:\biocbuild\bbs-3.14-bioc\R\bin\R.exe CMD build --keep-empty-dirs --no-resave-data ribosomeProfilingQC
###
##############################################################################
##############################################################################


* checking for file 'ribosomeProfilingQC/DESCRIPTION' ... OK
* preparing 'ribosomeProfilingQC':
* checking DESCRIPTION meta-information ... OK
* installing the package to build vignettes
* creating vignettes ... OK
* checking for LF line-endings in source and make files and shell scripts
* checking for empty or unneeded directories
Omitted 'LazyData' from DESCRIPTION
* building 'ribosomeProfilingQC_1.5.0.tar.gz'