Index of /checkResults/3.14/bioc-LATEST/ribosomeProfilingQC/raw-results

[ICO]NameLast modifiedSizeDescription

[DIR]Parent Directory  -  
[   ]info.dcf15-Oct-2021 01:06 287  
[DIR]merida1/15-Oct-2021 01:06 -  
[DIR]nebbiolo2/15-Oct-2021 01:05 -  
[DIR]riesling1/15-Oct-2021 01:05 -