![]() | Name | Last modified | Size | Description |
---|---|---|---|---|
![]() | Parent Directory | - | ||
![]() | buildbin-out.txt | 14-Apr-2022 01:08 | 1.4K | |
![]() | buildbin-summary.dcf | 14-Apr-2022 01:08 | 525 | |
![]() | buildsrc-out.txt | 14-Apr-2022 01:08 | 875 | |
![]() | buildsrc-summary.dcf | 14-Apr-2022 01:08 | 425 | |
![]() | checksrc-out.txt | 14-Apr-2022 01:08 | 3.4K | |
![]() | checksrc-summary.dcf | 14-Apr-2022 01:08 | 440 | |
![]() | install-out.txt | 14-Apr-2022 01:08 | 1.2K | |
![]() | install-summary.dcf | 14-Apr-2022 01:08 | 268 | |