Back to Multiple platform build/check report for BioC 3.14
ABCDEFGHIJKLMNOPQ[R]STUVWXYZ

This page was generated on 2022-01-21 13:06:58 -0500 (Fri, 21 Jan 2022).

HostnameOSArch (*)R versionInstalled pkgs
nebbiolo2Linux (Ubuntu 20.04.4 LTS)x86_644.1.2 (2021-11-01) -- "Bird Hippie" 4329
tokay2Windows Server 2012 R2 Standardx644.1.2 (2021-11-01) -- "Bird Hippie" 4079
machv2macOS 10.14.6 Mojavex86_644.1.2 (2021-11-01) -- "Bird Hippie" 4140
Click on any hostname to see more info about the system (e.g. compilers)      (*) as reported by 'uname -p', except on Windows and Mac OS X

INSTALL results for restfulSE on tokay2


To the developers/maintainers of the restfulSE package:
- Please allow up to 24 hours (and sometimes 48 hours) for your latest push to git@git.bioconductor.org:packages/restfulSE.git to
reflect on this report. See How and When does the builder pull? When will my changes propagate? here for more information.
- Make sure to use the following settings in order to reproduce any error or warning you see on this page.

raw results

Package 1583/2083HostnameOS / ArchINSTALLBUILDCHECKBUILD BIN
restfulSE 1.16.0  (landing page)
Shweta Gopaulakrishnan
Snapshot Date: 2022-01-20 01:55:04 -0500 (Thu, 20 Jan 2022)
git_url: https://git.bioconductor.org/packages/restfulSE
git_branch: RELEASE_3_14
git_last_commit: 61a70ed
git_last_commit_date: 2021-10-26 12:38:23 -0500 (Tue, 26 Oct 2021)
nebbiolo2Linux (Ubuntu 20.04.4 LTS) / x86_64  OK    OK    OK  UNNEEDED, same version is already published
tokay2Windows Server 2012 R2 Standard / x64  OK    OK    OK    OK  UNNEEDED, same version is already published
machv2macOS 10.14.6 Mojave / x86_64  OK    OK    OK    OK  UNNEEDED, same version is already published

Summary

Package: restfulSE
Version: 1.16.0
Command: C:\cygwin\bin\curl.exe -O http://155.52.207.166/BBS/3.14/bioc/src/contrib/restfulSE_1.16.0.tar.gz && rm -rf restfulSE.buildbin-libdir && mkdir restfulSE.buildbin-libdir && C:\Users\biocbuild\bbs-3.14-bioc\R\bin\R.exe CMD INSTALL --merge-multiarch --build --library=restfulSE.buildbin-libdir restfulSE_1.16.0.tar.gz && C:\Users\biocbuild\bbs-3.14-bioc\R\bin\R.exe CMD INSTALL restfulSE_1.16.0.zip && rm restfulSE_1.16.0.tar.gz restfulSE_1.16.0.zip
StartedAt: 2022-01-20 05:22:52 -0500 (Thu, 20 Jan 2022)
EndedAt: 2022-01-20 05:25:00 -0500 (Thu, 20 Jan 2022)
EllapsedTime: 128.1 seconds
RetCode: 0
Status:   OK  

Command output

##############################################################################
##############################################################################
###
### Running command:
###
###   C:\cygwin\bin\curl.exe -O http://155.52.207.166/BBS/3.14/bioc/src/contrib/restfulSE_1.16.0.tar.gz && rm -rf restfulSE.buildbin-libdir && mkdir restfulSE.buildbin-libdir && C:\Users\biocbuild\bbs-3.14-bioc\R\bin\R.exe CMD INSTALL --merge-multiarch --build --library=restfulSE.buildbin-libdir restfulSE_1.16.0.tar.gz && C:\Users\biocbuild\bbs-3.14-bioc\R\bin\R.exe CMD INSTALL restfulSE_1.16.0.zip && rm restfulSE_1.16.0.tar.gz restfulSE_1.16.0.zip
###
##############################################################################
##############################################################################


  % Total    % Received % Xferd  Average Speed   Time    Time     Time  Current
                                 Dload  Upload   Total   Spent    Left  Speed

  0     0    0     0    0     0      0      0 --:--:-- --:--:-- --:--:--     0
100  253k  100  253k    0     0   967k      0 --:--:-- --:--:-- --:--:--  971k

install for i386

Warning in untar2(tarfile, files, list, exdir, restore_times) :
  failed to copy 'restfulSE/vignettes/restfulSE.Rmd' to 'restfulSE/README.md'
* installing *source* package 'restfulSE' ...
** using staged installation
** R
** byte-compile and prepare package for lazy loading
** help
*** installing help indices
  converting help for package 'restfulSE'
    finding HTML links ... done
    BQ3_Array-class                         html  
    BQ3_Array                               html  
    BQ3_ArraySeed-class                     html  
    BQ3_Matrix-class                        html  
    BQ3_Source-class                        html  
    BQ3_Source                              html  
    BQM_Array-class                         html  
    BQM_Array                               html  
    BQM_ArraySeed-class                     html  
    BQM_Matrix-class                        html  
    BQM_Source-class                        html  
    BQM_Source                              html  
    BQSummarizedExperiment                  html  
    DelayedArray-BQ3_ArraySeed-method       html  
    RESTfulSummarizedExperiment-class       html  
    RESTfulSummarizedExperiment             html  
    assay-BQSummarizedExperiment-missing-method
                                            html  
    assayNames-BQSummarizedExperiment-method
                                            html  
    basic_clinvars                          html  
    bqConn                                  html  
    cgcConn                                 html  
    dim-BQ3_ArraySeed-method                html  
    dim-BQM_ArraySeed-method                html  
    dim-RESTfulSummarizedExperiment-method
                                            html  
    dimnames-BQ3_ArraySeed-method           html  
    dimnames-BQM_ArraySeed-method           html  
    goPatt                                  html  
    gtexTiss                                html  
    isbCgcDatasets                          html  
    isbCgcTables                            html  
    newDA                                   html  
    pancan_SE                               html  
    se1.3M                                  html  
    seByTumor                               html  
    seByTumor_2016                          html  
    tasicCortex                             html  
** building package indices
** installing vignettes
** testing if installed package can be loaded from temporary location
** testing if installed package can be loaded from final location
** testing if installed package keeps a record of temporary installation path

install for x64

Warning in untar2(tarfile, files, list, exdir, restore_times) :
  failed to copy 'restfulSE/vignettes/restfulSE.Rmd' to 'restfulSE/README.md'
* installing *source* package 'restfulSE' ...
** testing if installed package can be loaded
* MD5 sums
packaged installation of 'restfulSE' as restfulSE_1.16.0.zip
* DONE (restfulSE)
* installing to library 'C:/Users/biocbuild/bbs-3.14-bioc/R/library'
package 'restfulSE' successfully unpacked and MD5 sums checked