Back to Multiple platform build/check report for BioC 3.14
ABCDEFGHIJKLMNOPQ[R]STUVWXYZ

This page was generated on 2021-11-24 15:06:17 -0500 (Wed, 24 Nov 2021).

BUILD results for regutools on machv2

To the developers/maintainers of the regutools package:
- Please allow up to 24 hours (and sometimes 48 hours) for your latest push to git@git.bioconductor.org:packages/regutools.git to
reflect on this report. See How and When does the builder pull? When will my changes propagate? here for more information.
- Make sure to use the following settings in order to reproduce any error or warning you see on this page.

raw results

Package 1576/2083HostnameOS / ArchINSTALLBUILDCHECKBUILD BIN
regutools 1.6.0  (landing page)
Joselyn Chavez
Snapshot Date: 2021-11-23 04:15:06 -0500 (Tue, 23 Nov 2021)
git_url: https://git.bioconductor.org/packages/regutools
git_branch: RELEASE_3_14
git_last_commit: 3795415
git_last_commit_date: 2021-10-26 12:59:29 -0500 (Tue, 26 Oct 2021)
nebbiolo2Linux (Ubuntu 20.04.3 LTS) / x86_64  OK    OK    OK  UNNEEDED, same version is already published
tokay2Windows Server 2012 R2 Standard / x64  OK    OK    OK    OK  UNNEEDED, same version is already published
machv2macOS 10.14.6 Mojave / x86_64  OK    OK    OK    OK  UNNEEDED, same version is already published

Summary

Package: regutools
Version: 1.6.0
Command: /Library/Frameworks/R.framework/Resources/bin/R CMD build --keep-empty-dirs --no-resave-data regutools
StartedAt: 2021-11-23 11:37:39 -0500 (Tue, 23 Nov 2021)
EndedAt: 2021-11-23 11:39:39 -0500 (Tue, 23 Nov 2021)
EllapsedTime: 120.1 seconds
RetCode: 0
Status:   OK  
PackageFile: regutools_1.6.0.tar.gz
PackageFileSize: 372.5 KiB

Command output

##############################################################################
##############################################################################
###
### Running command:
###
###   /Library/Frameworks/R.framework/Resources/bin/R CMD build --keep-empty-dirs --no-resave-data regutools
###
##############################################################################
##############################################################################


* checking for file ‘regutools/DESCRIPTION’ ... OK
* preparing ‘regutools’:
* checking DESCRIPTION meta-information ... OK
* installing the package to build vignettes
* creating vignettes ... OK
* checking for LF line-endings in source and make files and shell scripts
* checking for empty or unneeded directories
Omitted ‘LazyData’ from DESCRIPTION
* building ‘regutools_1.6.0.tar.gz’